BEGIN:VCALENDAR
VERSION:2.0
PRODID:-//Revolutionary Valley Regional Tourism Council - ECPv6.15.0.1//NONSGML v1.0//EN
CALSCALE:GREGORIAN
METHOD:PUBLISH
X-ORIGINAL-URL:https://revolutionaryvalley.org
X-WR-CALDESC:Events for Revolutionary Valley Regional Tourism Council
REFRESH-INTERVAL;VALUE=DURATION:PT1H
X-Robots-Tag:noindex
X-PUBLISHED-TTL:PT1H
BEGIN:VTIMEZONE
TZID:UTC
BEGIN:STANDARD
TZOFFSETFROM:+0000
TZOFFSETTO:+0000
TZNAME:UTC
DTSTART:20210101T000000
END:STANDARD
END:VTIMEZONE
BEGIN:VTIMEZONE
TZID:America/New_York
BEGIN:DAYLIGHT
TZOFFSETFROM:-0500
TZOFFSETTO:-0400
TZNAME:EDT
DTSTART:20210314T070000
END:DAYLIGHT
BEGIN:STANDARD
TZOFFSETFROM:-0400
TZOFFSETTO:-0500
TZNAME:EST
DTSTART:20211107T060000
END:STANDARD
END:VTIMEZONE
BEGIN:VEVENT
DTSTART;TZID=UTC:20211007T110000
DTEND;TZID=UTC:20211008T143000
DTSTAMP:20260419T170657
CREATED:20230329T171625Z
LAST-MODIFIED:20230329T171625Z
UID:10016103-1633604400-1633703400@revolutionaryvalley.org
SUMMARY:Lowell Spinners vs Aberdeen Iron Birds
DESCRIPTION:The Lowell Spinners bring America’s pastime to LeLacheur Park with 3 day home stands vs Aberdeen Iron Birds.
URL:https://revolutionaryvalley.org/event/lowell-spinners-vs-aberdeen-iron-birds/2021-10-07/
LOCATION:Edward A. LeLacheur Park\, Edward A. Lelacheur Park\, 450 Aiken Ave\, Lowell\, MA\, 01854\, United States
CATEGORIES:Free Events,Kids & Family,Sports
ATTACH;FMTTYPE=image/jpeg:https://revolutionaryvalley.org/wp-content/uploads/2018/06/lowellspinnerslogo.jpg
GEO:42.6529173;-71.3178353
X-APPLE-STRUCTURED-LOCATION;VALUE=URI;X-ADDRESS=Edward A. LeLacheur Park Edward A. Lelacheur Park 450 Aiken Ave Lowell MA 01854 United States;X-APPLE-RADIUS=500;X-TITLE=Edward A. Lelacheur Park\, 450 Aiken Ave:geo:-71.3178353,42.6529173
END:VEVENT
BEGIN:VEVENT
DTSTART;TZID=UTC:20211007T110000
DTEND;TZID=UTC:20211008T143000
DTSTAMP:20260419T170657
CREATED:20230329T171629Z
LAST-MODIFIED:20230329T171629Z
UID:10017825-1633604400-1633703400@revolutionaryvalley.org
SUMMARY:Lowell Spinners vs Aberdeen Iron Birds
DESCRIPTION:The Lowell Spinners bring America’s pastime to LeLacheur Park with 3 day home stands vs Aberdeen Iron Birds.
URL:https://revolutionaryvalley.org/event/lowell-spinners-vs-aberdeen-iron-birds-2/2021-10-07/
LOCATION:Edward A. LeLacheur Park\, Edward A. Lelacheur Park\, 450 Aiken Ave\, Lowell\, MA\, 01854\, United States
CATEGORIES:Free Events,Kids & Family,Sports
ATTACH;FMTTYPE=image/jpeg:https://revolutionaryvalley.org/wp-content/uploads/2018/06/lowellspinnerslogo.jpg
GEO:42.6529173;-71.3178353
X-APPLE-STRUCTURED-LOCATION;VALUE=URI;X-ADDRESS=Edward A. LeLacheur Park Edward A. Lelacheur Park 450 Aiken Ave Lowell MA 01854 United States;X-APPLE-RADIUS=500;X-TITLE=Edward A. Lelacheur Park\, 450 Aiken Ave:geo:-71.3178353,42.6529173
END:VEVENT
BEGIN:VEVENT
DTSTART;TZID=UTC:20211008T110000
DTEND;TZID=UTC:20211009T143000
DTSTAMP:20260419T170657
CREATED:20230329T171625Z
LAST-MODIFIED:20230329T171625Z
UID:10016104-1633690800-1633789800@revolutionaryvalley.org
SUMMARY:Lowell Spinners vs Aberdeen Iron Birds
DESCRIPTION:The Lowell Spinners bring America’s pastime to LeLacheur Park with 3 day home stands vs Aberdeen Iron Birds.
URL:https://revolutionaryvalley.org/event/lowell-spinners-vs-aberdeen-iron-birds/2021-10-08/
LOCATION:Edward A. LeLacheur Park\, Edward A. Lelacheur Park\, 450 Aiken Ave\, Lowell\, MA\, 01854\, United States
CATEGORIES:Free Events,Kids & Family,Sports
ATTACH;FMTTYPE=image/jpeg:https://revolutionaryvalley.org/wp-content/uploads/2018/06/lowellspinnerslogo.jpg
GEO:42.6529173;-71.3178353
X-APPLE-STRUCTURED-LOCATION;VALUE=URI;X-ADDRESS=Edward A. LeLacheur Park Edward A. Lelacheur Park 450 Aiken Ave Lowell MA 01854 United States;X-APPLE-RADIUS=500;X-TITLE=Edward A. Lelacheur Park\, 450 Aiken Ave:geo:-71.3178353,42.6529173
END:VEVENT
BEGIN:VEVENT
DTSTART;TZID=UTC:20211008T110000
DTEND;TZID=UTC:20211009T143000
DTSTAMP:20260419T170657
CREATED:20230329T171629Z
LAST-MODIFIED:20230329T171629Z
UID:10017826-1633690800-1633789800@revolutionaryvalley.org
SUMMARY:Lowell Spinners vs Aberdeen Iron Birds
DESCRIPTION:The Lowell Spinners bring America’s pastime to LeLacheur Park with 3 day home stands vs Aberdeen Iron Birds.
URL:https://revolutionaryvalley.org/event/lowell-spinners-vs-aberdeen-iron-birds-2/2021-10-08/
LOCATION:Edward A. LeLacheur Park\, Edward A. Lelacheur Park\, 450 Aiken Ave\, Lowell\, MA\, 01854\, United States
CATEGORIES:Free Events,Kids & Family,Sports
ATTACH;FMTTYPE=image/jpeg:https://revolutionaryvalley.org/wp-content/uploads/2018/06/lowellspinnerslogo.jpg
GEO:42.6529173;-71.3178353
X-APPLE-STRUCTURED-LOCATION;VALUE=URI;X-ADDRESS=Edward A. LeLacheur Park Edward A. Lelacheur Park 450 Aiken Ave Lowell MA 01854 United States;X-APPLE-RADIUS=500;X-TITLE=Edward A. Lelacheur Park\, 450 Aiken Ave:geo:-71.3178353,42.6529173
END:VEVENT
BEGIN:VEVENT
DTSTART;TZID=America/New_York:20211008T160000
DTEND;TZID=America/New_York:20211008T173000
DTSTAMP:20260419T170657
CREATED:20210929T170918Z
LAST-MODIFIED:20210929T170918Z
UID:10025519-1633708800-1633714200@revolutionaryvalley.org
SUMMARY:Three Cemeteries Walking Tour - NEW!     Fridays and Saturdays in October  and Sunday\, October 31 at 4:00 pm
DESCRIPTION:Hear the voices of the silent stones in Concord’s cemeteries on this 90-minute tour.  Scenic\, wooded Sleepy Hollow is the most famous\, with highlights including the magnificent Melvin Memorial and the graves of Concord’s literary giants:  Alcott\, Emerson\, Hawthorne\, and Thoreau.  The Hill Burying Ground and the South Burying Ground are the resting places of Revolutionary War heroes and their ancestors back to the 1600s.  This tour is approximately 2 miles. \nThis tour will depart from the Visitor Center at 58 Main Street\, rain or shine. Wear comfortable walking shoes. Tickets are $25 for adults and $20 for seniors and students. You can purchase tickets on line\, call 978-318-3061 or arrive at the Visitor Center at 3:45 pm. \nPrivate tours are offered year-round on request for groups of 4 or more. Call 978-318-3061 or email visitors@concordma.gov for pricing and availability. \nhttps://visitconcord.org/walking_tours/three-cemeteries-walking-tour-new-fridays-and-saturdays-in-october-at-400-pm/
URL:https://revolutionaryvalley.org/event/three-cemeteries-walking-tour-new-fridays-and-saturdays-in-october-and-sunday-october-31-at-400-pm/2021-10-08/
ATTACH;FMTTYPE=image/jpeg:https://revolutionaryvalley.org/wp-content/uploads/2021/09/View-from-Old-Hill-Cemetery.jpg
END:VEVENT
BEGIN:VEVENT
DTSTART;TZID=UTC:20211008T190000
DTEND;TZID=UTC:20211008T210000
DTSTAMP:20260419T170657
CREATED:20180925T060806Z
LAST-MODIFIED:20180925T060806Z
UID:10020078-1633719600-1633726800@revolutionaryvalley.org
SUMMARY:Native Gardens By Karen Zacarías Directed by Giovanna Sardelli
DESCRIPTION:Good fences make good neighbors . . . right?\n\nA millennial\, Latinx couple moves in next door to a white\, baby boomer couple in Karen Zacarías’ topical new comedy. After some good-natured ribbing over gardening styles–traditional designs versus the eco-friendlier native plants–the couples find themselves at odds over an unexpected property line dispute. A dispute that explodes into a host of verbal jabs and blows over race\, culture\, privilege\, and the meaning of neighborly behavior.
URL:https://revolutionaryvalley.org/event/native-gardens-by-karen-zacarias-directed-by-giovanna-sardelli/2021-10-08/
LOCATION:Merrimack Repertory Theatre\, 50 E Merrimack St\, Lowell\, MA\, 01852\, United States
CATEGORIES:Annual & Special,Arts & Culture,Kids & Family,Live Performances
ATTACH;FMTTYPE=image/jpeg:https://revolutionaryvalley.org/wp-content/uploads/2018/09/MRT-September-Image.jpg
GEO:42.6450982;-71.3042176
X-APPLE-STRUCTURED-LOCATION;VALUE=URI;X-ADDRESS=Merrimack Repertory Theatre 50 E Merrimack St Lowell MA 01852 United States;X-APPLE-RADIUS=500;X-TITLE=50 E Merrimack St:geo:-71.3042176,42.6450982
END:VEVENT
BEGIN:VEVENT
DTSTART;TZID=UTC:20211008T190000
DTEND;TZID=UTC:20211008T210000
DTSTAMP:20260419T170657
CREATED:20180925T060806Z
LAST-MODIFIED:20180925T060806Z
UID:10021729-1633719600-1633726800@revolutionaryvalley.org
SUMMARY:Native Gardens By Karen Zacarías Directed by Giovanna Sardelli
DESCRIPTION:Good fences make good neighbors . . . right?\n\nA millennial\, Latinx couple moves in next door to a white\, baby boomer couple in Karen Zacarías’ topical new comedy. After some good-natured ribbing over gardening styles–traditional designs versus the eco-friendlier native plants–the couples find themselves at odds over an unexpected property line dispute. A dispute that explodes into a host of verbal jabs and blows over race\, culture\, privilege\, and the meaning of neighborly behavior.
URL:https://revolutionaryvalley.org/event/native-gardens-by-karen-zacarias-directed-by-giovanna-sardelli-2/2021-10-08/
LOCATION:Merrimack Repertory Theatre\, 50 E Merrimack St\, Lowell\, MA\, 01852\, United States
CATEGORIES:Annual & Special,Arts & Culture,Kids & Family,Live Performances
ATTACH;FMTTYPE=image/jpeg:https://revolutionaryvalley.org/wp-content/uploads/2018/09/MRT-September-Image.jpg
GEO:42.6450982;-71.3042176
X-APPLE-STRUCTURED-LOCATION;VALUE=URI;X-ADDRESS=Merrimack Repertory Theatre 50 E Merrimack St Lowell MA 01852 United States;X-APPLE-RADIUS=500;X-TITLE=50 E Merrimack St:geo:-71.3042176,42.6450982
END:VEVENT
END:VCALENDAR