BEGIN:VCALENDAR
VERSION:2.0
PRODID:-//Revolutionary Valley Regional Tourism Council - ECPv6.15.0.1//NONSGML v1.0//EN
CALSCALE:GREGORIAN
METHOD:PUBLISH
X-ORIGINAL-URL:https://revolutionaryvalley.org
X-WR-CALDESC:Events for Revolutionary Valley Regional Tourism Council
REFRESH-INTERVAL;VALUE=DURATION:PT1H
X-Robots-Tag:noindex
X-PUBLISHED-TTL:PT1H
BEGIN:VTIMEZONE
TZID:UTC
BEGIN:STANDARD
TZOFFSETFROM:+0000
TZOFFSETTO:+0000
TZNAME:UTC
DTSTART:20210101T000000
END:STANDARD
END:VTIMEZONE
BEGIN:VTIMEZONE
TZID:America/New_York
BEGIN:DAYLIGHT
TZOFFSETFROM:-0500
TZOFFSETTO:-0400
TZNAME:EDT
DTSTART:20210314T070000
END:DAYLIGHT
BEGIN:STANDARD
TZOFFSETFROM:-0400
TZOFFSETTO:-0500
TZNAME:EST
DTSTART:20211107T060000
END:STANDARD
END:VTIMEZONE
BEGIN:VEVENT
DTSTART;TZID=UTC:20211124T110000
DTEND;TZID=UTC:20211125T143000
DTSTAMP:20260419T170639
CREATED:20230329T171625Z
LAST-MODIFIED:20230329T171625Z
UID:10016151-1637751600-1637850600@revolutionaryvalley.org
SUMMARY:Lowell Spinners vs Aberdeen Iron Birds
DESCRIPTION:The Lowell Spinners bring America’s pastime to LeLacheur Park with 3 day home stands vs Aberdeen Iron Birds.
URL:https://revolutionaryvalley.org/event/lowell-spinners-vs-aberdeen-iron-birds/2021-11-24/
LOCATION:Edward A. LeLacheur Park\, Edward A. Lelacheur Park\, 450 Aiken Ave\, Lowell\, MA\, 01854\, United States
CATEGORIES:Free Events,Kids & Family,Sports
ATTACH;FMTTYPE=image/jpeg:https://revolutionaryvalley.org/wp-content/uploads/2018/06/lowellspinnerslogo.jpg
GEO:42.6529173;-71.3178353
X-APPLE-STRUCTURED-LOCATION;VALUE=URI;X-ADDRESS=Edward A. LeLacheur Park Edward A. Lelacheur Park 450 Aiken Ave Lowell MA 01854 United States;X-APPLE-RADIUS=500;X-TITLE=Edward A. Lelacheur Park\, 450 Aiken Ave:geo:-71.3178353,42.6529173
END:VEVENT
BEGIN:VEVENT
DTSTART;TZID=UTC:20211124T110000
DTEND;TZID=UTC:20211125T143000
DTSTAMP:20260419T170639
CREATED:20230329T171629Z
LAST-MODIFIED:20230329T171629Z
UID:10017873-1637751600-1637850600@revolutionaryvalley.org
SUMMARY:Lowell Spinners vs Aberdeen Iron Birds
DESCRIPTION:The Lowell Spinners bring America’s pastime to LeLacheur Park with 3 day home stands vs Aberdeen Iron Birds.
URL:https://revolutionaryvalley.org/event/lowell-spinners-vs-aberdeen-iron-birds-2/2021-11-24/
LOCATION:Edward A. LeLacheur Park\, Edward A. Lelacheur Park\, 450 Aiken Ave\, Lowell\, MA\, 01854\, United States
CATEGORIES:Free Events,Kids & Family,Sports
ATTACH;FMTTYPE=image/jpeg:https://revolutionaryvalley.org/wp-content/uploads/2018/06/lowellspinnerslogo.jpg
GEO:42.6529173;-71.3178353
X-APPLE-STRUCTURED-LOCATION;VALUE=URI;X-ADDRESS=Edward A. LeLacheur Park Edward A. Lelacheur Park 450 Aiken Ave Lowell MA 01854 United States;X-APPLE-RADIUS=500;X-TITLE=Edward A. Lelacheur Park\, 450 Aiken Ave:geo:-71.3178353,42.6529173
END:VEVENT
BEGIN:VEVENT
DTSTART;TZID=UTC:20211125T110000
DTEND;TZID=UTC:20211126T143000
DTSTAMP:20260419T170639
CREATED:20230329T171625Z
LAST-MODIFIED:20230329T171625Z
UID:10016152-1637838000-1637937000@revolutionaryvalley.org
SUMMARY:Lowell Spinners vs Aberdeen Iron Birds
DESCRIPTION:The Lowell Spinners bring America’s pastime to LeLacheur Park with 3 day home stands vs Aberdeen Iron Birds.
URL:https://revolutionaryvalley.org/event/lowell-spinners-vs-aberdeen-iron-birds/2021-11-25/
LOCATION:Edward A. LeLacheur Park\, Edward A. Lelacheur Park\, 450 Aiken Ave\, Lowell\, MA\, 01854\, United States
CATEGORIES:Free Events,Kids & Family,Sports
ATTACH;FMTTYPE=image/jpeg:https://revolutionaryvalley.org/wp-content/uploads/2018/06/lowellspinnerslogo.jpg
GEO:42.6529173;-71.3178353
X-APPLE-STRUCTURED-LOCATION;VALUE=URI;X-ADDRESS=Edward A. LeLacheur Park Edward A. Lelacheur Park 450 Aiken Ave Lowell MA 01854 United States;X-APPLE-RADIUS=500;X-TITLE=Edward A. Lelacheur Park\, 450 Aiken Ave:geo:-71.3178353,42.6529173
END:VEVENT
BEGIN:VEVENT
DTSTART;TZID=UTC:20211125T110000
DTEND;TZID=UTC:20211126T143000
DTSTAMP:20260419T170639
CREATED:20230329T171629Z
LAST-MODIFIED:20230329T171629Z
UID:10017874-1637838000-1637937000@revolutionaryvalley.org
SUMMARY:Lowell Spinners vs Aberdeen Iron Birds
DESCRIPTION:The Lowell Spinners bring America’s pastime to LeLacheur Park with 3 day home stands vs Aberdeen Iron Birds.
URL:https://revolutionaryvalley.org/event/lowell-spinners-vs-aberdeen-iron-birds-2/2021-11-25/
LOCATION:Edward A. LeLacheur Park\, Edward A. Lelacheur Park\, 450 Aiken Ave\, Lowell\, MA\, 01854\, United States
CATEGORIES:Free Events,Kids & Family,Sports
ATTACH;FMTTYPE=image/jpeg:https://revolutionaryvalley.org/wp-content/uploads/2018/06/lowellspinnerslogo.jpg
GEO:42.6529173;-71.3178353
X-APPLE-STRUCTURED-LOCATION;VALUE=URI;X-ADDRESS=Edward A. LeLacheur Park Edward A. Lelacheur Park 450 Aiken Ave Lowell MA 01854 United States;X-APPLE-RADIUS=500;X-TITLE=Edward A. Lelacheur Park\, 450 Aiken Ave:geo:-71.3178353,42.6529173
END:VEVENT
BEGIN:VEVENT
DTSTART;TZID=America/New_York:20211125T120000
DTEND;TZID=America/New_York:20211125T180000
DTSTAMP:20260419T170639
CREATED:20211117T144523Z
LAST-MODIFIED:20211117T144523Z
UID:10025536-1637841600-1637863200@revolutionaryvalley.org
SUMMARY:Thanksgiving Dinner at the Inn at Hastings Park
DESCRIPTION:Celebrate Thanksgiving with the Inn at Hastings Park at Town Meeting Bistro! Enjoy a beautifully curated three-course meal featuring twists on traditional favorites using locally harvested seasonal vegetables. \nAPPETIZERS\nChestnut Soup\nLocal Mixed Green Salad\nSeared Sea Scallops\nLocal Heritage Breed Pork Country Terrine \nENTREE\nRoasted Delicata Squash\nMustard Crusted Salmon\nBrined & Slow Roasted Turkey Breast\nBeef Tenderloin \nDESSERTS\nApple Pie\nPumpkin Pie\nMilk Chocolate Pave\nCranberry Sorbet \nPRICING\n$75 per adult\n$45 per child\nChildren 3 and under are complimentary
URL:https://revolutionaryvalley.org/event/thanksgiving-dinner-at-the-inn-at-hastings-park/
LOCATION:The Inn at Hastings Park\, 2027 Massachusetts Ave\, Lexington\, MA\, 02421\, United States
CATEGORIES:Historical
ATTACH;FMTTYPE=image/jpeg:https://revolutionaryvalley.org/wp-content/uploads/2021/10/Thanksgiving-4-scaled.jpg
ORGANIZER;CN="The Inn at Hastings Park":MAILTO:https://www.innathastingspark.com/dining/holiday-dining/
GEO:42.4495227;-71.236516
X-APPLE-STRUCTURED-LOCATION;VALUE=URI;X-ADDRESS=The Inn at Hastings Park 2027 Massachusetts Ave Lexington MA 02421 United States;X-APPLE-RADIUS=500;X-TITLE=2027 Massachusetts Ave:geo:-71.236516,42.4495227
END:VEVENT
BEGIN:VEVENT
DTSTART;TZID=UTC:20211125T190000
DTEND;TZID=UTC:20211125T210000
DTSTAMP:20260419T170639
CREATED:20180925T060806Z
LAST-MODIFIED:20180925T060806Z
UID:10020126-1637866800-1637874000@revolutionaryvalley.org
SUMMARY:Native Gardens By Karen Zacarías Directed by Giovanna Sardelli
DESCRIPTION:Good fences make good neighbors . . . right?\n\nA millennial\, Latinx couple moves in next door to a white\, baby boomer couple in Karen Zacarías’ topical new comedy. After some good-natured ribbing over gardening styles–traditional designs versus the eco-friendlier native plants–the couples find themselves at odds over an unexpected property line dispute. A dispute that explodes into a host of verbal jabs and blows over race\, culture\, privilege\, and the meaning of neighborly behavior.
URL:https://revolutionaryvalley.org/event/native-gardens-by-karen-zacarias-directed-by-giovanna-sardelli/2021-11-25/
LOCATION:Merrimack Repertory Theatre\, 50 E Merrimack St\, Lowell\, MA\, 01852\, United States
CATEGORIES:Annual & Special,Arts & Culture,Kids & Family,Live Performances
ATTACH;FMTTYPE=image/jpeg:https://revolutionaryvalley.org/wp-content/uploads/2018/09/MRT-September-Image.jpg
GEO:42.6450982;-71.3042176
X-APPLE-STRUCTURED-LOCATION;VALUE=URI;X-ADDRESS=Merrimack Repertory Theatre 50 E Merrimack St Lowell MA 01852 United States;X-APPLE-RADIUS=500;X-TITLE=50 E Merrimack St:geo:-71.3042176,42.6450982
END:VEVENT
BEGIN:VEVENT
DTSTART;TZID=UTC:20211125T190000
DTEND;TZID=UTC:20211125T210000
DTSTAMP:20260419T170639
CREATED:20180925T060806Z
LAST-MODIFIED:20180925T060806Z
UID:10021777-1637866800-1637874000@revolutionaryvalley.org
SUMMARY:Native Gardens By Karen Zacarías Directed by Giovanna Sardelli
DESCRIPTION:Good fences make good neighbors . . . right?\n\nA millennial\, Latinx couple moves in next door to a white\, baby boomer couple in Karen Zacarías’ topical new comedy. After some good-natured ribbing over gardening styles–traditional designs versus the eco-friendlier native plants–the couples find themselves at odds over an unexpected property line dispute. A dispute that explodes into a host of verbal jabs and blows over race\, culture\, privilege\, and the meaning of neighborly behavior.
URL:https://revolutionaryvalley.org/event/native-gardens-by-karen-zacarias-directed-by-giovanna-sardelli-2/2021-11-25/
LOCATION:Merrimack Repertory Theatre\, 50 E Merrimack St\, Lowell\, MA\, 01852\, United States
CATEGORIES:Annual & Special,Arts & Culture,Kids & Family,Live Performances
ATTACH;FMTTYPE=image/jpeg:https://revolutionaryvalley.org/wp-content/uploads/2018/09/MRT-September-Image.jpg
GEO:42.6450982;-71.3042176
X-APPLE-STRUCTURED-LOCATION;VALUE=URI;X-ADDRESS=Merrimack Repertory Theatre 50 E Merrimack St Lowell MA 01852 United States;X-APPLE-RADIUS=500;X-TITLE=50 E Merrimack St:geo:-71.3042176,42.6450982
END:VEVENT
END:VCALENDAR