BEGIN:VCALENDAR
VERSION:2.0
PRODID:-//Revolutionary Valley Regional Tourism Council - ECPv6.15.0.1//NONSGML v1.0//EN
CALSCALE:GREGORIAN
METHOD:PUBLISH
X-WR-CALNAME:Revolutionary Valley Regional Tourism Council
X-ORIGINAL-URL:https://revolutionaryvalley.org
X-WR-CALDESC:Events for Revolutionary Valley Regional Tourism Council
REFRESH-INTERVAL;VALUE=DURATION:PT1H
X-Robots-Tag:noindex
X-PUBLISHED-TTL:PT1H
BEGIN:VTIMEZONE
TZID:UTC
BEGIN:STANDARD
TZOFFSETFROM:+0000
TZOFFSETTO:+0000
TZNAME:UTC
DTSTART:20210101T000000
END:STANDARD
END:VTIMEZONE
BEGIN:VTIMEZONE
TZID:America/New_York
BEGIN:DAYLIGHT
TZOFFSETFROM:-0500
TZOFFSETTO:-0400
TZNAME:EDT
DTSTART:20210314T070000
END:DAYLIGHT
BEGIN:STANDARD
TZOFFSETFROM:-0400
TZOFFSETTO:-0500
TZNAME:EST
DTSTART:20211107T060000
END:STANDARD
END:VTIMEZONE
BEGIN:VEVENT
DTSTART;TZID=UTC:20211211T110000
DTEND;TZID=UTC:20211212T143000
DTSTAMP:20260420T165717
CREATED:20230329T171625Z
LAST-MODIFIED:20230329T171625Z
UID:10016168-1639220400-1639319400@revolutionaryvalley.org
SUMMARY:Lowell Spinners vs Aberdeen Iron Birds
DESCRIPTION:The Lowell Spinners bring America’s pastime to LeLacheur Park with 3 day home stands vs Aberdeen Iron Birds.
URL:https://revolutionaryvalley.org/event/lowell-spinners-vs-aberdeen-iron-birds/2021-12-11/
LOCATION:Edward A. LeLacheur Park\, Edward A. Lelacheur Park\, 450 Aiken Ave\, Lowell\, MA\, 01854\, United States
CATEGORIES:Free Events,Kids & Family,Sports
ATTACH;FMTTYPE=image/jpeg:https://revolutionaryvalley.org/wp-content/uploads/2018/06/lowellspinnerslogo.jpg
GEO:42.6529173;-71.3178353
X-APPLE-STRUCTURED-LOCATION;VALUE=URI;X-ADDRESS=Edward A. LeLacheur Park Edward A. Lelacheur Park 450 Aiken Ave Lowell MA 01854 United States;X-APPLE-RADIUS=500;X-TITLE=Edward A. Lelacheur Park\, 450 Aiken Ave:geo:-71.3178353,42.6529173
END:VEVENT
BEGIN:VEVENT
DTSTART;TZID=UTC:20211211T110000
DTEND;TZID=UTC:20211212T143000
DTSTAMP:20260420T165717
CREATED:20230329T171629Z
LAST-MODIFIED:20230329T171629Z
UID:10017890-1639220400-1639319400@revolutionaryvalley.org
SUMMARY:Lowell Spinners vs Aberdeen Iron Birds
DESCRIPTION:The Lowell Spinners bring America’s pastime to LeLacheur Park with 3 day home stands vs Aberdeen Iron Birds.
URL:https://revolutionaryvalley.org/event/lowell-spinners-vs-aberdeen-iron-birds-2/2021-12-11/
LOCATION:Edward A. LeLacheur Park\, Edward A. Lelacheur Park\, 450 Aiken Ave\, Lowell\, MA\, 01854\, United States
CATEGORIES:Free Events,Kids & Family,Sports
ATTACH;FMTTYPE=image/jpeg:https://revolutionaryvalley.org/wp-content/uploads/2018/06/lowellspinnerslogo.jpg
GEO:42.6529173;-71.3178353
X-APPLE-STRUCTURED-LOCATION;VALUE=URI;X-ADDRESS=Edward A. LeLacheur Park Edward A. Lelacheur Park 450 Aiken Ave Lowell MA 01854 United States;X-APPLE-RADIUS=500;X-TITLE=Edward A. Lelacheur Park\, 450 Aiken Ave:geo:-71.3178353,42.6529173
END:VEVENT
BEGIN:VEVENT
DTSTART;TZID=UTC:20211212T110000
DTEND;TZID=UTC:20211213T143000
DTSTAMP:20260420T165717
CREATED:20230329T171625Z
LAST-MODIFIED:20230329T171625Z
UID:10016169-1639306800-1639405800@revolutionaryvalley.org
SUMMARY:Lowell Spinners vs Aberdeen Iron Birds
DESCRIPTION:The Lowell Spinners bring America’s pastime to LeLacheur Park with 3 day home stands vs Aberdeen Iron Birds.
URL:https://revolutionaryvalley.org/event/lowell-spinners-vs-aberdeen-iron-birds/2021-12-12/
LOCATION:Edward A. LeLacheur Park\, Edward A. Lelacheur Park\, 450 Aiken Ave\, Lowell\, MA\, 01854\, United States
CATEGORIES:Free Events,Kids & Family,Sports
ATTACH;FMTTYPE=image/jpeg:https://revolutionaryvalley.org/wp-content/uploads/2018/06/lowellspinnerslogo.jpg
GEO:42.6529173;-71.3178353
X-APPLE-STRUCTURED-LOCATION;VALUE=URI;X-ADDRESS=Edward A. LeLacheur Park Edward A. Lelacheur Park 450 Aiken Ave Lowell MA 01854 United States;X-APPLE-RADIUS=500;X-TITLE=Edward A. Lelacheur Park\, 450 Aiken Ave:geo:-71.3178353,42.6529173
END:VEVENT
BEGIN:VEVENT
DTSTART;TZID=UTC:20211212T110000
DTEND;TZID=UTC:20211213T143000
DTSTAMP:20260420T165717
CREATED:20230329T171629Z
LAST-MODIFIED:20230329T171629Z
UID:10017891-1639306800-1639405800@revolutionaryvalley.org
SUMMARY:Lowell Spinners vs Aberdeen Iron Birds
DESCRIPTION:The Lowell Spinners bring America’s pastime to LeLacheur Park with 3 day home stands vs Aberdeen Iron Birds.
URL:https://revolutionaryvalley.org/event/lowell-spinners-vs-aberdeen-iron-birds-2/2021-12-12/
LOCATION:Edward A. LeLacheur Park\, Edward A. Lelacheur Park\, 450 Aiken Ave\, Lowell\, MA\, 01854\, United States
CATEGORIES:Free Events,Kids & Family,Sports
ATTACH;FMTTYPE=image/jpeg:https://revolutionaryvalley.org/wp-content/uploads/2018/06/lowellspinnerslogo.jpg
GEO:42.6529173;-71.3178353
X-APPLE-STRUCTURED-LOCATION;VALUE=URI;X-ADDRESS=Edward A. LeLacheur Park Edward A. Lelacheur Park 450 Aiken Ave Lowell MA 01854 United States;X-APPLE-RADIUS=500;X-TITLE=Edward A. Lelacheur Park\, 450 Aiken Ave:geo:-71.3178353,42.6529173
END:VEVENT
BEGIN:VEVENT
DTSTART;TZID=America/New_York:20211212T120000
DTEND;TZID=America/New_York:20211212T160000
DTSTAMP:20260420T165717
CREATED:20230329T171837Z
LAST-MODIFIED:20230329T171837Z
UID:10023436-1639310400-1639324800@revolutionaryvalley.org
SUMMARY:Winter Lights
DESCRIPTION:December is a festive time at The Loading Dock Gallery\, and we invite you to partake in the celebration of the seasons. Winter Lights has become an annual local tradition of holiday shoppers as a source of unique\, handcrafted\, giftable art and holiday decorations presented by more than 30 of our LDG members and participating artists and artisans from Western Avenue Studios. \nBrowse our three rooms of beautiful artwork\, and drink in the spirit of the season. Winter Lights showcases a juried selection of work by local artists making it easy and convenient to Shop Local and Shop Small while giving our patrons the opportunity to find that unique and extraordinary gift that will make this holiday memorable. \nWinter Lights runs December 1 through December 31\, except December 25-26\, at Loading Dock Gallery\, 122 Western Avenue in Lowell\, MA. For December\, the Loading Dock Gallery will be open noon to 5:30PM\, Monday through Saturday\, and noon to 4PM on Sundays. \nLoading Dock Gallery is part of Loading Dock Arts\, Inc.\, a 501c3. For more information\, visit www.theloadingdockgallery.com
URL:https://revolutionaryvalley.org/event/winter-lights/2021-12-12/
LOCATION:Loading Dock Gallery\, 122 Western Avenue\, Lowell\, MA\, United States
GEO:42.6398431;-71.3192968
X-APPLE-STRUCTURED-LOCATION;VALUE=URI;X-ADDRESS=Loading Dock Gallery 122 Western Avenue Lowell MA United States;X-APPLE-RADIUS=500;X-TITLE=122 Western Avenue:geo:-71.3192968,42.6398431
END:VEVENT
BEGIN:VEVENT
DTSTART;TZID=America/New_York:20211212T150000
DTEND;TZID=America/New_York:20211212T170000
DTSTAMP:20260420T165717
CREATED:20210625T134734Z
LAST-MODIFIED:20211027T154339Z
UID:10025490-1639321200-1639328400@revolutionaryvalley.org
SUMMARY:Eileen Ivers A Joyful Christmas
DESCRIPTION:Spectacle Live Presents \nEileen Ivers A Joyful Christmas\nLexington’s Cary Hall\nSunday\, December 12 at 3pm \nTickets On Sale Friday\, June 25 at 10am \nCONTACT: Dan Berube\, dberube@spectaclelive.com \nBUY TICKETS\nhttps://www.etix.com/ticket/p/6847181/jake-shimabukuro-lexington-cary-memorial-hall \nLexington\, MA – Spectacle Live is proud to present Eileen Ivers: A Joyful Christmas at Lexington’s Cary Memorial Hall on Sunday\, December 12 at 3pm. It’s the most wonderful time of the year\, and for years Eileen and her band have been celebrating the glorious story of Christmas\, thoughtfully\, uniquely and with pure unbridled joy! Eileen’s Irish and American roots shine throughout the evening’s beautiful mix of traditional\, story-filled\, age-old Wren Day songs\, poems\, and of course\, foot stomping and hollerin’ roots music. Eileen and the ensemble’s plethora of instruments and voices weave throughout the evening\, coupled with Ivers’ signature warmth\, inviting listeners in for a tuneful\, soulful celebration capturing the true spirit and joy of the season. \nTickets for Eileen Ivers: A Joyful Christmas at Lexington’s Cary Hall on Sunday\, December 12 at 3pm are $39-$69 and go on sale Friday\, June 25 at 10am at www.caryhalllexington.com or by calling 1-800-657-8774. \nEILEEN IVERS\nGrammy awarded\, Emmy nominated\, London Symphony Orchestra\, Boston Pops\, guest starred with over 50 orchestras\, original Musical Star of Riverdance\, Nine Time All-Ireland Fiddle Champion\, Sting\, Hall and Oates\, The Chieftains\, ‘Fiddlers 3′ with Nadja Salerno-Sonnenberg and Regina Carter\, Patti Smith\, Al Di Meola\, Steve Gadd\, founding member of Cherish the Ladies\, movie soundtracks including “Gangs of New York”\, performed for Presidents and Royalty worldwide…this is a short list of accomplishments\, headliners\, tours\, and affiliations. Fiddler Eileen Ivers has established herself as the pre-eminent exponent of the Irish fiddle in the world today. \nIt is a rare and select grade of spectacular artists whose work is so boldly imaginative and clearly virtuosic that it alters the medium. It has been said that the task of respectfully exploring the traditions and progression of the Celtic fiddle is quite literally on Eileen Ivers’ shoulders. The Washington Post states\, “She suggests the future of the Celtic fiddle.” \nShe’s been called a “sensation” by Billboard magazine and “the Jimi Hendrix of the violin\,” by The New York Times. “She electrifies the crowd with a dazzling show of virtuoso playing” says The Irish Times. \nIvers’ recording credits include over 80 contemporary and traditional albums and numerous movie scores. Eileen is hailed as one of the great innovators and pioneers in the Celtic and World music genres. \nThe daughter of Irish immigrants\, Eileen Ivers grew up in the culturally diverse neighborhood of the Bronx\, New York. Rooted in Irish traditional music since the age of eight\, Eileen proceeded to win nine All-Ireland fiddle championships\, a tenth on tenor banjo and over 30 championship medals\, making her one of the most awarded persons ever to compete in these prestigious competitions. \nBeing an Irish-American\, the intrigue of learning more about the multicultural sounds of her childhood took hold. After graduating magna cum laude in Mathematics from Iona College and while continuing her post-graduate work in Mathematics\, Eileen fully immersed herself in the different genres of music which she experienced growing up in New York. With “unIVERSal roots”\, her energetic\, joyous\, passionate band\, Eileen continues to connect music\, cultures\, stories\, and emotions that tie us together. In 2019\, Iona College conferred upon Eileen Ivers the degree of Doctor of Arts\, honoris causa for her “lifelong commitment to innovation\, excellence and deep dedication to bringing people together through music.” \nEileen and her ensemble headline prestigious performing arts centers\, guest star with numerous symphonies\, perform at major festivals worldwide\, and have appeared on national and international television. The L.A. Times proclaims\, “Ivers’ presentation was music with the kind of life and spirit that come together when talented artists from different backgrounds find the linkages that connect all forms of music…no wonder the audience loved every minute.” www.eileenivers.com/ \nTICKET INFORMATION\nTickets for Eileen Ivers: A Joyful Christmas at Lexington’s Cary Hall on Sunday\, December 12 at 3pm are $39-$69 and go on sale Friday\, June 25 at 10am at www.caryhalllexington.com or by calling 1-800-657-8774. \nCARY MEMORIAL HALL\nThe Cary Memorial Building is a historic structure located in Lexington Center at 1605 Massachusetts Avenue. The Cary Memorial Building\, named for Isaac Harris Cary\, was built in 1928 with a donation from his two daughters. The Colonial styled building\, with its grand auditorium\, has provided the community with a year-round site for musical programming and popular events for eighty years and is home to the Lexington Symphony. The building is handicapped accessible\, and is fully air-conditioned. www.caryhalllexington.com \nSPECTACLE LIVE\nSpectacle Live was founded in 2012 to provide performing arts venues throughout New England with expert services in venue operations\, booking and programming\, venue and event marketing\, venue programming and operational management\, consulting\, and event production. Since its founding\, Spectacle Live has worked with more than a dozen New England venues on facility management\, and in promoting\, marketing\, and producing hundreds of concerts\, comedy\, civic\, educational\, theatrical\, and family entertainment events. Spectacle Live has also been a valuable consulting partner to municipalities and non-profit venue owners\, developers\, programmers\, and operators. Spectacle Live has offices in Lexington and Lowell\, MA and Laconia\, NH. For more information\, please contact Pete Lally\, plally@spectaclelive.com or 617-531-1257. www.spectaclelive.com
URL:https://revolutionaryvalley.org/event/eileen-ivers-a-joyful-christmas/
LOCATION:Lexington’s Cary Memorial Hall\, 1605 Mass Ave\, Lexington\, MA\, 02420\, United States
ATTACH;FMTTYPE=image/jpeg:https://revolutionaryvalley.org/wp-content/uploads/2021/06/Christmas_ShatGlas_FB_Event.jpg
GEO:42.4469414;-71.2238931
X-APPLE-STRUCTURED-LOCATION;VALUE=URI;X-ADDRESS=Lexington’s Cary Memorial Hall 1605 Mass Ave Lexington MA 02420 United States;X-APPLE-RADIUS=500;X-TITLE=1605 Mass Ave:geo:-71.2238931,42.4469414
END:VEVENT
BEGIN:VEVENT
DTSTART;TZID=UTC:20211212T190000
DTEND;TZID=UTC:20211212T210000
DTSTAMP:20260420T165717
CREATED:20180925T060806Z
LAST-MODIFIED:20180925T060806Z
UID:10020143-1639335600-1639342800@revolutionaryvalley.org
SUMMARY:Native Gardens By Karen Zacarías Directed by Giovanna Sardelli
DESCRIPTION:Good fences make good neighbors . . . right?\n\nA millennial\, Latinx couple moves in next door to a white\, baby boomer couple in Karen Zacarías’ topical new comedy. After some good-natured ribbing over gardening styles–traditional designs versus the eco-friendlier native plants–the couples find themselves at odds over an unexpected property line dispute. A dispute that explodes into a host of verbal jabs and blows over race\, culture\, privilege\, and the meaning of neighborly behavior.
URL:https://revolutionaryvalley.org/event/native-gardens-by-karen-zacarias-directed-by-giovanna-sardelli/2021-12-12/
LOCATION:Merrimack Repertory Theatre\, 50 E Merrimack St\, Lowell\, MA\, 01852\, United States
CATEGORIES:Annual & Special,Arts & Culture,Kids & Family,Live Performances
ATTACH;FMTTYPE=image/jpeg:https://revolutionaryvalley.org/wp-content/uploads/2018/09/MRT-September-Image.jpg
GEO:42.6450982;-71.3042176
X-APPLE-STRUCTURED-LOCATION;VALUE=URI;X-ADDRESS=Merrimack Repertory Theatre 50 E Merrimack St Lowell MA 01852 United States;X-APPLE-RADIUS=500;X-TITLE=50 E Merrimack St:geo:-71.3042176,42.6450982
END:VEVENT
BEGIN:VEVENT
DTSTART;TZID=UTC:20211212T190000
DTEND;TZID=UTC:20211212T210000
DTSTAMP:20260420T165717
CREATED:20180925T060806Z
LAST-MODIFIED:20180925T060806Z
UID:10021794-1639335600-1639342800@revolutionaryvalley.org
SUMMARY:Native Gardens By Karen Zacarías Directed by Giovanna Sardelli
DESCRIPTION:Good fences make good neighbors . . . right?\n\nA millennial\, Latinx couple moves in next door to a white\, baby boomer couple in Karen Zacarías’ topical new comedy. After some good-natured ribbing over gardening styles–traditional designs versus the eco-friendlier native plants–the couples find themselves at odds over an unexpected property line dispute. A dispute that explodes into a host of verbal jabs and blows over race\, culture\, privilege\, and the meaning of neighborly behavior.
URL:https://revolutionaryvalley.org/event/native-gardens-by-karen-zacarias-directed-by-giovanna-sardelli-2/2021-12-12/
LOCATION:Merrimack Repertory Theatre\, 50 E Merrimack St\, Lowell\, MA\, 01852\, United States
CATEGORIES:Annual & Special,Arts & Culture,Kids & Family,Live Performances
ATTACH;FMTTYPE=image/jpeg:https://revolutionaryvalley.org/wp-content/uploads/2018/09/MRT-September-Image.jpg
GEO:42.6450982;-71.3042176
X-APPLE-STRUCTURED-LOCATION;VALUE=URI;X-ADDRESS=Merrimack Repertory Theatre 50 E Merrimack St Lowell MA 01852 United States;X-APPLE-RADIUS=500;X-TITLE=50 E Merrimack St:geo:-71.3042176,42.6450982
END:VEVENT
END:VCALENDAR