BEGIN:VCALENDAR
VERSION:2.0
PRODID:-//Revolutionary Valley Regional Tourism Council - ECPv6.15.0.1//NONSGML v1.0//EN
CALSCALE:GREGORIAN
METHOD:PUBLISH
X-WR-CALNAME:Revolutionary Valley Regional Tourism Council
X-ORIGINAL-URL:https://revolutionaryvalley.org
X-WR-CALDESC:Events for Revolutionary Valley Regional Tourism Council
REFRESH-INTERVAL;VALUE=DURATION:PT1H
X-Robots-Tag:noindex
X-PUBLISHED-TTL:PT1H
BEGIN:VTIMEZONE
TZID:UTC
BEGIN:STANDARD
TZOFFSETFROM:+0000
TZOFFSETTO:+0000
TZNAME:UTC
DTSTART:20220101T000000
END:STANDARD
END:VTIMEZONE
BEGIN:VTIMEZONE
TZID:America/New_York
BEGIN:DAYLIGHT
TZOFFSETFROM:-0500
TZOFFSETTO:-0400
TZNAME:EDT
DTSTART:20220313T070000
END:DAYLIGHT
BEGIN:STANDARD
TZOFFSETFROM:-0400
TZOFFSETTO:-0500
TZNAME:EST
DTSTART:20221106T060000
END:STANDARD
END:VTIMEZONE
BEGIN:VEVENT
DTSTART;TZID=UTC:20220727T110000
DTEND;TZID=UTC:20220728T143000
DTSTAMP:20260420T035810
CREATED:20230329T171625Z
LAST-MODIFIED:20230329T171625Z
UID:10016396-1658919600-1659018600@revolutionaryvalley.org
SUMMARY:Lowell Spinners vs Aberdeen Iron Birds
DESCRIPTION:The Lowell Spinners bring America’s pastime to LeLacheur Park with 3 day home stands vs Aberdeen Iron Birds.
URL:https://revolutionaryvalley.org/event/lowell-spinners-vs-aberdeen-iron-birds/2022-07-27/
LOCATION:Edward A. LeLacheur Park\, Edward A. Lelacheur Park\, 450 Aiken Ave\, Lowell\, MA\, 01854\, United States
CATEGORIES:Free Events,Kids & Family,Sports
ATTACH;FMTTYPE=image/jpeg:https://revolutionaryvalley.org/wp-content/uploads/2018/06/lowellspinnerslogo.jpg
GEO:42.6529173;-71.3178353
X-APPLE-STRUCTURED-LOCATION;VALUE=URI;X-ADDRESS=Edward A. LeLacheur Park Edward A. Lelacheur Park 450 Aiken Ave Lowell MA 01854 United States;X-APPLE-RADIUS=500;X-TITLE=Edward A. Lelacheur Park\, 450 Aiken Ave:geo:-71.3178353,42.6529173
END:VEVENT
BEGIN:VEVENT
DTSTART;TZID=UTC:20220727T110000
DTEND;TZID=UTC:20220728T143000
DTSTAMP:20260420T035810
CREATED:20230329T171629Z
LAST-MODIFIED:20230329T171629Z
UID:10018118-1658919600-1659018600@revolutionaryvalley.org
SUMMARY:Lowell Spinners vs Aberdeen Iron Birds
DESCRIPTION:The Lowell Spinners bring America’s pastime to LeLacheur Park with 3 day home stands vs Aberdeen Iron Birds.
URL:https://revolutionaryvalley.org/event/lowell-spinners-vs-aberdeen-iron-birds-2/2022-07-27/
LOCATION:Edward A. LeLacheur Park\, Edward A. Lelacheur Park\, 450 Aiken Ave\, Lowell\, MA\, 01854\, United States
CATEGORIES:Free Events,Kids & Family,Sports
ATTACH;FMTTYPE=image/jpeg:https://revolutionaryvalley.org/wp-content/uploads/2018/06/lowellspinnerslogo.jpg
GEO:42.6529173;-71.3178353
X-APPLE-STRUCTURED-LOCATION;VALUE=URI;X-ADDRESS=Edward A. LeLacheur Park Edward A. Lelacheur Park 450 Aiken Ave Lowell MA 01854 United States;X-APPLE-RADIUS=500;X-TITLE=Edward A. Lelacheur Park\, 450 Aiken Ave:geo:-71.3178353,42.6529173
END:VEVENT
BEGIN:VEVENT
DTSTART;TZID=UTC:20220728T110000
DTEND;TZID=UTC:20220729T143000
DTSTAMP:20260420T035810
CREATED:20230329T171625Z
LAST-MODIFIED:20230329T171625Z
UID:10016397-1659006000-1659105000@revolutionaryvalley.org
SUMMARY:Lowell Spinners vs Aberdeen Iron Birds
DESCRIPTION:The Lowell Spinners bring America’s pastime to LeLacheur Park with 3 day home stands vs Aberdeen Iron Birds.
URL:https://revolutionaryvalley.org/event/lowell-spinners-vs-aberdeen-iron-birds/2022-07-28/
LOCATION:Edward A. LeLacheur Park\, Edward A. Lelacheur Park\, 450 Aiken Ave\, Lowell\, MA\, 01854\, United States
CATEGORIES:Free Events,Kids & Family,Sports
ATTACH;FMTTYPE=image/jpeg:https://revolutionaryvalley.org/wp-content/uploads/2018/06/lowellspinnerslogo.jpg
GEO:42.6529173;-71.3178353
X-APPLE-STRUCTURED-LOCATION;VALUE=URI;X-ADDRESS=Edward A. LeLacheur Park Edward A. Lelacheur Park 450 Aiken Ave Lowell MA 01854 United States;X-APPLE-RADIUS=500;X-TITLE=Edward A. Lelacheur Park\, 450 Aiken Ave:geo:-71.3178353,42.6529173
END:VEVENT
BEGIN:VEVENT
DTSTART;TZID=UTC:20220728T110000
DTEND;TZID=UTC:20220729T143000
DTSTAMP:20260420T035810
CREATED:20230329T171629Z
LAST-MODIFIED:20230329T171629Z
UID:10018119-1659006000-1659105000@revolutionaryvalley.org
SUMMARY:Lowell Spinners vs Aberdeen Iron Birds
DESCRIPTION:The Lowell Spinners bring America’s pastime to LeLacheur Park with 3 day home stands vs Aberdeen Iron Birds.
URL:https://revolutionaryvalley.org/event/lowell-spinners-vs-aberdeen-iron-birds-2/2022-07-28/
LOCATION:Edward A. LeLacheur Park\, Edward A. Lelacheur Park\, 450 Aiken Ave\, Lowell\, MA\, 01854\, United States
CATEGORIES:Free Events,Kids & Family,Sports
ATTACH;FMTTYPE=image/jpeg:https://revolutionaryvalley.org/wp-content/uploads/2018/06/lowellspinnerslogo.jpg
GEO:42.6529173;-71.3178353
X-APPLE-STRUCTURED-LOCATION;VALUE=URI;X-ADDRESS=Edward A. LeLacheur Park Edward A. Lelacheur Park 450 Aiken Ave Lowell MA 01854 United States;X-APPLE-RADIUS=500;X-TITLE=Edward A. Lelacheur Park\, 450 Aiken Ave:geo:-71.3178353,42.6529173
END:VEVENT
BEGIN:VEVENT
DTSTART;TZID=America/New_York:20220728T163000
DTEND;TZID=America/New_York:20220728T183000
DTSTAMP:20260420T035810
CREATED:20220504T161402Z
LAST-MODIFIED:20220504T161402Z
UID:10025596-1659025800-1659033000@revolutionaryvalley.org
SUMMARY:Open House - Lord Hobo Brewing Company
DESCRIPTION:Join us and come see Lord Hobo Brewing Company\n\n\n\n\n\nAbout this event\n\n\nPlease plan to join us for our July 28th Open House from 4:30 – 6:30 at Lord Hobo Brewing Company in Woburn\, MA \nSELF.MADE. \nLord Hobo was founded in 2015 by Daniel Lanigan\, a restaurant lifer and entrepreneur. Daniel started the company during a time when the New England style IPA was rapidly growing in popularity throughout the Northeast. While some breweries embraced a direct-to-consumer model which limited the availability of this much sought-after style of beer\, Daniel recognized an opportunity to produce and distribute NE IPAs\, bringing the style to a wider audience. As a restaurant owner\, Daniel always maintained great relationships with his brewery partners and recognized the importance of bars and restaurants in the beer ecosystem. In accordance with this founding principle\, we are dedicated to supporting our on and off premise accounts and being the best supplier that they partner with. \nIn our first year of operation we released Boomsauce\, the double IPA that quickly gained popularity and became our flagship beer. We took our favorite aspects from some of the other beers we were brewing at the time and put them together to create the iconic beer. Boomsauce became the first beer we were notable for and served as our introduction to a host of beer drinkers thirsty for balanced and bold NE style beers. Today\, Boomsauce is the #1 Mass-made Double IPA in the state and remains the centerpiece of our hop-focused core lineup. \nAs the beer world has changed\, so has Lord Hobo\, embracing challenge and an ability to evolve. We currently boast a core lineup of seven year-round beers and an ever-rotating selection of exciting and boundary-pushing ales and lagers. In 2020\, we released 78 beers\, both at our taproom and across the markets we serve! \nTHE BREWHOUSE \nAt Lord Hobo we’re proud of our state-of-the-art facilities that allow us to consistently create our fan favorites beers alongside new and innovative recipes. Our current brewhouse began construction in 2014 at a building in Woburn\, MA with a storied history of a granite and stone factory. We currently boast a 40-barrel brewhouse where our market-wide releases are made\, as well as a 10-barrel brewhouse where the brewers’ imaginations get to run wild. You may have had one of these creations at our taproom! \nFrom the start\, we knew we wanted to go big and not be limited by space\, so we chose a facility where we could do so. Over the last 5+ years\, we moved on from a Wild Goose canning line and upgraded to a Krones filler that is able to can up to 250 cans per minute. We have also added two-grain silos\, 40 fermenters\, seven bright tanks\, and a shiny new centrifuge. In our current space\, our maximum annual output is 240\,000 barrels of beer; this is something we constantly push ourselves to achieve. \nWe have also invested heavily in our lab so we can monitor all aspects of our beer\, including how it ages. We keep a beer library for aged sensory analysis so that we can continuously monitor each of our beers. Through a robust quality assurance process and various pieces of high-end sensory equipment\, we can identify and quickly address any quality issues that may arise.
URL:https://revolutionaryvalley.org/event/open-house-lord-hobo-brewing-company/
LOCATION:Lord Hobo\, 5 Draper Street\, Woburn\, MA\, 01801\, United States
CATEGORIES:Member Events
ATTACH;FMTTYPE=image/jpeg:https://revolutionaryvalley.org/wp-content/uploads/2022/05/lord-hobo.jpeg
GEO:42.4760037;-71.1289764
X-APPLE-STRUCTURED-LOCATION;VALUE=URI;X-ADDRESS=Lord Hobo 5 Draper Street Woburn MA 01801 United States;X-APPLE-RADIUS=500;X-TITLE=5 Draper Street:geo:-71.1289764,42.4760037
END:VEVENT
BEGIN:VEVENT
DTSTART;TZID=UTC:20220728T190000
DTEND;TZID=UTC:20220728T210000
DTSTAMP:20260420T035810
CREATED:20180925T060806Z
LAST-MODIFIED:20180925T060806Z
UID:10020371-1659034800-1659042000@revolutionaryvalley.org
SUMMARY:Native Gardens By Karen Zacarías Directed by Giovanna Sardelli
DESCRIPTION:Good fences make good neighbors . . . right?\n\nA millennial\, Latinx couple moves in next door to a white\, baby boomer couple in Karen Zacarías’ topical new comedy. After some good-natured ribbing over gardening styles–traditional designs versus the eco-friendlier native plants–the couples find themselves at odds over an unexpected property line dispute. A dispute that explodes into a host of verbal jabs and blows over race\, culture\, privilege\, and the meaning of neighborly behavior.
URL:https://revolutionaryvalley.org/event/native-gardens-by-karen-zacarias-directed-by-giovanna-sardelli/2022-07-28/
LOCATION:Merrimack Repertory Theatre\, 50 E Merrimack St\, Lowell\, MA\, 01852\, United States
CATEGORIES:Annual & Special,Arts & Culture,Kids & Family,Live Performances
ATTACH;FMTTYPE=image/jpeg:https://revolutionaryvalley.org/wp-content/uploads/2018/09/MRT-September-Image.jpg
GEO:42.6450982;-71.3042176
X-APPLE-STRUCTURED-LOCATION;VALUE=URI;X-ADDRESS=Merrimack Repertory Theatre 50 E Merrimack St Lowell MA 01852 United States;X-APPLE-RADIUS=500;X-TITLE=50 E Merrimack St:geo:-71.3042176,42.6450982
END:VEVENT
BEGIN:VEVENT
DTSTART;TZID=UTC:20220728T190000
DTEND;TZID=UTC:20220728T210000
DTSTAMP:20260420T035810
CREATED:20180925T060806Z
LAST-MODIFIED:20180925T060806Z
UID:10022022-1659034800-1659042000@revolutionaryvalley.org
SUMMARY:Native Gardens By Karen Zacarías Directed by Giovanna Sardelli
DESCRIPTION:Good fences make good neighbors . . . right?\n\nA millennial\, Latinx couple moves in next door to a white\, baby boomer couple in Karen Zacarías’ topical new comedy. After some good-natured ribbing over gardening styles–traditional designs versus the eco-friendlier native plants–the couples find themselves at odds over an unexpected property line dispute. A dispute that explodes into a host of verbal jabs and blows over race\, culture\, privilege\, and the meaning of neighborly behavior.
URL:https://revolutionaryvalley.org/event/native-gardens-by-karen-zacarias-directed-by-giovanna-sardelli-2/2022-07-28/
LOCATION:Merrimack Repertory Theatre\, 50 E Merrimack St\, Lowell\, MA\, 01852\, United States
CATEGORIES:Annual & Special,Arts & Culture,Kids & Family,Live Performances
ATTACH;FMTTYPE=image/jpeg:https://revolutionaryvalley.org/wp-content/uploads/2018/09/MRT-September-Image.jpg
GEO:42.6450982;-71.3042176
X-APPLE-STRUCTURED-LOCATION;VALUE=URI;X-ADDRESS=Merrimack Repertory Theatre 50 E Merrimack St Lowell MA 01852 United States;X-APPLE-RADIUS=500;X-TITLE=50 E Merrimack St:geo:-71.3042176,42.6450982
END:VEVENT
END:VCALENDAR