BEGIN:VCALENDAR
VERSION:2.0
PRODID:-//Revolutionary Valley Regional Tourism Council - ECPv6.15.0.1//NONSGML v1.0//EN
CALSCALE:GREGORIAN
METHOD:PUBLISH
X-WR-CALNAME:Revolutionary Valley Regional Tourism Council
X-ORIGINAL-URL:https://revolutionaryvalley.org
X-WR-CALDESC:Events for Revolutionary Valley Regional Tourism Council
REFRESH-INTERVAL;VALUE=DURATION:PT1H
X-Robots-Tag:noindex
X-PUBLISHED-TTL:PT1H
BEGIN:VTIMEZONE
TZID:UTC
BEGIN:STANDARD
TZOFFSETFROM:+0000
TZOFFSETTO:+0000
TZNAME:UTC
DTSTART:20220101T000000
END:STANDARD
END:VTIMEZONE
BEGIN:VTIMEZONE
TZID:America/New_York
BEGIN:DAYLIGHT
TZOFFSETFROM:-0500
TZOFFSETTO:-0400
TZNAME:EDT
DTSTART:20220313T070000
END:DAYLIGHT
BEGIN:STANDARD
TZOFFSETFROM:-0400
TZOFFSETTO:-0500
TZNAME:EST
DTSTART:20221106T060000
END:STANDARD
END:VTIMEZONE
BEGIN:VEVENT
DTSTART;TZID=UTC:20221110T110000
DTEND;TZID=UTC:20221111T143000
DTSTAMP:20260425T151249
CREATED:20230329T171625Z
LAST-MODIFIED:20230329T171625Z
UID:10016502-1668078000-1668177000@revolutionaryvalley.org
SUMMARY:Lowell Spinners vs Aberdeen Iron Birds
DESCRIPTION:The Lowell Spinners bring America’s pastime to LeLacheur Park with 3 day home stands vs Aberdeen Iron Birds.
URL:https://revolutionaryvalley.org/event/lowell-spinners-vs-aberdeen-iron-birds/2022-11-10/
LOCATION:Edward A. LeLacheur Park\, Edward A. Lelacheur Park\, 450 Aiken Ave\, Lowell\, MA\, 01854\, United States
CATEGORIES:Free Events,Kids & Family,Sports
ATTACH;FMTTYPE=image/jpeg:https://revolutionaryvalley.org/wp-content/uploads/2018/06/lowellspinnerslogo.jpg
GEO:42.6529173;-71.3178353
X-APPLE-STRUCTURED-LOCATION;VALUE=URI;X-ADDRESS=Edward A. LeLacheur Park Edward A. Lelacheur Park 450 Aiken Ave Lowell MA 01854 United States;X-APPLE-RADIUS=500;X-TITLE=Edward A. Lelacheur Park\, 450 Aiken Ave:geo:-71.3178353,42.6529173
END:VEVENT
BEGIN:VEVENT
DTSTART;TZID=UTC:20221110T110000
DTEND;TZID=UTC:20221111T143000
DTSTAMP:20260425T151249
CREATED:20230329T171629Z
LAST-MODIFIED:20230329T171629Z
UID:10018224-1668078000-1668177000@revolutionaryvalley.org
SUMMARY:Lowell Spinners vs Aberdeen Iron Birds
DESCRIPTION:The Lowell Spinners bring America’s pastime to LeLacheur Park with 3 day home stands vs Aberdeen Iron Birds.
URL:https://revolutionaryvalley.org/event/lowell-spinners-vs-aberdeen-iron-birds-2/2022-11-10/
LOCATION:Edward A. LeLacheur Park\, Edward A. Lelacheur Park\, 450 Aiken Ave\, Lowell\, MA\, 01854\, United States
CATEGORIES:Free Events,Kids & Family,Sports
ATTACH;FMTTYPE=image/jpeg:https://revolutionaryvalley.org/wp-content/uploads/2018/06/lowellspinnerslogo.jpg
GEO:42.6529173;-71.3178353
X-APPLE-STRUCTURED-LOCATION;VALUE=URI;X-ADDRESS=Edward A. LeLacheur Park Edward A. Lelacheur Park 450 Aiken Ave Lowell MA 01854 United States;X-APPLE-RADIUS=500;X-TITLE=Edward A. Lelacheur Park\, 450 Aiken Ave:geo:-71.3178353,42.6529173
END:VEVENT
BEGIN:VEVENT
DTSTART;TZID=UTC:20221111T110000
DTEND;TZID=UTC:20221112T143000
DTSTAMP:20260425T151249
CREATED:20230329T171625Z
LAST-MODIFIED:20230329T171625Z
UID:10016503-1668164400-1668263400@revolutionaryvalley.org
SUMMARY:Lowell Spinners vs Aberdeen Iron Birds
DESCRIPTION:The Lowell Spinners bring America’s pastime to LeLacheur Park with 3 day home stands vs Aberdeen Iron Birds.
URL:https://revolutionaryvalley.org/event/lowell-spinners-vs-aberdeen-iron-birds/2022-11-11/
LOCATION:Edward A. LeLacheur Park\, Edward A. Lelacheur Park\, 450 Aiken Ave\, Lowell\, MA\, 01854\, United States
CATEGORIES:Free Events,Kids & Family,Sports
ATTACH;FMTTYPE=image/jpeg:https://revolutionaryvalley.org/wp-content/uploads/2018/06/lowellspinnerslogo.jpg
GEO:42.6529173;-71.3178353
X-APPLE-STRUCTURED-LOCATION;VALUE=URI;X-ADDRESS=Edward A. LeLacheur Park Edward A. Lelacheur Park 450 Aiken Ave Lowell MA 01854 United States;X-APPLE-RADIUS=500;X-TITLE=Edward A. Lelacheur Park\, 450 Aiken Ave:geo:-71.3178353,42.6529173
END:VEVENT
BEGIN:VEVENT
DTSTART;TZID=UTC:20221111T110000
DTEND;TZID=UTC:20221112T143000
DTSTAMP:20260425T151249
CREATED:20230329T171629Z
LAST-MODIFIED:20230329T171629Z
UID:10018225-1668164400-1668263400@revolutionaryvalley.org
SUMMARY:Lowell Spinners vs Aberdeen Iron Birds
DESCRIPTION:The Lowell Spinners bring America’s pastime to LeLacheur Park with 3 day home stands vs Aberdeen Iron Birds.
URL:https://revolutionaryvalley.org/event/lowell-spinners-vs-aberdeen-iron-birds-2/2022-11-11/
LOCATION:Edward A. LeLacheur Park\, Edward A. Lelacheur Park\, 450 Aiken Ave\, Lowell\, MA\, 01854\, United States
CATEGORIES:Free Events,Kids & Family,Sports
ATTACH;FMTTYPE=image/jpeg:https://revolutionaryvalley.org/wp-content/uploads/2018/06/lowellspinnerslogo.jpg
GEO:42.6529173;-71.3178353
X-APPLE-STRUCTURED-LOCATION;VALUE=URI;X-ADDRESS=Edward A. LeLacheur Park Edward A. Lelacheur Park 450 Aiken Ave Lowell MA 01854 United States;X-APPLE-RADIUS=500;X-TITLE=Edward A. Lelacheur Park\, 450 Aiken Ave:geo:-71.3178353,42.6529173
END:VEVENT
BEGIN:VEVENT
DTSTART;TZID=America/New_York:20221111T140000
DTEND;TZID=America/New_York:20221111T153000
DTSTAMP:20260425T151249
CREATED:20221026T141745Z
LAST-MODIFIED:20221026T141745Z
UID:10025731-1668175200-1668180600@revolutionaryvalley.org
SUMMARY:African-American History of Concord Walking Tour
DESCRIPTION:Learn about Concord’s African-American history on this 90 minute walking tour (about 2 miles). The tour will visit sites highlighting Concord’s history around enslavement\, the first generation of self emancipated African-Americans and the growth of Abolitionism. Guests will visit sites that tell the story of John Jack\, Brister Freeman and Concord’s heroic native son Pvt. George Washington Dugan who served in one of the first African American regiments of the Civil War. Guests will learn about how families like the Robbins\, Garrisons and Hutchinsons strived to support themselves on the land and in the town and worked to shape their own destinies as free men and women. The tour departs from the Visitor Center at 58 Main Street.
URL:https://revolutionaryvalley.org/event/african-american-history-of-concord-walking-tour-2/2022-11-11/
LOCATION:Concord Visitor Center\, Concord Visitor Center\, 58 Main St\, Concord\, MA\, 01742\, United States
CATEGORIES:Historical
ATTACH;FMTTYPE=image/jpeg:https://revolutionaryvalley.org/wp-content/uploads/2022/10/African-American-history-tour.jpg
ORGANIZER;CN="Concord Visitor Center":MAILTO:visitors@concordma.gov
GEO:42.4602006;-71.3509612
X-APPLE-STRUCTURED-LOCATION;VALUE=URI;X-ADDRESS=Concord Visitor Center Concord Visitor Center 58 Main St Concord MA 01742 United States;X-APPLE-RADIUS=500;X-TITLE=Concord Visitor Center\, 58 Main St:geo:-71.3509612,42.4602006
END:VEVENT
BEGIN:VEVENT
DTSTART;TZID=UTC:20221111T190000
DTEND;TZID=UTC:20221111T210000
DTSTAMP:20260425T151249
CREATED:20180925T060806Z
LAST-MODIFIED:20180925T060806Z
UID:10020477-1668193200-1668200400@revolutionaryvalley.org
SUMMARY:Native Gardens By Karen Zacarías Directed by Giovanna Sardelli
DESCRIPTION:Good fences make good neighbors . . . right?\n\nA millennial\, Latinx couple moves in next door to a white\, baby boomer couple in Karen Zacarías’ topical new comedy. After some good-natured ribbing over gardening styles–traditional designs versus the eco-friendlier native plants–the couples find themselves at odds over an unexpected property line dispute. A dispute that explodes into a host of verbal jabs and blows over race\, culture\, privilege\, and the meaning of neighborly behavior.
URL:https://revolutionaryvalley.org/event/native-gardens-by-karen-zacarias-directed-by-giovanna-sardelli/2022-11-11/
LOCATION:Merrimack Repertory Theatre\, 50 E Merrimack St\, Lowell\, MA\, 01852\, United States
CATEGORIES:Annual & Special,Arts & Culture,Kids & Family,Live Performances
ATTACH;FMTTYPE=image/jpeg:https://revolutionaryvalley.org/wp-content/uploads/2018/09/MRT-September-Image.jpg
GEO:42.6450982;-71.3042176
X-APPLE-STRUCTURED-LOCATION;VALUE=URI;X-ADDRESS=Merrimack Repertory Theatre 50 E Merrimack St Lowell MA 01852 United States;X-APPLE-RADIUS=500;X-TITLE=50 E Merrimack St:geo:-71.3042176,42.6450982
END:VEVENT
BEGIN:VEVENT
DTSTART;TZID=UTC:20221111T190000
DTEND;TZID=UTC:20221111T210000
DTSTAMP:20260425T151249
CREATED:20180925T060806Z
LAST-MODIFIED:20180925T060806Z
UID:10072034-1668193200-1668200400@revolutionaryvalley.org
SUMMARY:Native Gardens By Karen Zacarías Directed by Giovanna Sardelli
DESCRIPTION:Good fences make good neighbors . . . right?\n\nA millennial\, Latinx couple moves in next door to a white\, baby boomer couple in Karen Zacarías’ topical new comedy. After some good-natured ribbing over gardening styles–traditional designs versus the eco-friendlier native plants–the couples find themselves at odds over an unexpected property line dispute. A dispute that explodes into a host of verbal jabs and blows over race\, culture\, privilege\, and the meaning of neighborly behavior.
URL:https://revolutionaryvalley.org/event/native-gardens-by-karen-zacarias-directed-by-giovanna-sardelli-2/2022-11-11/
LOCATION:Merrimack Repertory Theatre\, 50 E Merrimack St\, Lowell\, MA\, 01852\, United States
CATEGORIES:Annual & Special,Arts & Culture,Kids & Family,Live Performances
ATTACH;FMTTYPE=image/jpeg:https://revolutionaryvalley.org/wp-content/uploads/2018/09/MRT-September-Image.jpg
GEO:42.6450982;-71.3042176
X-APPLE-STRUCTURED-LOCATION;VALUE=URI;X-ADDRESS=Merrimack Repertory Theatre 50 E Merrimack St Lowell MA 01852 United States;X-APPLE-RADIUS=500;X-TITLE=50 E Merrimack St:geo:-71.3042176,42.6450982
END:VEVENT
BEGIN:VEVENT
DTSTART;TZID=America/New_York:20221111T200000
DTEND;TZID=America/New_York:20221111T220000
DTSTAMP:20260425T151249
CREATED:20220513T115753Z
LAST-MODIFIED:20220513T115753Z
UID:10023485-1668196800-1668204000@revolutionaryvalley.org
SUMMARY:Livingston Taylor & Tom Chapin
DESCRIPTION:Livingston Taylor picked up his first guitar at the age of 13\, which began a 50-year career that has encompassed performance\, songwriting\, and teaching. Born in Boston and raised in North Carolina\, Livingston is the fourth child in a very musical family that includes Alex\, James\, Kate\, and Hugh. Livingston recorded his first record at the age of 18 and has continued to create well crafted\, introspective\, and original songs that have earned him listeners worldwide. \nFrom top-40 hits “I Will Be in Love with You” and “I’ll Come Running\,” to “I Can Dream of You” and “Boatman\,” the last two recorded by his brother James\, Livingston’s creative output has continued unabated. His musical knowledge has inspired a varied repertoire\, and he is equally at home with a range of musical genres—folk\, pop\, gospel\, jazz—and from upbeat storytelling and touching ballads to full orchestra performances. \nIn a career that spans six decades\, 26 albums and three GRAMMY awards\, Hudson Valley Troubadour Tom Chapin has covered an incredible amount of creative ground. In addition to his work as a recording artist and concert performer\, Chapin has acted on Broadway\, as well as working extensively in television\, radio and film.  \nAs a music-maker\, the multi-talented singer/songwriter/guitarist has maintained two long and productive parallel careers\, both as a highly respected contemporary folk artist and as a pioneer in the field of children’s music. In both roles\, Chapin has established a reputation for insightful\, heartfelt songcraft and effortlessly charismatic live performances. He continues to engage the hearts\, minds and imaginations of young listeners with witty\, life-affirming original songs delivered in a sophisticated array of musical styles. In either format\, Chapin’s infectious songs\, sterling musicianship and personal warmth consistently shine through\, whether he’s performing on record or in a concert hall\, an outdoor festival\, a school\, in front of a symphony orchestra or in an intimate coffeehouse.
URL:https://revolutionaryvalley.org/event/livingston-taylor-tom-chapin/
LOCATION:MA
CATEGORIES:Arts & Culture,Live Performances
END:VEVENT
END:VCALENDAR