BEGIN:VCALENDAR
VERSION:2.0
PRODID:-//Revolutionary Valley Regional Tourism Council - ECPv6.15.0.1//NONSGML v1.0//EN
CALSCALE:GREGORIAN
METHOD:PUBLISH
X-ORIGINAL-URL:https://revolutionaryvalley.org
X-WR-CALDESC:Events for Revolutionary Valley Regional Tourism Council
REFRESH-INTERVAL;VALUE=DURATION:PT1H
X-Robots-Tag:noindex
X-PUBLISHED-TTL:PT1H
BEGIN:VTIMEZONE
TZID:America/New_York
BEGIN:DAYLIGHT
TZOFFSETFROM:-0500
TZOFFSETTO:-0400
TZNAME:EDT
DTSTART:20260308T070000
END:DAYLIGHT
BEGIN:STANDARD
TZOFFSETFROM:-0400
TZOFFSETTO:-0500
TZNAME:EST
DTSTART:20261101T060000
END:STANDARD
END:VTIMEZONE
BEGIN:VEVENT
DTSTART;TZID=America/New_York:20260430T170000
DTEND;TZID=America/New_York:20260502T000000
DTSTAMP:20260424T033950
CREATED:20260120T213539Z
LAST-MODIFIED:20260120T213601Z
UID:10071015-1777568400-1777680000@revolutionaryvalley.org
SUMMARY:The Town and The City Festival 2026
DESCRIPTION:This multi-day music and arts festival takes place in various event spaces\, bars\, cafes\, and galleries throughout downtown Lowell\, Massachusetts. The festival celebrates the spirit of Jack Kerouac in direct and indirect ways. It is named after Kerouac’s earliest novel which was primarily set in this historic mill city. The Town and The City Festival is inspired by the creativity and exploration for which the author was so famously known and will present a diverse mix of musical genres and artistic disciplines to inspire discovery and to celebrate a love of life.
URL:https://revolutionaryvalley.org/event/the-town-and-the-city-festival-2026/2026-04-30/
LOCATION:Warp and Weft\, Warp and Weft\, 197 Market St\, Lowell\, MA\, 01852\, United States
CATEGORIES:Annual & Special
ORGANIZER;CN="Town &amp%3B City Festival":MAILTO:chris@porterprod.com
GEO:42.6447877;-71.3121285
X-APPLE-STRUCTURED-LOCATION;VALUE=URI;X-ADDRESS=Warp and Weft Warp and Weft 197 Market St Lowell MA 01852 United States;X-APPLE-RADIUS=500;X-TITLE=Warp and Weft\, 197 Market St:geo:-71.3121285,42.6447877
END:VEVENT
BEGIN:VEVENT
DTSTART;TZID=America/New_York:20260501T153000
DTEND;TZID=America/New_York:20260501T193000
DTSTAMP:20260424T033950
CREATED:20260422T142342Z
LAST-MODIFIED:20260422T142342Z
UID:10071915-1777649400-1777663800@revolutionaryvalley.org
SUMMARY:Bessie’s Closet at Discovery Museum
DESCRIPTION:Friday\, May 1 through Sunday\, May 3 | Fri. 3:30 – 7:30pm; Sat. & Sun. 10am – 3pm\nFREE – Museum Admission Not Required\nBessie’s Closet is a free pop-up clothing store open to all members of our community. Supported by donations from our Museum community and beyond\, Bessie’s Closet offers new or gently-used clothing and shoes for both children and adults. Anyone who may benefit is welcome to visit Bessie’s Closet. Museum admission is not required\, but also not included. All items are available free of charge\, take what you need! Items available in Bessie’s Closet are dependent upon donations received.
URL:https://revolutionaryvalley.org/event/bessies-closet-at-discovery-museum-6/2026-05-01/
LOCATION:Discovery Museum\, Discovery Museum\, 177 Main St\, Acton\, MA\, 01720\, United States
ATTACH;FMTTYPE=image/jpeg:https://revolutionaryvalley.org/wp-content/uploads/2026/04/Bessies-closet-website-graphic_0.jpg
ORGANIZER;CN="Discovery Museum":MAILTO:fun@discoveryacton.org
GEO:42.464745;-71.4560492
X-APPLE-STRUCTURED-LOCATION;VALUE=URI;X-ADDRESS=Discovery Museum Discovery Museum 177 Main St Acton MA 01720 United States;X-APPLE-RADIUS=500;X-TITLE=Discovery Museum\, 177 Main St:geo:-71.4560492,42.464745
END:VEVENT
END:VCALENDAR