BEGIN:VCALENDAR
VERSION:2.0
PRODID:-//Revolutionary Valley Regional Tourism Council - ECPv6.15.0.1//NONSGML v1.0//EN
CALSCALE:GREGORIAN
METHOD:PUBLISH
X-WR-CALNAME:Revolutionary Valley Regional Tourism Council
X-ORIGINAL-URL:https://revolutionaryvalley.org
X-WR-CALDESC:Events for Revolutionary Valley Regional Tourism Council
REFRESH-INTERVAL;VALUE=DURATION:PT1H
X-Robots-Tag:noindex
X-PUBLISHED-TTL:PT1H
BEGIN:VTIMEZONE
TZID:America/New_York
BEGIN:DAYLIGHT
TZOFFSETFROM:-0500
TZOFFSETTO:-0400
TZNAME:EDT
DTSTART:20240310T070000
END:DAYLIGHT
BEGIN:STANDARD
TZOFFSETFROM:-0400
TZOFFSETTO:-0500
TZNAME:EST
DTSTART:20241103T060000
END:STANDARD
END:VTIMEZONE
BEGIN:VEVENT
DTSTART;TZID=America/New_York:20240421T190000
DTEND;TZID=America/New_York:20240421T203000
DTSTAMP:20260424T215142
CREATED:20240403T124512Z
LAST-MODIFIED:20240403T124512Z
UID:10053166-1713726000-1713731400@revolutionaryvalley.org
SUMMARY:Common Ground film showing at Luna Theater
DESCRIPTION:A hopeful and uplifting story of the pioneers of the “Regenerative Movement” who produce tremendous quantities of nutritionally dense food and are working to balance the climate – all while bringing our entire ecosystem back to life. The film explores how Americans from different walks of life\, different political backgrounds\, and different parts of the country share one thing in common –the very soil beneath their feet. The film investigates the power of “regenerative” farming systems –from large to small-scale farmers who are the champions of soil health as the key to unlocking more (and healthier) food to feed America and the world. \nCast includes Laura Dern\, Rosario Dawson\, Jason Mamoa\, Woody Harrelson\, Ian Somerhalder\, and Donald Glover. \nTickets: $14 for Premium seating\, $12 for Students/Seniors\, $10 for Barstool seating Tickets on sale: https://lunalowell.com/movies/common-ground/ \nSponsored by 350 of Greater Lowell. Panel discussion to follow film. \n“FASCINATING.” – RogerEbert.com\n“AIMS TO SPARK A CULTURAL AND POLITICAL MOVEMENT.” – Forbes\n“THE KEY TO SAVING OUR PLANET MAY BE IN THE SOIL.” – Film Inquiry\n“NEEDS TO BE SEEN BY EVERYONE.” – Digital Journal \nYouTube Trailer: https://youtu.be/6-M4Hq0MKFA?si=HNW7Q99Mfu1HUrJz
URL:https://revolutionaryvalley.org/event/common-ground-film-showing-at-luna-theater/
LOCATION:The Luna Theater\, The Luna Theater\, Mill No 5\, 250 Jackson St 4th floor\, No. 490\, Lowell\, MA\, 01852\, United States
CATEGORIES:Agricultural,Talks and Film
ATTACH;FMTTYPE=image/jpeg:https://revolutionaryvalley.org/wp-content/uploads/2024/04/Common-Ground-Film-Theatrical-Poster.jpg
GEO:42.6412734;-71.3127928
X-APPLE-STRUCTURED-LOCATION;VALUE=URI;X-ADDRESS=The Luna Theater The Luna Theater Mill No 5 250 Jackson St 4th floor No. 490 Lowell MA 01852 United States;X-APPLE-RADIUS=500;X-TITLE=The Luna Theater\, Mill No 5\, 250 Jackson St 4th floor\, No. 490:geo:-71.3127928,42.6412734
END:VEVENT
END:VCALENDAR