BEGIN:VCALENDAR
VERSION:2.0
PRODID:-//Revolutionary Valley Regional Tourism Council - ECPv6.15.0.1//NONSGML v1.0//EN
CALSCALE:GREGORIAN
METHOD:PUBLISH
X-ORIGINAL-URL:https://revolutionaryvalley.org
X-WR-CALDESC:Events for Revolutionary Valley Regional Tourism Council
REFRESH-INTERVAL;VALUE=DURATION:PT1H
X-Robots-Tag:noindex
X-PUBLISHED-TTL:PT1H
BEGIN:VTIMEZONE
TZID:America/New_York
BEGIN:DAYLIGHT
TZOFFSETFROM:-0500
TZOFFSETTO:-0400
TZNAME:EDT
DTSTART:20240310T070000
END:DAYLIGHT
BEGIN:STANDARD
TZOFFSETFROM:-0400
TZOFFSETTO:-0500
TZNAME:EST
DTSTART:20241103T060000
END:STANDARD
END:VTIMEZONE
BEGIN:VEVENT
DTSTART;TZID=America/New_York:20240913T130000
DTEND;TZID=America/New_York:20240913T150000
DTSTAMP:20260420T214941
CREATED:20240809T141025Z
LAST-MODIFIED:20240809T141025Z
UID:10057163-1726232400-1726239600@revolutionaryvalley.org
SUMMARY:Backyard and Beyond: Seed Investigation at Discovery Museum
DESCRIPTION:Late Summer/early Fall is the time when many trees and plants release their seeds to grow a new generation. These seeds have some ingenious ways of getting where they need to go. Some tempt animals to eat them\, which gives them a free ride and provides fertilizer at the same time! Some parachute from trees\, float on the air or water\, or shoot out from seed pods like missiles. Join us to see what kinds of seeds we can find in Discovery Woods and on the Great Hill Conservation Land! Please note that the conservation land trails are not ADA or stroller accessible; please wear appropriate footwear and clothing. For more information on Great Hill\, please visit trails.actonma.gov. Inclement weather may result in changes to the program or cancellation.
URL:https://revolutionaryvalley.org/event/backyard-and-beyond-seed-investigation-at-discovery-museum/
LOCATION:Discovery Museum\, Discovery Museum\, 177 Main St\, Acton\, MA\, 01720\, United States
CATEGORIES:Agricultural,Annual & Special,Free Events,Kids & Family
ATTACH;FMTTYPE=image/jpeg:https://revolutionaryvalley.org/wp-content/uploads/2024/08/Seedpod_Wikimedia.jpg
ORGANIZER;CN="Discovery Museum":MAILTO:fun@discoveryacton.org
GEO:42.464745;-71.4560492
X-APPLE-STRUCTURED-LOCATION;VALUE=URI;X-ADDRESS=Discovery Museum Discovery Museum 177 Main St Acton MA 01720 United States;X-APPLE-RADIUS=500;X-TITLE=Discovery Museum\, 177 Main St:geo:-71.4560492,42.464745
END:VEVENT
BEGIN:VEVENT
DTSTART;TZID=America/New_York:20240928T100000
DTEND;TZID=America/New_York:20240929T170000
DTSTAMP:20260420T214941
CREATED:20240920T131407Z
LAST-MODIFIED:20240920T131443Z
UID:10057472-1727517600-1727629200@revolutionaryvalley.org
SUMMARY:National Alpaca Farm Days
DESCRIPTION:Join us in celebrating our eighth anniversary at National Alpaca Farm Days. In addition to hosting tours of the farm all day on Saturday and Sunday\, we are very excited to once again welcome The Fat Rooster food truck to the farm. We will have live music and a mini farmers market on Saturday and fiber art demonstrations on both days. We will be welcoming Lost Shoe Brewery on Sunday for a beer garden at the Ranch. We will also have kids activities\, special sales\, and giveaways all weekend. Come out and help us celebrate our wonderful herd of 34 alpacas!! Please book ahead if you want to take a tour (https://harvard-alpaca-ranch.square.site/s/appointments) . Otherwise\, just drop in! No charge to enter but donations are encouraged! THIS IS A RAIN OR SHINE EVENT – We will have tents and various building to take cover in\, as needed.
URL:https://revolutionaryvalley.org/event/national-alpaca-farm-days-2/
LOCATION:Harvard Alpaca Ranch\, 58 Old Mill Road\, Harvard\, MA\, 01451\, United States
CATEGORIES:Agricultural,Annual & Special,Free Events,Kids & Family,Outdoors
ATTACH;FMTTYPE=image/jpeg:https://revolutionaryvalley.org/wp-content/uploads/2024/09/NAFD.jpg
ORGANIZER;CN="Harvard Alpaca Ranch":MAILTO:harvardalpacas@gmail.com
GEO:42.536035;-71.5868837
X-APPLE-STRUCTURED-LOCATION;VALUE=URI;X-ADDRESS=Harvard Alpaca Ranch 58 Old Mill Road Harvard MA 01451 United States;X-APPLE-RADIUS=500;X-TITLE=58 Old Mill Road:geo:-71.5868837,42.536035
END:VEVENT
END:VCALENDAR