BEGIN:VCALENDAR
VERSION:2.0
PRODID:-//Revolutionary Valley Regional Tourism Council - ECPv6.15.0.1//NONSGML v1.0//EN
CALSCALE:GREGORIAN
METHOD:PUBLISH
X-WR-CALNAME:Revolutionary Valley Regional Tourism Council
X-ORIGINAL-URL:https://revolutionaryvalley.org
X-WR-CALDESC:Events for Revolutionary Valley Regional Tourism Council
REFRESH-INTERVAL;VALUE=DURATION:PT1H
X-Robots-Tag:noindex
X-PUBLISHED-TTL:PT1H
BEGIN:VTIMEZONE
TZID:America/New_York
BEGIN:DAYLIGHT
TZOFFSETFROM:-0500
TZOFFSETTO:-0400
TZNAME:EDT
DTSTART:20230312T070000
END:DAYLIGHT
BEGIN:STANDARD
TZOFFSETFROM:-0400
TZOFFSETTO:-0500
TZNAME:EST
DTSTART:20231105T060000
END:STANDARD
END:VTIMEZONE
BEGIN:VEVENT
DTSTART;TZID=America/New_York:20231007T090000
DTEND;TZID=America/New_York:20231007T163000
DTSTAMP:20260420T061940
CREATED:20230912T190943Z
LAST-MODIFIED:20230912T190943Z
UID:10035401-1696669200-1696696200@revolutionaryvalley.org
SUMMARY:Discovery Museum Reflection Room: Whose Land are We On?
DESCRIPTION:October 10th is Indigenous People’s Day\, a day to honor and celebrate Native American Peoples. Join us as we explore a variety of stories written by Indigenous authors to learn more about Native histories and cultures. Take a closer look at a map of New England to see where the tribal territories overlay the borders that we know as our current cities and towns. Then\, add a mark to the map where you live to find out whose land we are really on.
URL:https://revolutionaryvalley.org/event/discovery-museum-reflection-room-whose-land-are-we-on/2023-10-07/
LOCATION:Discovery Museum\, Discovery Museum\, 177 Main St\, Acton\, MA\, 01720\, United States
CATEGORIES:Annual & Special
ORGANIZER;CN="Discovery Museum":MAILTO:fun@discoveryacton.org
GEO:42.464745;-71.4560492
X-APPLE-STRUCTURED-LOCATION;VALUE=URI;X-ADDRESS=Discovery Museum Discovery Museum 177 Main St Acton MA 01720 United States;X-APPLE-RADIUS=500;X-TITLE=Discovery Museum\, 177 Main St:geo:-71.4560492,42.464745
END:VEVENT
BEGIN:VEVENT
DTSTART;TZID=America/New_York:20231008T090000
DTEND;TZID=America/New_York:20231008T163000
DTSTAMP:20260420T061940
CREATED:20230912T190943Z
LAST-MODIFIED:20230912T190943Z
UID:10035402-1696755600-1696782600@revolutionaryvalley.org
SUMMARY:Discovery Museum Reflection Room: Whose Land are We On?
DESCRIPTION:October 10th is Indigenous People’s Day\, a day to honor and celebrate Native American Peoples. Join us as we explore a variety of stories written by Indigenous authors to learn more about Native histories and cultures. Take a closer look at a map of New England to see where the tribal territories overlay the borders that we know as our current cities and towns. Then\, add a mark to the map where you live to find out whose land we are really on.
URL:https://revolutionaryvalley.org/event/discovery-museum-reflection-room-whose-land-are-we-on/2023-10-08/
LOCATION:Discovery Museum\, Discovery Museum\, 177 Main St\, Acton\, MA\, 01720\, United States
CATEGORIES:Annual & Special
ORGANIZER;CN="Discovery Museum":MAILTO:fun@discoveryacton.org
GEO:42.464745;-71.4560492
X-APPLE-STRUCTURED-LOCATION;VALUE=URI;X-ADDRESS=Discovery Museum Discovery Museum 177 Main St Acton MA 01720 United States;X-APPLE-RADIUS=500;X-TITLE=Discovery Museum\, 177 Main St:geo:-71.4560492,42.464745
END:VEVENT
BEGIN:VEVENT
DTSTART;TZID=America/New_York:20231009T090000
DTEND;TZID=America/New_York:20231009T163000
DTSTAMP:20260420T061940
CREATED:20230912T190943Z
LAST-MODIFIED:20230912T190943Z
UID:10035403-1696842000-1696869000@revolutionaryvalley.org
SUMMARY:Discovery Museum Reflection Room: Whose Land are We On?
DESCRIPTION:October 10th is Indigenous People’s Day\, a day to honor and celebrate Native American Peoples. Join us as we explore a variety of stories written by Indigenous authors to learn more about Native histories and cultures. Take a closer look at a map of New England to see where the tribal territories overlay the borders that we know as our current cities and towns. Then\, add a mark to the map where you live to find out whose land we are really on.
URL:https://revolutionaryvalley.org/event/discovery-museum-reflection-room-whose-land-are-we-on/2023-10-09/
LOCATION:Discovery Museum\, Discovery Museum\, 177 Main St\, Acton\, MA\, 01720\, United States
CATEGORIES:Annual & Special
ORGANIZER;CN="Discovery Museum":MAILTO:fun@discoveryacton.org
GEO:42.464745;-71.4560492
X-APPLE-STRUCTURED-LOCATION;VALUE=URI;X-ADDRESS=Discovery Museum Discovery Museum 177 Main St Acton MA 01720 United States;X-APPLE-RADIUS=500;X-TITLE=Discovery Museum\, 177 Main St:geo:-71.4560492,42.464745
END:VEVENT
BEGIN:VEVENT
DTSTART;TZID=America/New_York:20231020T163000
DTEND;TZID=America/New_York:20231020T210000
DTSTAMP:20260420T061940
CREATED:20231019T194237Z
LAST-MODIFIED:20231019T194237Z
UID:10041609-1697819400-1697835600@revolutionaryvalley.org
SUMMARY:Second Annual Lowell Asian American Film Festival
DESCRIPTION:Middlesex Community College and the City of Lowell are thrilled to host the Second Annual Lowell Asian American Film Festival. This FREE 3 day weekend film festival features Asian American directed films from across the country for a weekend of celebrating art culture and diversity. Guests are also invited to the festival’s opening reception Friday\, October 20 which will feature live DJ\, traditional Khmer dance and music performances\, and delicious Asian food. \nLocation:\nMCC’s Richard and Nancy Donahue Family Academic Arts Center\n240 Central St\, Lowell\, MA 01852 \nLink to Second Annual Lowell Asian American Film Festival:\nhttps:/www.middlesex.mass.edu/laaff/default.aspx
URL:https://revolutionaryvalley.org/event/second-annual-lowell-asian-american-film-festival/2023-10-20/
CATEGORIES:Annual & Special,Arts & Culture
END:VEVENT
BEGIN:VEVENT
DTSTART;VALUE=DATE:20231021
DTEND;VALUE=DATE:20231022
DTSTAMP:20260420T061940
CREATED:20230907T154112Z
LAST-MODIFIED:20231101T144150Z
UID:10035347-1697846400-1697932799@revolutionaryvalley.org
SUMMARY:Santa Experience
DESCRIPTION:A Santa Visit unlike any Santa visit your child has ever experienced!! \nFrom the first glimpse of Santa to finding their name on his nice list\, children are transported into Santa’s Magic world. \nDuring your visit\, the kids will explore Santa’s workshop\, help him make toys and even plan his trip around the globe. \nThe Santa Experience creates memories that will last a lifetime. Our photographers will capture each moment for you to enjoy forever.\nTreasure these memories in beautiful photos or create a storybook featuring your child’s visit.
URL:https://revolutionaryvalley.org/event/santa-experience/2023-10-21/
LOCATION:Luciana Calvin Photography Studio\, 21 Central Square\, Chelmsford\, MA\, 01824\, United States
CATEGORIES:Annual & Special,Kids & Family
ORGANIZER;CN="Luciana Calvin Photography":MAILTO:lcalvin@lucianacalvin.com
GEO:42.5961081;-71.3522182
X-APPLE-STRUCTURED-LOCATION;VALUE=URI;X-ADDRESS=Luciana Calvin Photography Studio 21 Central Square Chelmsford MA 01824 United States;X-APPLE-RADIUS=500;X-TITLE=21 Central Square:geo:-71.3522182,42.5961081
END:VEVENT
BEGIN:VEVENT
DTSTART;TZID=America/New_York:20231021T120000
DTEND;TZID=America/New_York:20231021T190000
DTSTAMP:20260420T061940
CREATED:20231019T194237Z
LAST-MODIFIED:20231019T194237Z
UID:10041610-1697889600-1697914800@revolutionaryvalley.org
SUMMARY:Second Annual Lowell Asian American Film Festival
DESCRIPTION:Middlesex Community College and the City of Lowell are thrilled to host the Second Annual Lowell Asian American Film Festival. This FREE 3 day weekend film festival features Asian American directed films from across the country for a weekend of celebrating art culture and diversity. Guests are also invited to the festival’s opening reception Friday\, October 20 which will feature live DJ\, traditional Khmer dance and music performances\, and delicious Asian food. \nLocation:\nMCC’s Richard and Nancy Donahue Family Academic Arts Center\n240 Central St\, Lowell\, MA 01852 \nLink to Second Annual Lowell Asian American Film Festival:\nhttps:/www.middlesex.mass.edu/laaff/default.aspx
URL:https://revolutionaryvalley.org/event/second-annual-lowell-asian-american-film-festival/2023-10-21/
CATEGORIES:Annual & Special,Arts & Culture
END:VEVENT
BEGIN:VEVENT
DTSTART;TZID=America/New_York:20231022T120000
DTEND;TZID=America/New_York:20231022T200000
DTSTAMP:20260420T061940
CREATED:20231019T194237Z
LAST-MODIFIED:20231019T194237Z
UID:10041611-1697976000-1698004800@revolutionaryvalley.org
SUMMARY:Second Annual Lowell Asian American Film Festival
DESCRIPTION:Middlesex Community College and the City of Lowell are thrilled to host the Second Annual Lowell Asian American Film Festival. This FREE 3 day weekend film festival features Asian American directed films from across the country for a weekend of celebrating art culture and diversity. Guests are also invited to the festival’s opening reception Friday\, October 20 which will feature live DJ\, traditional Khmer dance and music performances\, and delicious Asian food. \nLocation:\nMCC’s Richard and Nancy Donahue Family Academic Arts Center\n240 Central St\, Lowell\, MA 01852 \nLink to Second Annual Lowell Asian American Film Festival:\nhttps:/www.middlesex.mass.edu/laaff/default.aspx
URL:https://revolutionaryvalley.org/event/second-annual-lowell-asian-american-film-festival/2023-10-22/
CATEGORIES:Annual & Special,Arts & Culture
END:VEVENT
BEGIN:VEVENT
DTSTART;TZID=America/New_York:20231028T100000
DTEND;TZID=America/New_York:20231028T130000
DTSTAMP:20260420T061940
CREATED:20230912T190654Z
LAST-MODIFIED:20230912T190654Z
UID:10035404-1698487200-1698498000@revolutionaryvalley.org
SUMMARY:Halloween Hullabaloo
DESCRIPTION:Join us as we celebrate Halloween weekend! Dress for the occasion and give your Halloween costume the chance to spook\, sparkle\, and shine. Challenge yourself to a few holes of Pumpkin Putt Putt and other outdoor games with a frightfully fun twist. Use your powers of observation on a Spooktacular Scavenger Hunt and expect other ghostly surprises to pop up around the Museum! Some outdoor activities will be weather dependent.
URL:https://revolutionaryvalley.org/event/halloween-hullabaloo/2023-10-28/
LOCATION:Discovery Museum\, Discovery Museum\, 177 Main St\, Acton\, MA\, 01720\, United States
CATEGORIES:Annual & Special
ORGANIZER;CN="Discovery Museum":MAILTO:fun@discoveryacton.org
GEO:42.464745;-71.4560492
X-APPLE-STRUCTURED-LOCATION;VALUE=URI;X-ADDRESS=Discovery Museum Discovery Museum 177 Main St Acton MA 01720 United States;X-APPLE-RADIUS=500;X-TITLE=Discovery Museum\, 177 Main St:geo:-71.4560492,42.464745
END:VEVENT
BEGIN:VEVENT
DTSTART;TZID=America/New_York:20231029T100000
DTEND;TZID=America/New_York:20231029T130000
DTSTAMP:20260420T061940
CREATED:20230912T190654Z
LAST-MODIFIED:20230912T190654Z
UID:10035405-1698573600-1698584400@revolutionaryvalley.org
SUMMARY:Halloween Hullabaloo
DESCRIPTION:Join us as we celebrate Halloween weekend! Dress for the occasion and give your Halloween costume the chance to spook\, sparkle\, and shine. Challenge yourself to a few holes of Pumpkin Putt Putt and other outdoor games with a frightfully fun twist. Use your powers of observation on a Spooktacular Scavenger Hunt and expect other ghostly surprises to pop up around the Museum! Some outdoor activities will be weather dependent.
URL:https://revolutionaryvalley.org/event/halloween-hullabaloo/2023-10-29/
LOCATION:Discovery Museum\, Discovery Museum\, 177 Main St\, Acton\, MA\, 01720\, United States
CATEGORIES:Annual & Special
ORGANIZER;CN="Discovery Museum":MAILTO:fun@discoveryacton.org
GEO:42.464745;-71.4560492
X-APPLE-STRUCTURED-LOCATION;VALUE=URI;X-ADDRESS=Discovery Museum Discovery Museum 177 Main St Acton MA 01720 United States;X-APPLE-RADIUS=500;X-TITLE=Discovery Museum\, 177 Main St:geo:-71.4560492,42.464745
END:VEVENT
BEGIN:VEVENT
DTSTART;TZID=America/New_York:20231031T100000
DTEND;TZID=America/New_York:20231031T130000
DTSTAMP:20260420T061940
CREATED:20230912T190654Z
LAST-MODIFIED:20230912T190654Z
UID:10035406-1698746400-1698757200@revolutionaryvalley.org
SUMMARY:Halloween Hullabaloo
DESCRIPTION:Join us as we celebrate Halloween weekend! Dress for the occasion and give your Halloween costume the chance to spook\, sparkle\, and shine. Challenge yourself to a few holes of Pumpkin Putt Putt and other outdoor games with a frightfully fun twist. Use your powers of observation on a Spooktacular Scavenger Hunt and expect other ghostly surprises to pop up around the Museum! Some outdoor activities will be weather dependent.
URL:https://revolutionaryvalley.org/event/halloween-hullabaloo/2023-10-31/
LOCATION:Discovery Museum\, Discovery Museum\, 177 Main St\, Acton\, MA\, 01720\, United States
CATEGORIES:Annual & Special
ORGANIZER;CN="Discovery Museum":MAILTO:fun@discoveryacton.org
GEO:42.464745;-71.4560492
X-APPLE-STRUCTURED-LOCATION;VALUE=URI;X-ADDRESS=Discovery Museum Discovery Museum 177 Main St Acton MA 01720 United States;X-APPLE-RADIUS=500;X-TITLE=Discovery Museum\, 177 Main St:geo:-71.4560492,42.464745
END:VEVENT
END:VCALENDAR