BEGIN:VCALENDAR
VERSION:2.0
PRODID:-//Revolutionary Valley Regional Tourism Council - ECPv6.15.0.1//NONSGML v1.0//EN
CALSCALE:GREGORIAN
METHOD:PUBLISH
X-ORIGINAL-URL:https://revolutionaryvalley.org
X-WR-CALDESC:Events for Revolutionary Valley Regional Tourism Council
REFRESH-INTERVAL;VALUE=DURATION:PT1H
X-Robots-Tag:noindex
X-PUBLISHED-TTL:PT1H
BEGIN:VTIMEZONE
TZID:America/New_York
BEGIN:DAYLIGHT
TZOFFSETFROM:-0500
TZOFFSETTO:-0400
TZNAME:EDT
DTSTART:20240310T070000
END:DAYLIGHT
BEGIN:STANDARD
TZOFFSETFROM:-0400
TZOFFSETTO:-0500
TZNAME:EST
DTSTART:20241103T060000
END:STANDARD
END:VTIMEZONE
BEGIN:VEVENT
DTSTART;TZID=America/New_York:20240907T170000
DTEND;TZID=America/New_York:20240907T190000
DTSTAMP:20260420T102556
CREATED:20240722T131549Z
LAST-MODIFIED:20240722T131549Z
UID:10057091-1725728400-1725735600@revolutionaryvalley.org
SUMMARY:Return to Journey's End
DESCRIPTION:In 1915\, Josiah Hayden turned his estate\, Journey’s End\, into an amphitheater to host a grand pageant for a crowd of 6\,500. This massive town celebration showcased Lexington’s illustrious past through music\, theater\, and dance. \nNow\, journey back to 1915\, to the exact location of the pageant! Guests will tour Hayden’s home and two of the original 60 acres where the pageant took place. \nPrelude Tour Plus Return to Journey’s End:\nEnjoy a special and intimate tour of Journey’s End with the homeowners at 4:00 PM\, followed by the main event. Strictly limited to 15 people.\n$160 per person \nReturn to Journey’s End Early Bird Tickets\nThrough July 31st\n$100 per person \nReturn to Journey’s End Standard Tickets\nSales end August 31st\n$130 per person \nVenue and further information will be sent upon registration. Please ignore any pickup instructions at checkout; your email receipt is your ticket and we will have your name at the door.
URL:https://revolutionaryvalley.org/event/return-to-journeys-end/
LOCATION:Lexington Historical Society\, Lexington Historical Society\, 13 Depot Square\, Lexington\, MA\, 02420\, United States
CATEGORIES:Annual & Special,Historical
ATTACH;FMTTYPE=image/png:https://revolutionaryvalley.org/wp-content/uploads/2024/07/journeys-end.png
GEO:42.4485967;-71.227977
X-APPLE-STRUCTURED-LOCATION;VALUE=URI;X-ADDRESS=Lexington Historical Society Lexington Historical Society 13 Depot Square Lexington MA 02420 United States;X-APPLE-RADIUS=500;X-TITLE=Lexington Historical Society\, 13 Depot Square:geo:-71.227977,42.4485967
END:VEVENT
BEGIN:VEVENT
DTSTART;TZID=America/New_York:20240913T130000
DTEND;TZID=America/New_York:20240913T150000
DTSTAMP:20260420T102556
CREATED:20240809T141025Z
LAST-MODIFIED:20240809T141025Z
UID:10057163-1726232400-1726239600@revolutionaryvalley.org
SUMMARY:Backyard and Beyond: Seed Investigation at Discovery Museum
DESCRIPTION:Late Summer/early Fall is the time when many trees and plants release their seeds to grow a new generation. These seeds have some ingenious ways of getting where they need to go. Some tempt animals to eat them\, which gives them a free ride and provides fertilizer at the same time! Some parachute from trees\, float on the air or water\, or shoot out from seed pods like missiles. Join us to see what kinds of seeds we can find in Discovery Woods and on the Great Hill Conservation Land! Please note that the conservation land trails are not ADA or stroller accessible; please wear appropriate footwear and clothing. For more information on Great Hill\, please visit trails.actonma.gov. Inclement weather may result in changes to the program or cancellation.
URL:https://revolutionaryvalley.org/event/backyard-and-beyond-seed-investigation-at-discovery-museum/
LOCATION:Discovery Museum\, Discovery Museum\, 177 Main St\, Acton\, MA\, 01720\, United States
CATEGORIES:Agricultural,Annual & Special,Free Events,Kids & Family
ATTACH;FMTTYPE=image/jpeg:https://revolutionaryvalley.org/wp-content/uploads/2024/08/Seedpod_Wikimedia.jpg
ORGANIZER;CN="Discovery Museum":MAILTO:fun@discoveryacton.org
GEO:42.464745;-71.4560492
X-APPLE-STRUCTURED-LOCATION;VALUE=URI;X-ADDRESS=Discovery Museum Discovery Museum 177 Main St Acton MA 01720 United States;X-APPLE-RADIUS=500;X-TITLE=Discovery Museum\, 177 Main St:geo:-71.4560492,42.464745
END:VEVENT
BEGIN:VEVENT
DTSTART;TZID=America/New_York:20240921T090000
DTEND;TZID=America/New_York:20240921T160000
DTSTAMP:20260420T102556
CREATED:20240820T201223Z
LAST-MODIFIED:20240820T201642Z
UID:10057176-1726909200-1726934400@revolutionaryvalley.org
SUMMARY:Lowell Kinetic Sculpture Race 2024
DESCRIPTION:Kinetic Sculptures are all-terrain\, human-powered\, art sculptures\, engineered to race over road\, water\, mud and sand. Kinetic sculptures are amazing works of art; many are animated with moving parts like blinking eyes\, opening mouths\, heads that move side to side and up and down. These machines of art are usually made from what some people consider “junk” or better put\, recycled materials. Each kinetic team has a theme and consist of pilots\, pit crew and support crew. Spectators are encouraged to either watch from the sidelines or follow the race on their bikes (obeying all traffic laws that apply). \n 
URL:https://revolutionaryvalley.org/event/lowell-kinetic-sculpture-race-2024/
LOCATION:Market Street\, Market Street\, Lowell\, Massachusetts\, 01852\, United States
CATEGORIES:Annual & Special,Arts & Culture,Featured,Free Events,Kids & Family,Outdoors
ATTACH;FMTTYPE=image/png:https://revolutionaryvalley.org/wp-content/uploads/2024/08/Screenshot-2024-08-20-at-4.15.24 PM.png
GEO:42.6455319;-71.3149273
X-APPLE-STRUCTURED-LOCATION;VALUE=URI;X-ADDRESS=Market Street Market Street Lowell Massachusetts 01852 United States;X-APPLE-RADIUS=500;X-TITLE=Market Street:geo:-71.3149273,42.6455319
END:VEVENT
BEGIN:VEVENT
DTSTART;TZID=America/New_York:20240921T100000
DTEND;TZID=America/New_York:20240921T160000
DTSTAMP:20260420T102556
CREATED:20240903T192623Z
LAST-MODIFIED:20240903T192623Z
UID:10057198-1726912800-1726934400@revolutionaryvalley.org
SUMMARY:31st Annual Arts and Crafts Festival
DESCRIPTION:Join 60 artisans from all over New England to shop and be insprited by their talents!
URL:https://revolutionaryvalley.org/event/31st-annual-arts-and-crafts-festival/
LOCATION:Lawn of the Lexington Visitors Center\, 1875 Mass Ave\, Lexington\, MA\, 02420\, United States
CATEGORIES:Annual & Special,Arts & Culture,Fairs & Festivals
ATTACH;FMTTYPE=image/jpeg:https://revolutionaryvalley.org/wp-content/uploads/2024/09/a-and-c-insta.jpg
GEO:42.4485035;-71.2293135
X-APPLE-STRUCTURED-LOCATION;VALUE=URI;X-ADDRESS=Lawn of the Lexington Visitors Center 1875 Mass Ave Lexington MA 02420 United States;X-APPLE-RADIUS=500;X-TITLE=1875 Mass Ave:geo:-71.2293135,42.4485035
END:VEVENT
BEGIN:VEVENT
DTSTART;TZID=America/New_York:20240928T100000
DTEND;TZID=America/New_York:20240929T170000
DTSTAMP:20260420T102556
CREATED:20240920T131407Z
LAST-MODIFIED:20240920T131443Z
UID:10057472-1727517600-1727629200@revolutionaryvalley.org
SUMMARY:National Alpaca Farm Days
DESCRIPTION:Join us in celebrating our eighth anniversary at National Alpaca Farm Days. In addition to hosting tours of the farm all day on Saturday and Sunday\, we are very excited to once again welcome The Fat Rooster food truck to the farm. We will have live music and a mini farmers market on Saturday and fiber art demonstrations on both days. We will be welcoming Lost Shoe Brewery on Sunday for a beer garden at the Ranch. We will also have kids activities\, special sales\, and giveaways all weekend. Come out and help us celebrate our wonderful herd of 34 alpacas!! Please book ahead if you want to take a tour (https://harvard-alpaca-ranch.square.site/s/appointments) . Otherwise\, just drop in! No charge to enter but donations are encouraged! THIS IS A RAIN OR SHINE EVENT – We will have tents and various building to take cover in\, as needed.
URL:https://revolutionaryvalley.org/event/national-alpaca-farm-days-2/
LOCATION:Harvard Alpaca Ranch\, 58 Old Mill Road\, Harvard\, MA\, 01451\, United States
CATEGORIES:Agricultural,Annual & Special,Free Events,Kids & Family,Outdoors
ATTACH;FMTTYPE=image/jpeg:https://revolutionaryvalley.org/wp-content/uploads/2024/09/NAFD.jpg
ORGANIZER;CN="Harvard Alpaca Ranch":MAILTO:harvardalpacas@gmail.com
GEO:42.536035;-71.5868837
X-APPLE-STRUCTURED-LOCATION;VALUE=URI;X-ADDRESS=Harvard Alpaca Ranch 58 Old Mill Road Harvard MA 01451 United States;X-APPLE-RADIUS=500;X-TITLE=58 Old Mill Road:geo:-71.5868837,42.536035
END:VEVENT
BEGIN:VEVENT
DTSTART;TZID=America/New_York:20240928T180000
DTEND;TZID=America/New_York:20240928T220000
DTSTAMP:20260420T102556
CREATED:20240809T153455Z
LAST-MODIFIED:20240809T153455Z
UID:10057168-1727546400-1727560800@revolutionaryvalley.org
SUMMARY:Discovery Gala 2024 at Discovery Museum
DESCRIPTION:Discovery Museum is the proud recipient of a 2024 IMLS National Medal—the nation’s highest honor for museums. This is in no small part due to you\, our supporters.\nLet’s celebrate together at Discovery Gala 2024!\nOne great night to celebrate and make a difference for kids and families!\nTicket prices start at $125.
URL:https://revolutionaryvalley.org/event/discovery-gala-2024-at-discovery-museum/
LOCATION:Discovery Museum\, Discovery Museum\, 177 Main St\, Acton\, MA\, 01720\, United States
CATEGORIES:Annual & Special,Kids & Family
ATTACH;FMTTYPE=image/png:https://revolutionaryvalley.org/wp-content/uploads/2024/08/Sq-social-graphic-Gala-2024.png
ORGANIZER;CN="Discovery Museum":MAILTO:fun@discoveryacton.org
GEO:42.464745;-71.4560492
X-APPLE-STRUCTURED-LOCATION;VALUE=URI;X-ADDRESS=Discovery Museum Discovery Museum 177 Main St Acton MA 01720 United States;X-APPLE-RADIUS=500;X-TITLE=Discovery Museum\, 177 Main St:geo:-71.4560492,42.464745
END:VEVENT
END:VCALENDAR