BEGIN:VCALENDAR
VERSION:2.0
PRODID:-//Revolutionary Valley Regional Tourism Council - ECPv6.15.0.1//NONSGML v1.0//EN
CALSCALE:GREGORIAN
METHOD:PUBLISH
X-ORIGINAL-URL:https://revolutionaryvalley.org
X-WR-CALDESC:Events for Revolutionary Valley Regional Tourism Council
REFRESH-INTERVAL;VALUE=DURATION:PT1H
X-Robots-Tag:noindex
X-PUBLISHED-TTL:PT1H
BEGIN:VTIMEZONE
TZID:America/New_York
BEGIN:DAYLIGHT
TZOFFSETFROM:-0500
TZOFFSETTO:-0400
TZNAME:EDT
DTSTART:20240310T070000
END:DAYLIGHT
BEGIN:STANDARD
TZOFFSETFROM:-0400
TZOFFSETTO:-0500
TZNAME:EST
DTSTART:20241103T060000
END:STANDARD
END:VTIMEZONE
BEGIN:VEVENT
DTSTART;TZID=America/New_York:20241006T090000
DTEND;TZID=America/New_York:20241006T113000
DTSTAMP:20260420T071458
CREATED:20240930T135317Z
LAST-MODIFIED:20240930T162833Z
UID:10057924-1728205200-1728214200@revolutionaryvalley.org
SUMMARY:Steps Against Melanoma - Chelmsford
DESCRIPTION:For 17 years\, AIM at Melanoma’s walks have been a symbol of hope and support for our community. These walks are also the number one way we raise funds to end melanoma\, and your participation makes all the difference. The money you raise goes to AIM’s groundbreaking research initiatives like our International Melanoma Tissue Bank Consortium. \nJoin us\, along with others who have been touched by melanoma for a special event day. Let’s come together for one day—all with ONE common goal…ENDING MELANOMA.
URL:https://revolutionaryvalley.org/event/steps-against-melanoma-chelmsford/
LOCATION:Byam Elementary School\, Maple Road\, Chelmsford\, Massachusetts\, 01824\, United States
CATEGORIES:Annual & Special,Free Events,Kids & Family,Outdoors
ATTACH;FMTTYPE=image/jpeg:https://revolutionaryvalley.org/wp-content/uploads/2024/09/salt-lake-city-2023.jpg
GEO:42.573915;-71.382227
X-APPLE-STRUCTURED-LOCATION;VALUE=URI;X-ADDRESS=Byam Elementary School Maple Road Chelmsford Massachusetts 01824 United States;X-APPLE-RADIUS=500;X-TITLE=Maple Road:geo:-71.382227,42.573915
END:VEVENT
BEGIN:VEVENT
DTSTART;TZID=America/New_York:20241018T180000
DTEND;TZID=America/New_York:20241018T200000
DTSTAMP:20260420T071458
CREATED:20231212T191136Z
LAST-MODIFIED:20231212T191136Z
UID:10046218-1729274400-1729281600@revolutionaryvalley.org
SUMMARY:Monsterbash at NARA
DESCRIPTION:Blacklight DJ Dance Party.\nCostumes encouraged.\nBring your own flashlight and candy bag.\nGeared to elementary aged children\n$5 for all persons in attendance over age 2
URL:https://revolutionaryvalley.org/event/monsterbash-at-nara/
LOCATION:NARA Park\, Nara Park\, 25 Ledge Rock Way\, Acton\, MA\, 01720\, United States
CATEGORIES:Annual & Special,Arts & Culture,Featured,Kids & Family,Outdoors
ATTACH;FMTTYPE=image/jpeg:https://revolutionaryvalley.org/wp-content/uploads/2023/12/MONSTERBASH-2024-flyer.jpg
ORGANIZER;CN="Town of Acton":MAILTO:recreation@actonma.gov
GEO:42.5160594;-71.4119872
X-APPLE-STRUCTURED-LOCATION;VALUE=URI;X-ADDRESS=NARA Park Nara Park 25 Ledge Rock Way Acton MA 01720 United States;X-APPLE-RADIUS=500;X-TITLE=Nara Park\, 25 Ledge Rock Way:geo:-71.4119872,42.5160594
END:VEVENT
BEGIN:VEVENT
DTSTART;TZID=America/New_York:20241026T120000
DTEND;TZID=America/New_York:20241026T150000
DTSTAMP:20260420T071458
CREATED:20240917T181011Z
LAST-MODIFIED:20240918T141554Z
UID:10057465-1729944000-1729954800@revolutionaryvalley.org
SUMMARY:MonsterBash Lowell
DESCRIPTION:MonsterBash returns on Saturday\, October 26th\, 2024!\nMonsterBash is a free and family-friendly Halloween event! Trick or Treat at local businesses\, experience Lowell City Hall transformed into a Haunted House\, and visit the Neighborhood Haunt at JFK Plaza for free treats and to meet Lowell organizations. \nLook for a pumpkin painted on the sidewalk in front of participating Trick or Treat locations. \nThe Haunted House\, Neighborhood Haunt\, and Trick or Treating will be from 12pm-3pm.* \n*The line for the Haunted House at Lowell City Hall closes at 2:30PM. \nBe sure to bring your own bag for your candy haul! \nRain date: Sunday\, October 27 from 12-3PM
URL:https://revolutionaryvalley.org/event/monsterbash-lowell/
LOCATION:Lowell City Hall\, Lowell City Hall\, 375 Merrimack St\, Lowell\, MA\, 01852\, United States
CATEGORIES:Annual & Special,Kids & Family,Outdoors
ATTACH;FMTTYPE=image/png:https://revolutionaryvalley.org/wp-content/uploads/2024/09/Screenshot-2024-09-17-124713.png
ORGANIZER;CN="City of Lowell%2C Office of Cultural Affairs and Special Events":MAILTO:case@lowellma.gov
GEO:42.6462326;-71.3141977
X-APPLE-STRUCTURED-LOCATION;VALUE=URI;X-ADDRESS=Lowell City Hall Lowell City Hall 375 Merrimack St Lowell MA 01852 United States;X-APPLE-RADIUS=500;X-TITLE=Lowell City Hall\, 375 Merrimack St:geo:-71.3141977,42.6462326
END:VEVENT
BEGIN:VEVENT
DTSTART;TZID=America/New_York:20241027T100000
DTEND;TZID=America/New_York:20241027T160000
DTSTAMP:20260420T071458
CREATED:20241024T201925Z
LAST-MODIFIED:20241024T201925Z
UID:10057971-1730023200-1730044800@revolutionaryvalley.org
SUMMARY:Dia de los Muertos Tea
DESCRIPTION:Back by popular demand at The Inn at Hastings Park | Town Meeting Bistro: Dia de los Muertos Tea returns! The Day of the Dead (Dia de los Muertos) is a celebratory day that pays respects and remembers departed friends and family\, and is the festival that Halloween was intended to be. An afternoon tea of fun including costumes (strongly encouraged)\, trick-or-treating\, crafts\, cookie decorating\, delicious sweet and savory bites like Dulce de Leche cookies and Jamon y Queso sandwiches\, all while sipping J’enwey Teas as this year’s ofrenda to honor lost loved ones is unveiled. For adults\, it includes one glass of Schramsberg Mirabelle Rosé. Seatings at 10 am\, 12 pm & 2 pm on October 26 & 27\, 2024. Adults $85 (plus tax & gratuity). For children (4-12 years)\, includes trick-or-treating\, crafts\, cookie decorating\, bites and tea or hot chocolate – $60 (plus tax & gratuity). Children 3 and under eat for free.
URL:https://revolutionaryvalley.org/event/dia-de-los-muertos-tea-2/
LOCATION:The Inn at Hastings Park\, 2027 Massachusetts Ave\, Lexington\, MA\, 02421\, United States
CATEGORIES:Annual & Special,Arts & Culture,Culinary Tourism,Food
ATTACH;FMTTYPE=image/jpeg:https://revolutionaryvalley.org/wp-content/uploads/2024/10/DIA-DE-LOS-MUERTOS-BLACK-ROSE-IAHP-SEPT2023-2-1-scaled.jpg
ORGANIZER;CN="The Inn at Hastings Park":MAILTO:https://www.innathastingspark.com/dining/holiday-dining/
GEO:42.4495227;-71.236516
X-APPLE-STRUCTURED-LOCATION;VALUE=URI;X-ADDRESS=The Inn at Hastings Park 2027 Massachusetts Ave Lexington MA 02421 United States;X-APPLE-RADIUS=500;X-TITLE=2027 Massachusetts Ave:geo:-71.236516,42.4495227
END:VEVENT
END:VCALENDAR