BEGIN:VCALENDAR
VERSION:2.0
PRODID:-//Revolutionary Valley Regional Tourism Council - ECPv6.15.0.1//NONSGML v1.0//EN
CALSCALE:GREGORIAN
METHOD:PUBLISH
X-WR-CALNAME:Revolutionary Valley Regional Tourism Council
X-ORIGINAL-URL:https://revolutionaryvalley.org
X-WR-CALDESC:Events for Revolutionary Valley Regional Tourism Council
REFRESH-INTERVAL;VALUE=DURATION:PT1H
X-Robots-Tag:noindex
X-PUBLISHED-TTL:PT1H
BEGIN:VTIMEZONE
TZID:America/New_York
BEGIN:DAYLIGHT
TZOFFSETFROM:-0500
TZOFFSETTO:-0400
TZNAME:EDT
DTSTART:20240310T070000
END:DAYLIGHT
BEGIN:STANDARD
TZOFFSETFROM:-0400
TZOFFSETTO:-0500
TZNAME:EST
DTSTART:20241103T060000
END:STANDARD
END:VTIMEZONE
BEGIN:VEVENT
DTSTART;TZID=America/New_York:20241102T090000
DTEND;TZID=America/New_York:20241102T170000
DTSTAMP:20260419T231956
CREATED:20241014T172758Z
LAST-MODIFIED:20241014T172758Z
UID:10057949-1730538000-1730566800@revolutionaryvalley.org
SUMMARY:The Santa Experience
DESCRIPTION:A Santa Visit unlike any Santa visit your child has ever experienced!! \nFrom the first glimpse of Santa to finding their name on his nice list\, children are transported into Santa’s Magic world. \nDuring your visit\, the kids will explore Santa’s workshop\, help him make toys and even plan his trip around the globe. \nThe Santa Experience creates memories that will last a lifetime. Our photographers will capture each moment for you to enjoy forever.\nTreasure these memories in beautiful photos or create a storybook featuring your child’s visit.
URL:https://revolutionaryvalley.org/event/the-santa-experience/
LOCATION:Luciana Calvin Photography Studio\, 21 Central Square\, Chelmsford\, MA\, 01824\, United States
CATEGORIES:Annual & Special,Kids & Family
ATTACH;FMTTYPE=image/jpeg:https://revolutionaryvalley.org/wp-content/uploads/2024/10/Album.jpg
ORGANIZER;CN="Luciana Calvin Photography":MAILTO:lcalvin@lucianacalvin.com
GEO:42.5961081;-71.3522182
X-APPLE-STRUCTURED-LOCATION;VALUE=URI;X-ADDRESS=Luciana Calvin Photography Studio 21 Central Square Chelmsford MA 01824 United States;X-APPLE-RADIUS=500;X-TITLE=21 Central Square:geo:-71.3522182,42.5961081
END:VEVENT
BEGIN:VEVENT
DTSTART;TZID=America/New_York:20241109T110000
DTEND;TZID=America/New_York:20241110T160000
DTSTAMP:20260419T231956
CREATED:20241107T162950Z
LAST-MODIFIED:20241107T162950Z
UID:10060556-1731150000-1731254400@revolutionaryvalley.org
SUMMARY:Harvest Fest is This Weekend at Wilson Farm!
DESCRIPTION:Come celebrate our 140th Harvest Nov 9 & 10 11am-4pm.\nHayrides\, Food Samples\, Carnival Games\, Birthday Cake and Ferris Wheel Rides!
URL:https://revolutionaryvalley.org/event/harvest-fest-is-this-weekend-at-wilson-farm/
LOCATION:Wilson Farm\, Lexington MA\, Pleasant Street\, Lexington\, Massachusetts\, 02421\, United States
CATEGORIES:Agricultural,Annual & Special,Culinary Tourism,Food,Free Events,Member Events
ATTACH;FMTTYPE=image/jpeg:https://revolutionaryvalley.org/wp-content/uploads/2024/11/140th.jpg
GEO:42.4277467;-71.206725
X-APPLE-STRUCTURED-LOCATION;VALUE=URI;X-ADDRESS=Wilson Farm Lexington MA Pleasant Street Lexington Massachusetts 02421 United States;X-APPLE-RADIUS=500;X-TITLE=Pleasant Street:geo:-71.206725,42.4277467
END:VEVENT
BEGIN:VEVENT
DTSTART;VALUE=DATE:20241111
DTEND;VALUE=DATE:20241112
DTSTAMP:20260419T231956
CREATED:20241106T124135Z
LAST-MODIFIED:20241106T124135Z
UID:10060535-1731283200-1731369599@revolutionaryvalley.org
SUMMARY:Veterans Day Parade 2024
DESCRIPTION:On behalf of The Honorable Mayor Michael P. Concannon in collaboration with the United Veterans Council and the Department of Veteran’s Services for the City of Woburn\, would like to cordially invite you to participate in our annual Veteran’s Day parade and ceremony on Woburn Common\, Monday\, November 11th\, 2024. \nWe will be marching from the South End of Woburn\, Main and Cross Street (Bill and Bob’s) to the Common. \nWe will muster at 10:00AM at Main and Cross Street\, call to order will be at 10:15AM and forward at \n10:30AM to Woburn Common. The Veteran’s Day ceremony on the common will start at 11AM. \nYou are additionally invited to this year’s Veteran’s Day Week Activities. Please join us for these events to honor those veterans that have served our country\, many at great cost. Please feel free to contact our office if there are any questions. We look forward to your participation in our tribute.
URL:https://revolutionaryvalley.org/event/veterans-day-parade-2024/
LOCATION:Woburn Common\, Woburn\, Massachusetts\, 01801\, United States
CATEGORIES:Annual & Special,Featured,Historical
ATTACH;FMTTYPE=image/jpeg:https://revolutionaryvalley.org/wp-content/uploads/2024/11/AdobeStock_199900342-scaled.jpeg
GEO:42.479481;-71.152464
END:VEVENT
BEGIN:VEVENT
DTSTART;TZID=America/New_York:20241123T110000
DTEND;TZID=America/New_York:20241124T140000
DTSTAMP:20260419T231956
CREATED:20241114T174243Z
LAST-MODIFIED:20241114T174243Z
UID:10060969-1732359600-1732456800@revolutionaryvalley.org
SUMMARY:The Acton Lions Club’s 44th Annual Ski & Skate & Gear Sale
DESCRIPTION:What: The Acton Lions Club’s 44th Annual Ski & Skate & Gear Sale\nWhere: Conant Elementary School\, 80 Taylor Road\, Acton.\nWhen: Drop-off:\n– Friday November 22nd; 6:30 – 8 pm\n– Saturday November 23rd; 8 – 10 am\nSale\n– Saturday November 23rd; 11 am – 4 pm\n– Sunday November 24th; 10 am – 2 pm\nPay-out or Pick-up:\n– Sunday November 24th; 3 – 5 pm Pick up unsold items and consignment payout Sunday. The Lions Club will pay consignment donors 70 percent of the sale price of each item sold. Any items not picked up by 5 p.m. on Nov. 24th will be considered a donation. All money raised will go to local charities.
URL:https://revolutionaryvalley.org/event/the-acton-lions-clubs-44th-annual-ski-skate-gear-sale/
LOCATION:Conant Elementary School\, Taylor Road 80\, Acton\, Massachusetts\, 01720\, United States
CATEGORIES:Annual & Special,Free Events,Sports
ATTACH;FMTTYPE=image/jpeg:https://revolutionaryvalley.org/wp-content/uploads/2024/11/Ski-and-Skate.jpg
ORGANIZER;CN="Acton Lions Club":MAILTO:acton_lions@hotmail.com
GEO:42.4752133;-71.4380672
X-APPLE-STRUCTURED-LOCATION;VALUE=URI;X-ADDRESS=Conant Elementary School Taylor Road 80 Acton Massachusetts 01720 United States;X-APPLE-RADIUS=500;X-TITLE=Taylor Road 80:geo:-71.4380672,42.4752133
END:VEVENT
BEGIN:VEVENT
DTSTART;VALUE=DATE:20241129
DTEND;VALUE=DATE:20241202
DTSTAMP:20260419T231956
CREATED:20241024T192208Z
LAST-MODIFIED:20241025T122523Z
UID:10060370-1732838400-1733097599@revolutionaryvalley.org
SUMMARY:29th Annual Original Castleberry Faire
DESCRIPTION:A New England Tradition thrives with Over 250 Juried Artisans Returning for Thanksgiving Weekend! \nJoin the Celebration as the 29th Annual Castleberry Faire\, Arts & Craft Festival returns to the Shriner’s Auditorium in Wilmington\, MA\, Thanksgiving Weekend\, November 29-December 1\, 2024! \nExperience this three-day shopping extravaganza featuring America’s Craftspeople showcasing their finest works.\nDive into a world of craftsmanship and creativity across 250+ Booths\, offering an abundance of unique finds\, including Seasonal Wall Hangings\, Beautifully Framed Landscape Photography\, Holiday Home Décor\, and much more.
URL:https://revolutionaryvalley.org/event/29th-annual-original-castleberry-faire/
LOCATION:Shriner’s Auditorium\, Fordham Road\, Wilmington\, Massachusetts\, 01887\, United States
CATEGORIES:Annual & Special,Fairs & Festivals
ATTACH;FMTTYPE=image/png:https://revolutionaryvalley.org/wp-content/uploads/2024/10/Screenshot-2024-10-25-at-8.23.22 AM.png
ORGANIZER;CN="Castleberry Fairs and Festivals":MAILTO:info@castleberryfairs.com
GEO:42.5679118;-71.1355213
X-APPLE-STRUCTURED-LOCATION;VALUE=URI;X-ADDRESS=Shriner’s Auditorium Fordham Road Wilmington Massachusetts 01887 United States;X-APPLE-RADIUS=500;X-TITLE=Fordham Road:geo:-71.1355213,42.5679118
END:VEVENT
BEGIN:VEVENT
DTSTART;VALUE=DATE:20241130
DTEND;VALUE=DATE:20241201
DTSTAMP:20260419T231956
CREATED:20240917T185632Z
LAST-MODIFIED:20241029T151629Z
UID:10057468-1732924800-1733011199@revolutionaryvalley.org
SUMMARY:City of Lights 2024 - Lowell
DESCRIPTION:Join The Holiday-Themed Festivities! \nCity of Lights in downtown Lowell on Saturday\, November 30 is a family event with something for everyone! Main attractions include the Holiday Parade\, photos with Santa\, a holiday movie screening at the Donahue Family Academic Arts Center\, a festive concert\, and the annual hot chocolate and window decorating contests (vote for your favorite!) At 4:30 p.m.\, the parade commences from Jackson Street and ends at City Hall\, where Santa Claus will make his first appearance of the season and will throw the switch to light City Hall. \nThis year\, don’t miss the YuleTide Market—a brand-new addition to the City of Lights celebration\, hosted by DIY Lowell! 🎄🎁 Stroll through a festive marketplace filled with unique\, handmade gifts\, local art\, and seasonal treats perfect for your holiday shopping. \nMark your calendars and explore the magic at the YuleTide Market—where creativity and community come together to make the season brighter. \nLearn more: yuletidemarket.org \nFor more details\, please visit: https://www.lowellcityoflights.org/
URL:https://revolutionaryvalley.org/event/city-of-lights-2024-lowell/
LOCATION:City of Lowell\, Lowell\, Massachusetts\, United States
CATEGORIES:Annual & Special,Fairs & Festivals,Free Events,Kids & Family
ATTACH;FMTTYPE=image/jpeg:https://revolutionaryvalley.org/wp-content/uploads/2024/09/image001.jpg
ORGANIZER;CN="City of Lowell%2C Office of Cultural Affairs and Special Events":MAILTO:case@lowellma.gov
GEO:42.6334247;-71.3161718
END:VEVENT
BEGIN:VEVENT
DTSTART;TZID=America/New_York:20241130T120000
DTEND;TZID=America/New_York:20241201T200000
DTSTAMP:20260419T231956
CREATED:20241029T152036Z
LAST-MODIFIED:20241029T152754Z
UID:10060444-1732968000-1733083200@revolutionaryvalley.org
SUMMARY:Yuletide Market
DESCRIPTION:This year\, don’t miss the Yuletide Market—a brand-new addition to the City of Lights celebration\, hosted by DIY Lowell! 🎄🎁 Stroll through a festive marketplace filled with unique\, handmade gifts\, local art\, and seasonal treats perfect for your holiday shopping. \nMark your calendars and explore the magic at the Yuletide Market—where creativity and community come together to make the season brighter. \nLearn more: yuletidemarket.org \nSaturday\, Nov 30 Noon – 8 pm\nSunday\, Dec 1 Noon – 4 pm \n  \nFor more details on the City of Lights celebration\, please visit: https://www.lowellcityoflights.org/
URL:https://revolutionaryvalley.org/event/yuletide-market/
LOCATION:City of Lowell\, Lowell\, Massachusetts\, United States
CATEGORIES:Annual & Special,Fairs & Festivals,Kids & Family
ATTACH;FMTTYPE=image/png:https://revolutionaryvalley.org/wp-content/uploads/2024/10/Screenshot-2024-10-29-at-11.22.21 AM.png
ORGANIZER;CN="City of Lowell%2C Office of Cultural Affairs and Special Events":MAILTO:case@lowellma.gov
GEO:42.6334247;-71.3161718
END:VEVENT
END:VCALENDAR