BEGIN:VCALENDAR
VERSION:2.0
PRODID:-//Revolutionary Valley Regional Tourism Council - ECPv6.15.0.1//NONSGML v1.0//EN
CALSCALE:GREGORIAN
METHOD:PUBLISH
X-ORIGINAL-URL:https://revolutionaryvalley.org
X-WR-CALDESC:Events for Revolutionary Valley Regional Tourism Council
REFRESH-INTERVAL;VALUE=DURATION:PT1H
X-Robots-Tag:noindex
X-PUBLISHED-TTL:PT1H
BEGIN:VTIMEZONE
TZID:America/New_York
BEGIN:DAYLIGHT
TZOFFSETFROM:-0500
TZOFFSETTO:-0400
TZNAME:EDT
DTSTART:20230312T070000
END:DAYLIGHT
BEGIN:STANDARD
TZOFFSETFROM:-0400
TZOFFSETTO:-0500
TZNAME:EST
DTSTART:20231105T060000
END:STANDARD
END:VTIMEZONE
BEGIN:VEVENT
DTSTART;VALUE=DATE:20231104
DTEND;VALUE=DATE:20231105
DTSTAMP:20260420T081050
CREATED:20230907T154112Z
LAST-MODIFIED:20231101T144150Z
UID:10035348-1699088400-1699117200@revolutionaryvalley.org
SUMMARY:Santa Experience
DESCRIPTION:A Santa Visit unlike any Santa visit your child has ever experienced!! \nFrom the first glimpse of Santa to finding their name on his nice list\, children are transported into Santa’s Magic world. \nDuring your visit\, the kids will explore Santa’s workshop\, help him make toys and even plan his trip around the globe. \nThe Santa Experience creates memories that will last a lifetime. Our photographers will capture each moment for you to enjoy forever.\nTreasure these memories in beautiful photos or create a storybook featuring your child’s visit.
URL:https://revolutionaryvalley.org/event/santa-experience/2023-11-04/
LOCATION:Luciana Calvin Photography Studio\, 21 Central Square\, Chelmsford\, MA\, 01824\, United States
CATEGORIES:Annual & Special,Kids & Family
ORGANIZER;CN="Luciana Calvin Photography":MAILTO:lcalvin@lucianacalvin.com
GEO:42.5961081;-71.3522182
X-APPLE-STRUCTURED-LOCATION;VALUE=URI;X-ADDRESS=Luciana Calvin Photography Studio 21 Central Square Chelmsford MA 01824 United States;X-APPLE-RADIUS=500;X-TITLE=21 Central Square:geo:-71.3522182,42.5961081
END:VEVENT
END:VCALENDAR