BEGIN:VCALENDAR
VERSION:2.0
PRODID:-//Revolutionary Valley Regional Tourism Council - ECPv6.15.0.1//NONSGML v1.0//EN
CALSCALE:GREGORIAN
METHOD:PUBLISH
X-WR-CALNAME:Revolutionary Valley Regional Tourism Council
X-ORIGINAL-URL:https://revolutionaryvalley.org
X-WR-CALDESC:Events for Revolutionary Valley Regional Tourism Council
REFRESH-INTERVAL;VALUE=DURATION:PT1H
X-Robots-Tag:noindex
X-PUBLISHED-TTL:PT1H
BEGIN:VTIMEZONE
TZID:America/New_York
BEGIN:DAYLIGHT
TZOFFSETFROM:-0500
TZOFFSETTO:-0400
TZNAME:EDT
DTSTART:20240310T070000
END:DAYLIGHT
BEGIN:STANDARD
TZOFFSETFROM:-0400
TZOFFSETTO:-0500
TZNAME:EST
DTSTART:20241103T060000
END:STANDARD
END:VTIMEZONE
BEGIN:VEVENT
DTSTART;TZID=America/New_York:20240114T100000
DTEND;TZID=America/New_York:20240114T140000
DTSTAMP:20260424T084043
CREATED:20231215T155849Z
LAST-MODIFIED:20231215T155849Z
UID:10046379-1705226400-1705240800@revolutionaryvalley.org
SUMMARY:Small Acts\, Big Impacts: A Day of Service
DESCRIPTION:Martin Luther King Jr. Day is a designated National Day of Service\, to encourage all Americans to volunteer within their communities and honor the life and legacy of the Civil Rights leader. Join the Discovery Museum as we engage in small acts of service to benefit our neighbors. \nMake a birthday card and help collect “Birthday-in-a-Box” supplies to support two local charities whose missions are to create special birthday moments for children who are experiencing homelessness or who are in the hospital in their birthdays. Most needed items are:\n• Boxed cake mix and jar frosting\, chocolate\, vanilla\, or Funfetti (please ensure expiration dates are at least 8 months from date of donation)\n• New and unopened\, colored/themed paper plates\, paper napkins\, paper cups (9 oz.)\, and paper straws; Happy Birthday banners; Birthday candles (18-24 count)\n• Disposable cake pan (8”x8” or 9”x13”)\nAll birthday supply donations will benefit Birthday Wishes and The Confetti Foundation.
URL:https://revolutionaryvalley.org/event/small-acts-big-impacts-a-day-of-service-2/2024-01-14/
LOCATION:Discovery Museum\, Discovery Museum\, 177 Main St\, Acton\, MA\, 01720\, United States
CATEGORIES:Annual & Special
ATTACH;FMTTYPE=image/jpeg:https://revolutionaryvalley.org/wp-content/uploads/2023/12/Birthday-drive-for-website-2024.jpg
ORGANIZER;CN="Discovery Museum":MAILTO:fun@discoveryacton.org
GEO:42.464745;-71.4560492
X-APPLE-STRUCTURED-LOCATION;VALUE=URI;X-ADDRESS=Discovery Museum Discovery Museum 177 Main St Acton MA 01720 United States;X-APPLE-RADIUS=500;X-TITLE=Discovery Museum\, 177 Main St:geo:-71.4560492,42.464745
END:VEVENT
END:VCALENDAR