BEGIN:VCALENDAR
VERSION:2.0
PRODID:-//Revolutionary Valley Regional Tourism Council - ECPv6.15.0.1//NONSGML v1.0//EN
CALSCALE:GREGORIAN
METHOD:PUBLISH
X-WR-CALNAME:Revolutionary Valley Regional Tourism Council
X-ORIGINAL-URL:https://revolutionaryvalley.org
X-WR-CALDESC:Events for Revolutionary Valley Regional Tourism Council
REFRESH-INTERVAL;VALUE=DURATION:PT1H
X-Robots-Tag:noindex
X-PUBLISHED-TTL:PT1H
BEGIN:VTIMEZONE
TZID:America/New_York
BEGIN:DAYLIGHT
TZOFFSETFROM:-0500
TZOFFSETTO:-0400
TZNAME:EDT
DTSTART:20240310T070000
END:DAYLIGHT
BEGIN:STANDARD
TZOFFSETFROM:-0400
TZOFFSETTO:-0500
TZNAME:EST
DTSTART:20241103T060000
END:STANDARD
END:VTIMEZONE
BEGIN:VEVENT
DTSTART;TZID=America/New_York:20240612T180000
DTEND;TZID=America/New_York:20240612T200000
DTSTAMP:20260425T161341
CREATED:20240612T173636Z
LAST-MODIFIED:20240612T173636Z
UID:10056872-1718215200-1718222400@revolutionaryvalley.org
SUMMARY:Chelmsford Municipal Open House
DESCRIPTION:Become more engaged in your community! \nInterested in getting involved\, but not sure where to start? Drop in to this open house at the library. Meet different board members and learn about these municipal groups foster change and growth for our community. Meet new people and get your questions answered! Check back here for a list of organizations that will be featured soon. \nCommittees and organization that have so far signed up to have tables and information include: \nAge Friendly Implementation Committee\nArts and Technology Education Fund Committee\nBoard of Assessors\nConservation Commission\nDiversity\, Equity\, and Inclusion Committee\nDog Park Advisory Committee\nHoliday Decorating Committee\nLibrary Trustees\nRecycling Committee\nSchool Committee\nOpen Space and Recreation Plan\nMunicipal Vulnerability Program 2.0\nBicycle and Pedestrian Advisory Committee\nCultural Council\nPlanning Board\nCome find out what you can offer our community!
URL:https://revolutionaryvalley.org/event/chelmsford-municipal-open-house/
LOCATION:Chelmsford Public Library\, Chelmsford Public Library\, 25 Boston Rd\, Chelmsford\, MA\, 01824\, United States
CATEGORIES:Annual & Special
ATTACH;FMTTYPE=image/jpeg:https://revolutionaryvalley.org/wp-content/uploads/2024/06/2024-06-12-Municipal-Open-House.jpg
ORGANIZER;CN="Chelmsford Public Library":MAILTO:jhartman@chelmsfordlibrary.org
GEO:42.5940353;-71.3518195
X-APPLE-STRUCTURED-LOCATION;VALUE=URI;X-ADDRESS=Chelmsford Public Library Chelmsford Public Library 25 Boston Rd Chelmsford MA 01824 United States;X-APPLE-RADIUS=500;X-TITLE=Chelmsford Public Library\, 25 Boston Rd:geo:-71.3518195,42.5940353
END:VEVENT
END:VCALENDAR