BEGIN:VCALENDAR
VERSION:2.0
PRODID:-//Revolutionary Valley Regional Tourism Council - ECPv6.15.0.1//NONSGML v1.0//EN
CALSCALE:GREGORIAN
METHOD:PUBLISH
X-ORIGINAL-URL:https://revolutionaryvalley.org
X-WR-CALDESC:Events for Revolutionary Valley Regional Tourism Council
REFRESH-INTERVAL;VALUE=DURATION:PT1H
X-Robots-Tag:noindex
X-PUBLISHED-TTL:PT1H
BEGIN:VTIMEZONE
TZID:America/New_York
BEGIN:DAYLIGHT
TZOFFSETFROM:-0500
TZOFFSETTO:-0400
TZNAME:EDT
DTSTART:20240310T070000
END:DAYLIGHT
BEGIN:STANDARD
TZOFFSETFROM:-0400
TZOFFSETTO:-0500
TZNAME:EST
DTSTART:20241103T060000
END:STANDARD
END:VTIMEZONE
BEGIN:VEVENT
DTSTART;TZID=America/New_York:20240221T120000
DTEND;TZID=America/New_York:20240221T173000
DTSTAMP:20260420T091408
CREATED:20240108T160844Z
LAST-MODIFIED:20240108T161106Z
UID:10048236-1708516800-1708536600@revolutionaryvalley.org
SUMMARY:Affirmation of Life: Art from Today’s Ukraine | January 31-February 25\, 2024 | Reception on Saturday Feb. 3 \, 3 - 5 pm | Loading Dock Gallery
DESCRIPTION:This February\, enjoy Affirmation of Life: Art from Today’s Ukraine\, presented at the Loading Dock Gallery in cooperation with the Ukraine Cultural Initiative. This colorful show celebrates life as well as Ukrainian heritage\, with work ranging from traditional designs to lush abstracts. Working in war-ravaged Ukraine\, the artists seek not only to make a living\, but to teach and support adults and children\, providing much needed healing through the universal language of art. “Art is like oxygen\,” says artist Lyubov Mineko. “It makes everyone feel comfortable. Comfortable in the individual existence and comfortable in communication with others. Art unites people.” \nAffirmation of Life: Art from Today’s Ukraine runs January 31-February 25\, 2024 at Loading Dock Gallery\, 122 Western Avenue\, Lowell\, MA; noon-5:30pm\, Wednesday-Saturday; until 4pm Sunday. \nReception 3-5pm\, Saturday\, February 3\, 2024. More at www.theloadingdockgallery.com. \nLoading Dock Gallery is part of Loading Dock Arts\, Inc.\, a 501c3. This program is supported in part by a grant from the Lowell Cultural Council\, a local agency which is supported by the Mass Cultural Council\, a state agency.
URL:https://revolutionaryvalley.org/event/affirmation-of-life-art-from-todays-ukraine-january-31-february-25-2024-reception-on-saturday-feb-3-3-5-pm-loading-dock-gallery-2/2024-02-21/
LOCATION:Loading Dock Gallery\, 122 Western Avenue\, Lowell\, MA\, United States
CATEGORIES:Arts & Culture
ATTACH;FMTTYPE=image/jpeg:https://revolutionaryvalley.org/wp-content/uploads/2024/01/Nadija-Martinenko-_Ruta.jpg
GEO:42.6398431;-71.3192968
X-APPLE-STRUCTURED-LOCATION;VALUE=URI;X-ADDRESS=Loading Dock Gallery 122 Western Avenue Lowell MA United States;X-APPLE-RADIUS=500;X-TITLE=122 Western Avenue:geo:-71.3192968,42.6398431
END:VEVENT
BEGIN:VEVENT
DTSTART;TZID=America/New_York:20240221T130000
DTEND;TZID=America/New_York:20240221T150000
DTSTAMP:20260420T091408
CREATED:20240108T163533Z
LAST-MODIFIED:20240108T163533Z
UID:10047987-1708520400-1708527600@revolutionaryvalley.org
SUMMARY:ARTfull February Vacation
DESCRIPTION:Create inspired by the question\, What is the Nature of the Museum? Construct a sculptures and structures by cutting and folding cardstock. Draw a detailed floorplan in a blueprint of your own Museum. Arrange blocks and more to create an imaginative interpretation of deCordova’s campus. How much can we add to the space over the course of 3 days! \nFind your own approach and/or collaborate to construct creative sculptures. Join us for a short time or the entire drop-in window. \nFor any age and an accompanying adult – all are welcome. \nWe’ll hold the program inside the Museum in the Dewey Family Gallery near the exhibition. In the event of a cancellation\, those registered will receive an email. \nFamily programs are designed to welcome a wide range of ages and abilities. Please contact us to discuss reasonable adaptations to benefit anyone in your group. \nEmail Sarah Brockway\, sbrockway@thetrustees.org if the price of the ticket is cost-prohibitive for your family. \nPre-ticketing is required in order to anticipate capacity. Your ticket includes admission to deCordova’s campus\, so please feel free to explore the grounds before or after the program. You’re welcome to picnic in the Park. Bring your own picnic or pick up a bite to eat at the Twisted Tree Café and stop by The Store for a gift or souvenir.
URL:https://revolutionaryvalley.org/event/artfull-february-vacation/2024-02-21/
LOCATION:deCordova Sculpture Park and Museum\, 51 Sandy Pond Road\, Lincoln\, MA\, 01773\, United States
CATEGORIES:Arts & Culture,Kids & Family
ATTACH;FMTTYPE=image/jpeg:https://revolutionaryvalley.org/wp-content/uploads/2024/01/feb.-vacation.jpg
ORGANIZER;CN="deCordova Sculpture Park and Museum":MAILTO:tickets@thetrustees.org
GEO:42.4298606;-71.3140243
X-APPLE-STRUCTURED-LOCATION;VALUE=URI;X-ADDRESS=deCordova Sculpture Park and Museum 51 Sandy Pond Road Lincoln MA 01773 United States;X-APPLE-RADIUS=500;X-TITLE=51 Sandy Pond Road:geo:-71.3140243,42.4298606
END:VEVENT
BEGIN:VEVENT
DTSTART;TZID=America/New_York:20240221T173000
DTEND;TZID=America/New_York:20240221T203000
DTSTAMP:20260420T091408
CREATED:20240122T142625Z
LAST-MODIFIED:20240122T142812Z
UID:10049537-1708536600-1708547400@revolutionaryvalley.org
SUMMARY:Loading Dock Gallery - Affirmation of Life - Art & Music Fundraising Event from 5:30 pm to 8:30 pm on February 21st\, 2024.
DESCRIPTION:LOADING DOCK gallery at Western Avenue Studios 122 Western Ave\, 2nd floor \, Lowell\, MA 01851 \nAffirmation of Life Fundraising Event: 6-8pm February 21st \nPlease join us\, in partnership with the Ukrainian Cultural Initiative’s Nataliya Proskura and Vladislav Shapiro\, for this evening of art and music from Ukraine. This show highlights the compelling artwork of today’s Ukrainian artists. Proskura is quoted in Art New England\, \n“We are thankful and excited to share the full spectrum of Ukrainian art. We want to show Americans that Ukraine is not just a country of fighters but also a land of great beauty and deep cultural history. “ Proceeds from the evening will help support artists living in Ukraine\, financially help children’s art schools and support art therapy for veterans in Ukraine. \nEgg Painting workshop – Pysanky – led by Alona Popova on February 21st\, from 5:30 – 8:30 pm (limited seating). Register at theloadingdockarts.org \nA program of Loading Dock Arts Inc..\, a 501C3 nonprofit. theloadingdockgallery.com
URL:https://revolutionaryvalley.org/event/loading-dock-gallery-affirmation-of-life-art-music-fundraising-event-from-530-pm-to-830-pm-on-february-21st-2024/
LOCATION:Loading Dock Gallery\, 122 Western Avenue\, Lowell\, MA\, United States
CATEGORIES:Arts & Culture
ATTACH;FMTTYPE=image/jpeg:https://revolutionaryvalley.org/wp-content/uploads/2024/01/1-2.jpeg
GEO:42.6398431;-71.3192968
X-APPLE-STRUCTURED-LOCATION;VALUE=URI;X-ADDRESS=Loading Dock Gallery 122 Western Avenue Lowell MA United States;X-APPLE-RADIUS=500;X-TITLE=122 Western Avenue:geo:-71.3192968,42.6398431
END:VEVENT
BEGIN:VEVENT
DTSTART;TZID=America/New_York:20240221T173000
DTEND;TZID=America/New_York:20240221T203000
DTSTAMP:20260420T091408
CREATED:20240122T142911Z
LAST-MODIFIED:20240122T142911Z
UID:10049536-1708536600-1708547400@revolutionaryvalley.org
SUMMARY:Loading Dock Gallery - Affirmation of Life - Art & Music Fundraising Event from 5:30 pm to 8:30 pm on February 21st\, 2024.
DESCRIPTION:LOADING DOCK gallery at Western Avenue Studios 122 Western Ave\, 2nd floor \, Lowell\, MA 01851 \nAffirmation of Life Fundraising Event: 6-8pm February 21st \nPlease join us\, in partnership with the Ukrainian Cultural Initiative’s Nataliya Proskura and Vladislav Shapiro\, for this evening of art and music from Ukraine. This show highlights the compelling artwork of today’s Ukrainian artists. Proskura is quoted in Art New England\, \n“We are thankful and excited to share the full spectrum of Ukrainian art. We want to show Americans that Ukraine is not just a country of fighters but also a land of great beauty and deep cultural history. “ Proceeds from the evening will help support artists living in Ukraine\, financially help children’s art schools and support art therapy for veterans in Ukraine. \nEgg Painting workshop – Pysanky – led by Alona Popova on February 21st\, from 5:30 – 8:30 pm (limited seating). Register at theloadingdockarts.org \nA program of Loading Dock Arts Inc..\, a 501C3 nonprofit. theloadingdockgallery.com
URL:https://revolutionaryvalley.org/event/loading-dock-gallery-affirmation-of-life-art-music-fundraising-event-from-530-pm-to-830-pm-on-february-21st-2024-2/
LOCATION:Loading Dock Gallery\, 122 Western Avenue\, Lowell\, MA\, United States
CATEGORIES:Arts & Culture
ATTACH;FMTTYPE=image/jpeg:https://revolutionaryvalley.org/wp-content/uploads/2024/01/1.jpeg
GEO:42.6398431;-71.3192968
X-APPLE-STRUCTURED-LOCATION;VALUE=URI;X-ADDRESS=Loading Dock Gallery 122 Western Avenue Lowell MA United States;X-APPLE-RADIUS=500;X-TITLE=122 Western Avenue:geo:-71.3192968,42.6398431
END:VEVENT
END:VCALENDAR