BEGIN:VCALENDAR
VERSION:2.0
PRODID:-//Revolutionary Valley Regional Tourism Council - ECPv6.15.0.1//NONSGML v1.0//EN
CALSCALE:GREGORIAN
METHOD:PUBLISH
X-ORIGINAL-URL:https://revolutionaryvalley.org
X-WR-CALDESC:Events for Revolutionary Valley Regional Tourism Council
REFRESH-INTERVAL;VALUE=DURATION:PT1H
X-Robots-Tag:noindex
X-PUBLISHED-TTL:PT1H
BEGIN:VTIMEZONE
TZID:America/New_York
BEGIN:DAYLIGHT
TZOFFSETFROM:-0500
TZOFFSETTO:-0400
TZNAME:EDT
DTSTART:20250309T070000
END:DAYLIGHT
BEGIN:STANDARD
TZOFFSETFROM:-0400
TZOFFSETTO:-0500
TZNAME:EST
DTSTART:20251102T060000
END:STANDARD
END:VTIMEZONE
BEGIN:VEVENT
DTSTART;TZID=America/New_York:20250115T180000
DTEND;TZID=America/New_York:20250115T190000
DTSTAMP:20260419T232056
CREATED:20241029T184034Z
LAST-MODIFIED:20250102T225038Z
UID:10060448-1736964000-1736967600@revolutionaryvalley.org
SUMMARY:Curator’s Tour of Lexington Celebrates! Parades\, Pageants\, & Pandemonium
DESCRIPTION:The 250th anniversary of the Revolutionary War is right around the corner. How will we celebrate it? Whose stories will get told\, and how patriotic will we feel in troubled times? These questions have plagued every commemoration since 1875. From massive parades to frozen dinners and political protesters\, April 19th commemorations have been elaborate\, joyous\, and often completely chaotic. Join Lexington Historical Society curators for a special tour of our current exhibit\, Lexington Celebrates! Parades\, Pageants\, & Pandemonium\, to get an inside look at the anniversaries of ages past. \n$10 Historical Society members\, $15 nonmembers. \nLimited to 12 guests.
URL:https://revolutionaryvalley.org/event/curators-tour-of-lexington-celebrates-parades-pageants-pandemonium/
LOCATION:Buckman Tavern\, 1 Bedford St\, Lexington\, MA\, 02420\, United States
CATEGORIES:Concord 250,Historical,Live Performances,MA250
ATTACH;FMTTYPE=image/jpeg:https://revolutionaryvalley.org/wp-content/uploads/2024/10/https___cdn.evbuc_.com_images_883524193_259462152801_1_original.jpeg
GEO:42.4492773;-71.2297485
X-APPLE-STRUCTURED-LOCATION;VALUE=URI;X-ADDRESS=Buckman Tavern 1 Bedford St Lexington MA 02420 United States;X-APPLE-RADIUS=500;X-TITLE=1 Bedford St:geo:-71.2297485,42.4492773
END:VEVENT
BEGIN:VEVENT
DTSTART;TZID=America/New_York:20250117T193000
DTEND;TZID=America/New_York:20250117T210000
DTSTAMP:20260419T232056
CREATED:20241217T170057Z
LAST-MODIFIED:20241217T170057Z
UID:10061405-1737142200-1737147600@revolutionaryvalley.org
SUMMARY:The Lexington Pops Chorus - The Lexington Pops Chorus
DESCRIPTION:We are excited to be singing beautiful music together for our 43rd year! Lexington Pops Chorus is a non-audition community chorus in Lexington\, MA\, that has been performing continually since its inception in the Fall of 1982. The chorus enjoys the enthusiasm of more than 50 singers from over 15 towns. We are a diverse group whose common bond is the love of music and the joy of singing. \nWe perform concerts in mid-January and mid-May every year. Our programs include a wide variety of music\, from classical selections\, folk songs and spirituals to modern show tunes and popular songs. Our goal is to provide a challenging\, exciting\, and above all\, enjoyable musical experience for the performers as well as the audience. Our Concerts page shows pieces that we have sung in past years. \nRehearsals take place in Clark Hall at Hancock Church\, 1912 Massachusetts Ave\, Lexington\, MA. New singers are welcome at the beginning of each semester when we hold two free\, open rehearsals. Auditions are not required; however\, singers must be able to read music. \nWe look forward to welcoming you!
URL:https://revolutionaryvalley.org/event/the-lexington-pops-chorus-the-lexington-pops-chorus/
LOCATION:Hancock Church\, Massachusetts Avenue 1912\, Lexington\, Massachusetts\, 02421\, United States
CATEGORIES:Annual & Special,Arts & Culture,Concord 250,Live Performances,MA250
ATTACH;FMTTYPE=image/jpeg:https://revolutionaryvalley.org/wp-content/uploads/2024/12/Lexington-Pops.jpg
GEO:42.4488633;-71.2316301
X-APPLE-STRUCTURED-LOCATION;VALUE=URI;X-ADDRESS=Hancock Church Massachusetts Avenue 1912 Lexington Massachusetts 02421 United States;X-APPLE-RADIUS=500;X-TITLE=Massachusetts Avenue 1912:geo:-71.2316301,42.4488633
END:VEVENT
END:VCALENDAR