BEGIN:VCALENDAR
VERSION:2.0
PRODID:-//Revolutionary Valley Regional Tourism Council - ECPv6.15.0.1//NONSGML v1.0//EN
CALSCALE:GREGORIAN
METHOD:PUBLISH
X-WR-CALNAME:Revolutionary Valley Regional Tourism Council
X-ORIGINAL-URL:https://revolutionaryvalley.org
X-WR-CALDESC:Events for Revolutionary Valley Regional Tourism Council
REFRESH-INTERVAL;VALUE=DURATION:PT1H
X-Robots-Tag:noindex
X-PUBLISHED-TTL:PT1H
BEGIN:VTIMEZONE
TZID:America/New_York
BEGIN:DAYLIGHT
TZOFFSETFROM:-0500
TZOFFSETTO:-0400
TZNAME:EDT
DTSTART:20240310T070000
END:DAYLIGHT
BEGIN:STANDARD
TZOFFSETFROM:-0400
TZOFFSETTO:-0500
TZNAME:EST
DTSTART:20241103T060000
END:STANDARD
END:VTIMEZONE
BEGIN:VEVENT
DTSTART;TZID=America/New_York:20240203T200000
DTEND;TZID=America/New_York:20240203T230000
DTSTAMP:20260421T212427
CREATED:20230912T190347Z
LAST-MODIFIED:20241029T131603Z
UID:10035460-1706990400-1707001200@revolutionaryvalley.org
SUMMARY:Live Greek & Middle Eastern Music and Bellydancing
DESCRIPTION:Live music and dancing featuring the Athenian Corner Ensemble
URL:https://revolutionaryvalley.org/event/live-greek-middle-eastern-music-and-bellydancing/2024-02-03/
LOCATION:Athenian Corner Restaurant\, 207 Market Street\, Lowell\, 01852\, United States
CATEGORIES:Arts & Culture,Culinary Tourism
ATTACH;FMTTYPE=image/jpeg:https://revolutionaryvalley.org/wp-content/uploads/2023/09/Ath-Corner-6.jpg
ORGANIZER;CN="Athenian Corner Restaurant":MAILTO:info@atheniancorner.com
GEO:42.6448268;-71.3123604
X-APPLE-STRUCTURED-LOCATION;VALUE=URI;X-ADDRESS=Athenian Corner Restaurant 207 Market Street Lowell 01852 United States;X-APPLE-RADIUS=500;X-TITLE=207 Market Street:geo:-71.3123604,42.6448268
END:VEVENT
BEGIN:VEVENT
DTSTART;TZID=America/New_York:20240210T200000
DTEND;TZID=America/New_York:20240210T230000
DTSTAMP:20260421T212427
CREATED:20230912T190347Z
LAST-MODIFIED:20241029T131603Z
UID:10035461-1707595200-1707606000@revolutionaryvalley.org
SUMMARY:Live Greek & Middle Eastern Music and Bellydancing
DESCRIPTION:Live music and dancing featuring the Athenian Corner Ensemble
URL:https://revolutionaryvalley.org/event/live-greek-middle-eastern-music-and-bellydancing/2024-02-10/
LOCATION:Athenian Corner Restaurant\, 207 Market Street\, Lowell\, 01852\, United States
CATEGORIES:Arts & Culture,Culinary Tourism
ATTACH;FMTTYPE=image/jpeg:https://revolutionaryvalley.org/wp-content/uploads/2023/09/Ath-Corner-6.jpg
ORGANIZER;CN="Athenian Corner Restaurant":MAILTO:info@atheniancorner.com
GEO:42.6448268;-71.3123604
X-APPLE-STRUCTURED-LOCATION;VALUE=URI;X-ADDRESS=Athenian Corner Restaurant 207 Market Street Lowell 01852 United States;X-APPLE-RADIUS=500;X-TITLE=207 Market Street:geo:-71.3123604,42.6448268
END:VEVENT
BEGIN:VEVENT
DTSTART;TZID=America/New_York:20240214T170000
DTEND;TZID=America/New_York:20240214T210000
DTSTAMP:20260421T212427
CREATED:20240206T215447Z
LAST-MODIFIED:20240206T215447Z
UID:10050392-1707930000-1707944400@revolutionaryvalley.org
SUMMARY:Valentine’s Day Special 2024
DESCRIPTION:Treat your special someone to a delicious dinner in Andover this Valentine’s Day. Our chef has created decadent and delicious dishes for you and your loved one to share a romantic experience together. Let us help you create memories that will last a lifetime. \nReservations are required and can be made via OpenTable or by calling (978) 775-4910. \nVIEW MENU
URL:https://revolutionaryvalley.org/event/valentines-day-special-2024/
LOCATION:Samuel’s at the Andover Inn\, 4 CHAPEL AVE\, Andover\, Massachusetts\, 01810
CATEGORIES:Culinary Tourism
ATTACH;FMTTYPE=image/png:https://revolutionaryvalley.org/wp-content/uploads/2024/02/Valentines-Day-2024-768x173-1.png
GEO:42.649539;-71.133638
X-APPLE-STRUCTURED-LOCATION;VALUE=URI;X-ADDRESS=Samuel’s at the Andover Inn 4 CHAPEL AVE Andover Massachusetts 01810;X-APPLE-RADIUS=500;X-TITLE=4 CHAPEL AVE:geo:-71.133638,42.649539
END:VEVENT
BEGIN:VEVENT
DTSTART;TZID=America/New_York:20240217T120000
DTEND;TZID=America/New_York:20240217T130000
DTSTAMP:20260421T212427
CREATED:20240205T164539Z
LAST-MODIFIED:20240205T164539Z
UID:10050332-1708171200-1708174800@revolutionaryvalley.org
SUMMARY:Lowell Kids Week: Maple Sugaring
DESCRIPTION:All ages\, registration required.\nHave you ever tapped a tree to collect the sap? If you want to learn how the tapping and sugaring process works\, join Lowell Parks and Conservation Trust for this sugaring event! Lowell Parks and Conservation Trust\, along with a Teacher Naturalist from Mass Audubon\, will have a demonstration and answer your questions in the schoolyard of the STEM Academy in Lowell (dress for the weather!) Please register at https://lowelllandtrust.org/maple-sugaring-2024-2/.
URL:https://revolutionaryvalley.org/event/lowell-kids-week-maple-sugaring/
LOCATION:STEM Academy\, 43 Highland St.\, Lowell\, 01852\, United States
CATEGORIES:Culinary Tourism,Free Events,Kids & Family,Outdoors
ATTACH;FMTTYPE=image/jpeg:https://revolutionaryvalley.org/wp-content/uploads/2024/02/1162549789.jpg
GEO:42.6372936;-71.3105277
X-APPLE-STRUCTURED-LOCATION;VALUE=URI;X-ADDRESS=STEM Academy 43 Highland St. Lowell 01852 United States;X-APPLE-RADIUS=500;X-TITLE=43 Highland St.:geo:-71.3105277,42.6372936
END:VEVENT
BEGIN:VEVENT
DTSTART;TZID=America/New_York:20240217T200000
DTEND;TZID=America/New_York:20240217T230000
DTSTAMP:20260421T212427
CREATED:20230912T190347Z
LAST-MODIFIED:20241029T131603Z
UID:10035462-1708200000-1708210800@revolutionaryvalley.org
SUMMARY:Live Greek & Middle Eastern Music and Bellydancing
DESCRIPTION:Live music and dancing featuring the Athenian Corner Ensemble
URL:https://revolutionaryvalley.org/event/live-greek-middle-eastern-music-and-bellydancing/2024-02-17/
LOCATION:Athenian Corner Restaurant\, 207 Market Street\, Lowell\, 01852\, United States
CATEGORIES:Arts & Culture,Culinary Tourism
ATTACH;FMTTYPE=image/jpeg:https://revolutionaryvalley.org/wp-content/uploads/2023/09/Ath-Corner-6.jpg
ORGANIZER;CN="Athenian Corner Restaurant":MAILTO:info@atheniancorner.com
GEO:42.6448268;-71.3123604
X-APPLE-STRUCTURED-LOCATION;VALUE=URI;X-ADDRESS=Athenian Corner Restaurant 207 Market Street Lowell 01852 United States;X-APPLE-RADIUS=500;X-TITLE=207 Market Street:geo:-71.3123604,42.6448268
END:VEVENT
BEGIN:VEVENT
DTSTART;TZID=America/New_York:20240224T200000
DTEND;TZID=America/New_York:20240224T230000
DTSTAMP:20260421T212427
CREATED:20230912T190347Z
LAST-MODIFIED:20241029T131603Z
UID:10035463-1708804800-1708815600@revolutionaryvalley.org
SUMMARY:Live Greek & Middle Eastern Music and Bellydancing
DESCRIPTION:Live music and dancing featuring the Athenian Corner Ensemble
URL:https://revolutionaryvalley.org/event/live-greek-middle-eastern-music-and-bellydancing/2024-02-24/
LOCATION:Athenian Corner Restaurant\, 207 Market Street\, Lowell\, 01852\, United States
CATEGORIES:Arts & Culture,Culinary Tourism
ATTACH;FMTTYPE=image/jpeg:https://revolutionaryvalley.org/wp-content/uploads/2023/09/Ath-Corner-6.jpg
ORGANIZER;CN="Athenian Corner Restaurant":MAILTO:info@atheniancorner.com
GEO:42.6448268;-71.3123604
X-APPLE-STRUCTURED-LOCATION;VALUE=URI;X-ADDRESS=Athenian Corner Restaurant 207 Market Street Lowell 01852 United States;X-APPLE-RADIUS=500;X-TITLE=207 Market Street:geo:-71.3123604,42.6448268
END:VEVENT
END:VCALENDAR