BEGIN:VCALENDAR
VERSION:2.0
PRODID:-//Revolutionary Valley Regional Tourism Council - ECPv6.15.0.1//NONSGML v1.0//EN
CALSCALE:GREGORIAN
METHOD:PUBLISH
X-WR-CALNAME:Revolutionary Valley Regional Tourism Council
X-ORIGINAL-URL:https://revolutionaryvalley.org
X-WR-CALDESC:Events for Revolutionary Valley Regional Tourism Council
REFRESH-INTERVAL;VALUE=DURATION:PT1H
X-Robots-Tag:noindex
X-PUBLISHED-TTL:PT1H
BEGIN:VTIMEZONE
TZID:America/New_York
BEGIN:DAYLIGHT
TZOFFSETFROM:-0500
TZOFFSETTO:-0400
TZNAME:EDT
DTSTART:20240310T070000
END:DAYLIGHT
BEGIN:STANDARD
TZOFFSETFROM:-0400
TZOFFSETTO:-0500
TZNAME:EST
DTSTART:20241103T060000
END:STANDARD
END:VTIMEZONE
BEGIN:VEVENT
DTSTART;TZID=America/New_York:20240406T200000
DTEND;TZID=America/New_York:20240406T230000
DTSTAMP:20260420T110209
CREATED:20230912T190347Z
LAST-MODIFIED:20241029T131603Z
UID:10035469-1712433600-1712444400@revolutionaryvalley.org
SUMMARY:Live Greek & Middle Eastern Music and Bellydancing
DESCRIPTION:Live music and dancing featuring the Athenian Corner Ensemble
URL:https://revolutionaryvalley.org/event/live-greek-middle-eastern-music-and-bellydancing/2024-04-06/
LOCATION:Athenian Corner Restaurant\, 207 Market Street\, Lowell\, 01852\, United States
CATEGORIES:Arts & Culture,Culinary Tourism
ATTACH;FMTTYPE=image/jpeg:https://revolutionaryvalley.org/wp-content/uploads/2023/09/Ath-Corner-6.jpg
ORGANIZER;CN="Athenian Corner Restaurant":MAILTO:info@atheniancorner.com
GEO:42.6448268;-71.3123604
X-APPLE-STRUCTURED-LOCATION;VALUE=URI;X-ADDRESS=Athenian Corner Restaurant 207 Market Street Lowell 01852 United States;X-APPLE-RADIUS=500;X-TITLE=207 Market Street:geo:-71.3123604,42.6448268
END:VEVENT
BEGIN:VEVENT
DTSTART;TZID=America/New_York:20240410T170000
DTEND;TZID=America/New_York:20240410T190000
DTSTAMP:20260420T110209
CREATED:20240301T143906Z
LAST-MODIFIED:20240301T144716Z
UID:10050786-1712768400-1712775600@revolutionaryvalley.org
SUMMARY:Wine-INN Wednesday
DESCRIPTION:Lexington’s Inn at Hastings Park\, Boston area’s ONLY Relais & Châteaux property\, is hosting a complimentary wine tasting of the world’s best wines every second Wednesday of the month throughout 2024 at Town Meeting Bistro’s beautiful bar beginning on March 13\, 2024. Meet and learn from the industry’s top experts\, leaders\, distributors\, and winemakers as you sample the delicious aromas and flavors of each month’s featured varietals. Make a night out of it and book a reservation at Town Meeting Bistro after the tasting and order a bottle of your favorite! These events are for adults only\, 21 and older.
URL:https://revolutionaryvalley.org/event/wine-inn-wednesday/2024-04-10/
LOCATION:The Inn at Hastings Park\, 2027 Massachusetts Ave\, Lexington\, MA\, 02421\, United States
CATEGORIES:Culinary Tourism,Featured,Free Events
ATTACH;FMTTYPE=image/jpeg:https://revolutionaryvalley.org/wp-content/uploads/2024/03/Wine-INN-Wednesday-scaled.jpg
ORGANIZER;CN="The Inn at Hastings Park":MAILTO:https://www.innathastingspark.com/dining/holiday-dining/
GEO:42.4495227;-71.236516
X-APPLE-STRUCTURED-LOCATION;VALUE=URI;X-ADDRESS=The Inn at Hastings Park 2027 Massachusetts Ave Lexington MA 02421 United States;X-APPLE-RADIUS=500;X-TITLE=2027 Massachusetts Ave:geo:-71.236516,42.4495227
END:VEVENT
BEGIN:VEVENT
DTSTART;TZID=America/New_York:20240412T180000
DTEND;TZID=America/New_York:20240412T223000
DTSTAMP:20260420T110209
CREATED:20240329T134437Z
LAST-MODIFIED:20240329T171946Z
UID:10052758-1712944800-1712961000@revolutionaryvalley.org
SUMMARY:The Experience at Brew's Awakening Coffeehaus
DESCRIPTION:Friday April 12. \nTwo Sittings 6-8 and 8:30-10:30 \n  \nThree Course cocktail with Banh mi board \nReservations can be made by calling Brew’d at 978.454.2739 or DM via Brew’d Instagram page.
URL:https://revolutionaryvalley.org/event/the-experience-at-brews-awakening-coffeehaus/
LOCATION:Brew’d Awakening Coffeehaus\, 61 Market St.\, Lowell\, 01852\, United States
CATEGORIES:Culinary Tourism
GEO:42.6445873;-71.3097357
X-APPLE-STRUCTURED-LOCATION;VALUE=URI;X-ADDRESS=Brew’d Awakening Coffeehaus 61 Market St. Lowell 01852 United States;X-APPLE-RADIUS=500;X-TITLE=61 Market St.:geo:-71.3097357,42.6445873
END:VEVENT
BEGIN:VEVENT
DTSTART;TZID=America/New_York:20240413T200000
DTEND;TZID=America/New_York:20240413T230000
DTSTAMP:20260420T110209
CREATED:20230912T190347Z
LAST-MODIFIED:20241029T131603Z
UID:10035470-1713038400-1713049200@revolutionaryvalley.org
SUMMARY:Live Greek & Middle Eastern Music and Bellydancing
DESCRIPTION:Live music and dancing featuring the Athenian Corner Ensemble
URL:https://revolutionaryvalley.org/event/live-greek-middle-eastern-music-and-bellydancing/2024-04-13/
LOCATION:Athenian Corner Restaurant\, 207 Market Street\, Lowell\, 01852\, United States
CATEGORIES:Arts & Culture,Culinary Tourism
ATTACH;FMTTYPE=image/jpeg:https://revolutionaryvalley.org/wp-content/uploads/2023/09/Ath-Corner-6.jpg
ORGANIZER;CN="Athenian Corner Restaurant":MAILTO:info@atheniancorner.com
GEO:42.6448268;-71.3123604
X-APPLE-STRUCTURED-LOCATION;VALUE=URI;X-ADDRESS=Athenian Corner Restaurant 207 Market Street Lowell 01852 United States;X-APPLE-RADIUS=500;X-TITLE=207 Market Street:geo:-71.3123604,42.6448268
END:VEVENT
BEGIN:VEVENT
DTSTART;TZID=America/New_York:20240414T200000
DTEND;TZID=America/New_York:20240414T230000
DTSTAMP:20260420T110209
CREATED:20240304T154557Z
LAST-MODIFIED:20240304T154557Z
UID:10050796-1713124800-1713135600@revolutionaryvalley.org
SUMMARY:Midnight Ride Dinner
DESCRIPTION:On the evening of April 18\,1775\, Paul Revere was summoned and given the task of riding on horseback from Charleston to Lexington\, approx. 12.5 miles\, to inform two leaders of the Sons of Liberty\, John Hancock and Samuel Adams who were staying in Lexington\, with the news that British soldiers stationed in Boston were about to march into the countryside northwest of the town. During his famous Midnight Ride\, Revere alerted the countryside of the British military movements with shouts of “the Redcoats are coming!” Not long after sunrise\, on April 19\, 1775\, Capt. John Parker led 77 local militiamen\, faced arriving British troops. Someone — still unknown to this day — fired a shot\, provoking the start of the American Revolution. \nLocated in historic Lexington\, MA\, the Birthplace of American Liberty\, the Inn at Hastings Park’s Town Meeting Bistro will be honoring this historic event with a NEW event – a Midnight Ride Dinner. Guests will enjoy a delicious 5-course Colonial-themed feast created by Executive Chef Alissa Tsukakoshi paired with local area brews and spirits from 8 pm-11 pm in a communal dining setting. This dinner is for adults only\, 21+. Dinner is bookable online. \nA nod to America’s Revolutionary era when town meetings were influential in New England\, where a town’s residents came together to discuss issues\, deliberate collective actions etc.\, Town Bistro Meeting owner (and Lexington resident)\, Trisha Pérez Kennealy\, named Town Meeting Bistro as a tribute to the form of government that has long been popular throughout New England. It is the essence of democracy as citizens represent themselves. It also celebrates what the Inn and Town Meeting is to Lexington — a place for people who live and visit the town to meet. \nGuests are invited to add an overnight stay at the Inn at Hastings Park so they can easily segway into attending the reenactment at the Lexington Battle Green the next morning on Patriot’s Day\, April 15\, 2024\, which begins at 5:30 am\, a 5 minute walk from the Inn.
URL:https://revolutionaryvalley.org/event/midnight-ride-dinner/
LOCATION:The Inn at Hastings Park\, 2027 Massachusetts Ave\, Lexington\, MA\, 02421\, United States
CATEGORIES:Culinary Tourism
ATTACH;FMTTYPE=image/jpeg:https://revolutionaryvalley.org/wp-content/uploads/2024/03/Town-Meeting-Bistro.Interior.jpg
ORGANIZER;CN="The Inn at Hastings Park":MAILTO:https://www.innathastingspark.com/dining/holiday-dining/
GEO:42.4495227;-71.236516
X-APPLE-STRUCTURED-LOCATION;VALUE=URI;X-ADDRESS=The Inn at Hastings Park 2027 Massachusetts Ave Lexington MA 02421 United States;X-APPLE-RADIUS=500;X-TITLE=2027 Massachusetts Ave:geo:-71.236516,42.4495227
END:VEVENT
BEGIN:VEVENT
DTSTART;TZID=America/New_York:20240420T200000
DTEND;TZID=America/New_York:20240420T230000
DTSTAMP:20260420T110209
CREATED:20230912T190347Z
LAST-MODIFIED:20241029T131603Z
UID:10035471-1713643200-1713654000@revolutionaryvalley.org
SUMMARY:Live Greek & Middle Eastern Music and Bellydancing
DESCRIPTION:Live music and dancing featuring the Athenian Corner Ensemble
URL:https://revolutionaryvalley.org/event/live-greek-middle-eastern-music-and-bellydancing/2024-04-20/
LOCATION:Athenian Corner Restaurant\, 207 Market Street\, Lowell\, 01852\, United States
CATEGORIES:Arts & Culture,Culinary Tourism
ATTACH;FMTTYPE=image/jpeg:https://revolutionaryvalley.org/wp-content/uploads/2023/09/Ath-Corner-6.jpg
ORGANIZER;CN="Athenian Corner Restaurant":MAILTO:info@atheniancorner.com
GEO:42.6448268;-71.3123604
X-APPLE-STRUCTURED-LOCATION;VALUE=URI;X-ADDRESS=Athenian Corner Restaurant 207 Market Street Lowell 01852 United States;X-APPLE-RADIUS=500;X-TITLE=207 Market Street:geo:-71.3123604,42.6448268
END:VEVENT
BEGIN:VEVENT
DTSTART;VALUE=DATE:20240422
DTEND;VALUE=DATE:20240423
DTSTAMP:20260420T110209
CREATED:20240401T153752Z
LAST-MODIFIED:20240417T144533Z
UID:10053125-1713744000-1713830399@revolutionaryvalley.org
SUMMARY:Greater Merrimack Valley Restaurant Week - Monday
DESCRIPTION:The Greater Merrimack Valley Restaurant Week \nThis food-focused promotion and business driver will span five business days from Monday\, April 22nd–Friday\, April 26th to support local restaurants. Restaurant Week is a wonderful opportunity to foster new relationships between patrons and restaurateurs\, and to grow first-time and repeat dining experiences for guests in the Greater Merrimack Valley. \n  \nNEW THIS YEAR! \nParticipating restaurants are encouraged to run a special for $20.24 – it can be anything your Culinary Team wants! \n  \nRESTAURANT WEEK REQUIREMENTS \nIt’s time to join the fun! To participate: \n• Simply create a special to showcase your restaurant totaling $20.24 (dine-in only) during the promotional period of Mon\, April 22nd–Friday\, April 26th within your established operating hours. \n• Upload a photo of your special when you register online. \n• Provide a brief description of the dish when you register online. \n• Share your participation on social media \n(see Social Media Toolkit).
URL:https://revolutionaryvalley.org/event/greater-merrimack-valley-restaurant-week/
CATEGORIES:Annual & Special,Culinary Tourism
ATTACH;FMTTYPE=image/jpeg:https://revolutionaryvalley.org/wp-content/uploads/2024/04/El-Potro-Lowell-scaled.jpg
END:VEVENT
BEGIN:VEVENT
DTSTART;VALUE=DATE:20240423
DTEND;VALUE=DATE:20240424
DTSTAMP:20260420T110209
CREATED:20240417T144456Z
LAST-MODIFIED:20240417T144456Z
UID:10054069-1713830400-1713916799@revolutionaryvalley.org
SUMMARY:Greater Merrimack Valley Restaurant Week - Tuesday
DESCRIPTION:The Greater Merrimack Valley Restaurant Week \nThis food-focused promotion and business driver will span five business days from Monday\, April 22nd–Friday\, April 26th to support local restaurants. Restaurant Week is a wonderful opportunity to foster new relationships between patrons and restaurateurs\, and to grow first-time and repeat dining experiences for guests in the Greater Merrimack Valley. \n  \nNEW THIS YEAR! \nParticipating restaurants are encouraged to run a special for $20.24 – it can be anything your Culinary Team wants! \n  \nRESTAURANT WEEK REQUIREMENTS \nIt’s time to join the fun! To participate: \n• Simply create a special to showcase your restaurant totaling $20.24 (dine-in only) during the promotional period of Mon\, April 22nd–Friday\, April 26th within your established operating hours. \n• Upload a photo of your special when you register online. \n• Provide a brief description of the dish when you register online. \n• Share your participation on social media \n(see Social Media Toolkit).
URL:https://revolutionaryvalley.org/event/greater-merrimack-valley-restaurant-week-tuesday/
CATEGORIES:Annual & Special,Culinary Tourism
ATTACH;FMTTYPE=image/jpeg:https://revolutionaryvalley.org/wp-content/uploads/2024/04/Cobblestones-Lowell.jpg
END:VEVENT
BEGIN:VEVENT
DTSTART;VALUE=DATE:20240424
DTEND;VALUE=DATE:20240425
DTSTAMP:20260420T110209
CREATED:20240417T144624Z
LAST-MODIFIED:20240417T144751Z
UID:10054070-1713916800-1714003199@revolutionaryvalley.org
SUMMARY:Greater Merrimack Valley Restaurant Week - Wednesday
DESCRIPTION:The Greater Merrimack Valley Restaurant Week \nThis food-focused promotion and business driver will span five business days from Monday\, April 22nd–Friday\, April 26th to support local restaurants. Restaurant Week is a wonderful opportunity to foster new relationships between patrons and restaurateurs\, and to grow first-time and repeat dining experiences for guests in the Greater Merrimack Valley. \n  \nNEW THIS YEAR! \nParticipating restaurants are encouraged to run a special for $20.24 – it can be anything your Culinary Team wants! \n  \nRESTAURANT WEEK REQUIREMENTS \nIt’s time to join the fun! To participate: \n• Simply create a special to showcase your restaurant totaling $20.24 (dine-in only) during the promotional period of Mon\, April 22nd–Friday\, April 26th within your established operating hours. \n• Upload a photo of your special when you register online. \n• Provide a brief description of the dish when you register online. \n• Share your participation on social media \n(see Social Media Toolkit).
URL:https://revolutionaryvalley.org/event/greater-merrimack-valley-restaurant-week-wednesday/
CATEGORIES:Annual & Special,Culinary Tourism
ATTACH;FMTTYPE=image/jpeg:https://revolutionaryvalley.org/wp-content/uploads/2024/04/Owen-and-Ollies-Dracut-scaled.jpg
END:VEVENT
BEGIN:VEVENT
DTSTART;VALUE=DATE:20240425
DTEND;VALUE=DATE:20240426
DTSTAMP:20260420T110209
CREATED:20240417T144704Z
LAST-MODIFIED:20240417T145135Z
UID:10054071-1714003200-1714089599@revolutionaryvalley.org
SUMMARY:Greater Merrimack Valley Restaurant Week - Thursday
DESCRIPTION:The Greater Merrimack Valley Restaurant Week \nThis food-focused promotion and business driver will span five business days from Monday\, April 22nd–Friday\, April 26th to support local restaurants. Restaurant Week is a wonderful opportunity to foster new relationships between patrons and restaurateurs\, and to grow first-time and repeat dining experiences for guests in the Greater Merrimack Valley. \n  \nNEW THIS YEAR! \nParticipating restaurants are encouraged to run a special for $20.24 – it can be anything your Culinary Team wants! \n  \nRESTAURANT WEEK REQUIREMENTS \nIt’s time to join the fun! To participate: \n• Simply create a special to showcase your restaurant totaling $20.24 (dine-in only) during the promotional period of Mon\, April 22nd–Friday\, April 26th within your established operating hours. \n• Upload a photo of your special when you register online. \n• Provide a brief description of the dish when you register online. \n• Share your participation on social media \n(see Social Media Toolkit).
URL:https://revolutionaryvalley.org/event/greater-merrimack-valley-restaurant-week-thursday/
CATEGORIES:Annual & Special,Culinary Tourism
ATTACH;FMTTYPE=image/jpeg:https://revolutionaryvalley.org/wp-content/uploads/2024/04/Fuse-Bistro-Lowell.jpg
END:VEVENT
BEGIN:VEVENT
DTSTART;VALUE=DATE:20240426
DTEND;VALUE=DATE:20240427
DTSTAMP:20260420T110209
CREATED:20240417T144956Z
LAST-MODIFIED:20240417T145128Z
UID:10054072-1714089600-1714175999@revolutionaryvalley.org
SUMMARY:Greater Merrimack Valley Restaurant Week - Friday
DESCRIPTION:The Greater Merrimack Valley Restaurant Week \nThis food-focused promotion and business driver will span five business days from Monday\, April 22nd–Friday\, April 26th to support local restaurants. Restaurant Week is a wonderful opportunity to foster new relationships between patrons and restaurateurs\, and to grow first-time and repeat dining experiences for guests in the Greater Merrimack Valley. \n  \nNEW THIS YEAR! \nParticipating restaurants are encouraged to run a special for $20.24 – it can be anything your Culinary Team wants! \n  \nRESTAURANT WEEK REQUIREMENTS \nIt’s time to join the fun! To participate: \n• Simply create a special to showcase your restaurant totaling $20.24 (dine-in only) during the promotional period of Mon\, April 22nd–Friday\, April 26th within your established operating hours. \n• Upload a photo of your special when you register online. \n• Provide a brief description of the dish when you register online. \n• Share your participation on social media \n(see Social Media Toolkit).
URL:https://revolutionaryvalley.org/event/greater-merrimack-valley-restaurant-week-friday/
CATEGORIES:Annual & Special,Culinary Tourism
ATTACH;FMTTYPE=image/png:https://revolutionaryvalley.org/wp-content/uploads/2024/04/Screenshot-2024-04-17-at-10.48.13-AM.png
END:VEVENT
BEGIN:VEVENT
DTSTART;TZID=America/New_York:20240427T200000
DTEND;TZID=America/New_York:20240427T230000
DTSTAMP:20260420T110209
CREATED:20230912T190347Z
LAST-MODIFIED:20241029T131603Z
UID:10035472-1714248000-1714258800@revolutionaryvalley.org
SUMMARY:Live Greek & Middle Eastern Music and Bellydancing
DESCRIPTION:Live music and dancing featuring the Athenian Corner Ensemble
URL:https://revolutionaryvalley.org/event/live-greek-middle-eastern-music-and-bellydancing/2024-04-27/
LOCATION:Athenian Corner Restaurant\, 207 Market Street\, Lowell\, 01852\, United States
CATEGORIES:Arts & Culture,Culinary Tourism
ATTACH;FMTTYPE=image/jpeg:https://revolutionaryvalley.org/wp-content/uploads/2023/09/Ath-Corner-6.jpg
ORGANIZER;CN="Athenian Corner Restaurant":MAILTO:info@atheniancorner.com
GEO:42.6448268;-71.3123604
X-APPLE-STRUCTURED-LOCATION;VALUE=URI;X-ADDRESS=Athenian Corner Restaurant 207 Market Street Lowell 01852 United States;X-APPLE-RADIUS=500;X-TITLE=207 Market Street:geo:-71.3123604,42.6448268
END:VEVENT
END:VCALENDAR