BEGIN:VCALENDAR
VERSION:2.0
PRODID:-//Revolutionary Valley Regional Tourism Council - ECPv6.15.0.1//NONSGML v1.0//EN
CALSCALE:GREGORIAN
METHOD:PUBLISH
X-ORIGINAL-URL:https://revolutionaryvalley.org
X-WR-CALDESC:Events for Revolutionary Valley Regional Tourism Council
REFRESH-INTERVAL;VALUE=DURATION:PT1H
X-Robots-Tag:noindex
X-PUBLISHED-TTL:PT1H
BEGIN:VTIMEZONE
TZID:America/New_York
BEGIN:DAYLIGHT
TZOFFSETFROM:-0500
TZOFFSETTO:-0400
TZNAME:EDT
DTSTART:20240310T070000
END:DAYLIGHT
BEGIN:STANDARD
TZOFFSETFROM:-0400
TZOFFSETTO:-0500
TZNAME:EST
DTSTART:20241103T060000
END:STANDARD
END:VTIMEZONE
BEGIN:VEVENT
DTSTART;TZID=America/New_York:20240601T200000
DTEND;TZID=America/New_York:20240601T230000
DTSTAMP:20260420T080413
CREATED:20230912T190347Z
LAST-MODIFIED:20241029T131603Z
UID:10035477-1717272000-1717282800@revolutionaryvalley.org
SUMMARY:Live Greek & Middle Eastern Music and Bellydancing
DESCRIPTION:Live music and dancing featuring the Athenian Corner Ensemble
URL:https://revolutionaryvalley.org/event/live-greek-middle-eastern-music-and-bellydancing/2024-06-01/
LOCATION:Athenian Corner Restaurant\, 207 Market Street\, Lowell\, 01852\, United States
CATEGORIES:Arts & Culture,Culinary Tourism
ATTACH;FMTTYPE=image/jpeg:https://revolutionaryvalley.org/wp-content/uploads/2023/09/Ath-Corner-6.jpg
ORGANIZER;CN="Athenian Corner Restaurant":MAILTO:info@atheniancorner.com
GEO:42.6448268;-71.3123604
X-APPLE-STRUCTURED-LOCATION;VALUE=URI;X-ADDRESS=Athenian Corner Restaurant 207 Market Street Lowell 01852 United States;X-APPLE-RADIUS=500;X-TITLE=207 Market Street:geo:-71.3123604,42.6448268
END:VEVENT
BEGIN:VEVENT
DTSTART;TZID=America/New_York:20240608T200000
DTEND;TZID=America/New_York:20240608T230000
DTSTAMP:20260420T080413
CREATED:20230912T190347Z
LAST-MODIFIED:20241029T131603Z
UID:10035478-1717876800-1717887600@revolutionaryvalley.org
SUMMARY:Live Greek & Middle Eastern Music and Bellydancing
DESCRIPTION:Live music and dancing featuring the Athenian Corner Ensemble
URL:https://revolutionaryvalley.org/event/live-greek-middle-eastern-music-and-bellydancing/2024-06-08/
LOCATION:Athenian Corner Restaurant\, 207 Market Street\, Lowell\, 01852\, United States
CATEGORIES:Arts & Culture,Culinary Tourism
ATTACH;FMTTYPE=image/jpeg:https://revolutionaryvalley.org/wp-content/uploads/2023/09/Ath-Corner-6.jpg
ORGANIZER;CN="Athenian Corner Restaurant":MAILTO:info@atheniancorner.com
GEO:42.6448268;-71.3123604
X-APPLE-STRUCTURED-LOCATION;VALUE=URI;X-ADDRESS=Athenian Corner Restaurant 207 Market Street Lowell 01852 United States;X-APPLE-RADIUS=500;X-TITLE=207 Market Street:geo:-71.3123604,42.6448268
END:VEVENT
BEGIN:VEVENT
DTSTART;TZID=America/New_York:20240612T170000
DTEND;TZID=America/New_York:20240612T190000
DTSTAMP:20260420T080413
CREATED:20240301T143906Z
LAST-MODIFIED:20240301T144716Z
UID:10050788-1718211600-1718218800@revolutionaryvalley.org
SUMMARY:Wine-INN Wednesday
DESCRIPTION:Lexington’s Inn at Hastings Park\, Boston area’s ONLY Relais & Châteaux property\, is hosting a complimentary wine tasting of the world’s best wines every second Wednesday of the month throughout 2024 at Town Meeting Bistro’s beautiful bar beginning on March 13\, 2024. Meet and learn from the industry’s top experts\, leaders\, distributors\, and winemakers as you sample the delicious aromas and flavors of each month’s featured varietals. Make a night out of it and book a reservation at Town Meeting Bistro after the tasting and order a bottle of your favorite! These events are for adults only\, 21 and older.
URL:https://revolutionaryvalley.org/event/wine-inn-wednesday/2024-06-12/
LOCATION:The Inn at Hastings Park\, 2027 Massachusetts Ave\, Lexington\, MA\, 02421\, United States
CATEGORIES:Culinary Tourism,Featured,Free Events
ATTACH;FMTTYPE=image/jpeg:https://revolutionaryvalley.org/wp-content/uploads/2024/03/Wine-INN-Wednesday-scaled.jpg
ORGANIZER;CN="The Inn at Hastings Park":MAILTO:https://www.innathastingspark.com/dining/holiday-dining/
GEO:42.4495227;-71.236516
X-APPLE-STRUCTURED-LOCATION;VALUE=URI;X-ADDRESS=The Inn at Hastings Park 2027 Massachusetts Ave Lexington MA 02421 United States;X-APPLE-RADIUS=500;X-TITLE=2027 Massachusetts Ave:geo:-71.236516,42.4495227
END:VEVENT
BEGIN:VEVENT
DTSTART;TZID=America/New_York:20240615T200000
DTEND;TZID=America/New_York:20240615T230000
DTSTAMP:20260420T080413
CREATED:20230912T190347Z
LAST-MODIFIED:20241029T131603Z
UID:10035479-1718481600-1718492400@revolutionaryvalley.org
SUMMARY:Live Greek & Middle Eastern Music and Bellydancing
DESCRIPTION:Live music and dancing featuring the Athenian Corner Ensemble
URL:https://revolutionaryvalley.org/event/live-greek-middle-eastern-music-and-bellydancing/2024-06-15/
LOCATION:Athenian Corner Restaurant\, 207 Market Street\, Lowell\, 01852\, United States
CATEGORIES:Arts & Culture,Culinary Tourism
ATTACH;FMTTYPE=image/jpeg:https://revolutionaryvalley.org/wp-content/uploads/2023/09/Ath-Corner-6.jpg
ORGANIZER;CN="Athenian Corner Restaurant":MAILTO:info@atheniancorner.com
GEO:42.6448268;-71.3123604
X-APPLE-STRUCTURED-LOCATION;VALUE=URI;X-ADDRESS=Athenian Corner Restaurant 207 Market Street Lowell 01852 United States;X-APPLE-RADIUS=500;X-TITLE=207 Market Street:geo:-71.3123604,42.6448268
END:VEVENT
BEGIN:VEVENT
DTSTART;TZID=America/New_York:20240620T190000
DTEND;TZID=America/New_York:20240620T210000
DTSTAMP:20260420T080413
CREATED:20240606T184156Z
LAST-MODIFIED:20240606T184156Z
UID:10056860-1718910000-1718917200@revolutionaryvalley.org
SUMMARY:Summer Solstice Party in the Schramsberg Garden at the Inn at Hastings Park
DESCRIPTION:An ode to the blissful rhythm of summer of warm days and long evenings. The Inn at Hastings Park\, Boston area’s ONLY Relais & Châteaux property\, is hosting an al fresco summer solstice cocktail party in its exclusive Schramsberg Garden tucked between the Inn’s main building and its masterfully restored barn. This stylish summer solstice soiree celebrates the first day of summer and longest day of the year with refreshing Schramsberg Vineyard selections and solstice-inspired passed appetizers amidst a symphony of lush\, colorful flowers and fragrant garden herbs.
URL:https://revolutionaryvalley.org/event/summer-solstice-party-in-the-schramsberg-garden-at-the-inn-at-hastings-park/
LOCATION:The Inn at Hastings Park\, 2027 Massachusetts Ave\, Lexington\, MA\, 02421\, United States
CATEGORIES:Annual & Special,Culinary Tourism,Featured,Outdoors
ATTACH;FMTTYPE=image/jpeg:https://revolutionaryvalley.org/wp-content/uploads/2024/06/Summer-Solstice-Party-at-Inn-at-Hastings-Park.June-20-2024-scaled.jpg
ORGANIZER;CN="The Inn at Hastings Park":MAILTO:https://www.innathastingspark.com/dining/holiday-dining/
GEO:42.4495227;-71.236516
X-APPLE-STRUCTURED-LOCATION;VALUE=URI;X-ADDRESS=The Inn at Hastings Park 2027 Massachusetts Ave Lexington MA 02421 United States;X-APPLE-RADIUS=500;X-TITLE=2027 Massachusetts Ave:geo:-71.236516,42.4495227
END:VEVENT
BEGIN:VEVENT
DTSTART;TZID=America/New_York:20240622T200000
DTEND;TZID=America/New_York:20240622T230000
DTSTAMP:20260420T080413
CREATED:20230912T190347Z
LAST-MODIFIED:20241029T131603Z
UID:10035480-1719086400-1719097200@revolutionaryvalley.org
SUMMARY:Live Greek & Middle Eastern Music and Bellydancing
DESCRIPTION:Live music and dancing featuring the Athenian Corner Ensemble
URL:https://revolutionaryvalley.org/event/live-greek-middle-eastern-music-and-bellydancing/2024-06-22/
LOCATION:Athenian Corner Restaurant\, 207 Market Street\, Lowell\, 01852\, United States
CATEGORIES:Arts & Culture,Culinary Tourism
ATTACH;FMTTYPE=image/jpeg:https://revolutionaryvalley.org/wp-content/uploads/2023/09/Ath-Corner-6.jpg
ORGANIZER;CN="Athenian Corner Restaurant":MAILTO:info@atheniancorner.com
GEO:42.6448268;-71.3123604
X-APPLE-STRUCTURED-LOCATION;VALUE=URI;X-ADDRESS=Athenian Corner Restaurant 207 Market Street Lowell 01852 United States;X-APPLE-RADIUS=500;X-TITLE=207 Market Street:geo:-71.3123604,42.6448268
END:VEVENT
BEGIN:VEVENT
DTSTART;TZID=America/New_York:20240629T200000
DTEND;TZID=America/New_York:20240629T230000
DTSTAMP:20260420T080413
CREATED:20230912T190347Z
LAST-MODIFIED:20241029T131603Z
UID:10035481-1719691200-1719702000@revolutionaryvalley.org
SUMMARY:Live Greek & Middle Eastern Music and Bellydancing
DESCRIPTION:Live music and dancing featuring the Athenian Corner Ensemble
URL:https://revolutionaryvalley.org/event/live-greek-middle-eastern-music-and-bellydancing/2024-06-29/
LOCATION:Athenian Corner Restaurant\, 207 Market Street\, Lowell\, 01852\, United States
CATEGORIES:Arts & Culture,Culinary Tourism
ATTACH;FMTTYPE=image/jpeg:https://revolutionaryvalley.org/wp-content/uploads/2023/09/Ath-Corner-6.jpg
ORGANIZER;CN="Athenian Corner Restaurant":MAILTO:info@atheniancorner.com
GEO:42.6448268;-71.3123604
X-APPLE-STRUCTURED-LOCATION;VALUE=URI;X-ADDRESS=Athenian Corner Restaurant 207 Market Street Lowell 01852 United States;X-APPLE-RADIUS=500;X-TITLE=207 Market Street:geo:-71.3123604,42.6448268
END:VEVENT
END:VCALENDAR