BEGIN:VCALENDAR
VERSION:2.0
PRODID:-//Revolutionary Valley Regional Tourism Council - ECPv6.15.0.1//NONSGML v1.0//EN
CALSCALE:GREGORIAN
METHOD:PUBLISH
X-ORIGINAL-URL:https://revolutionaryvalley.org
X-WR-CALDESC:Events for Revolutionary Valley Regional Tourism Council
REFRESH-INTERVAL;VALUE=DURATION:PT1H
X-Robots-Tag:noindex
X-PUBLISHED-TTL:PT1H
BEGIN:VTIMEZONE
TZID:America/New_York
BEGIN:DAYLIGHT
TZOFFSETFROM:-0500
TZOFFSETTO:-0400
TZNAME:EDT
DTSTART:20240310T070000
END:DAYLIGHT
BEGIN:STANDARD
TZOFFSETFROM:-0400
TZOFFSETTO:-0500
TZNAME:EST
DTSTART:20241103T060000
END:STANDARD
END:VTIMEZONE
BEGIN:VEVENT
DTSTART;TZID=America/New_York:20240724T170000
DTEND;TZID=America/New_York:20240724T200000
DTSTAMP:20260420T044547
CREATED:20240711T183253Z
LAST-MODIFIED:20240711T183253Z
UID:10057073-1721840400-1721851200@revolutionaryvalley.org
SUMMARY:National Tequila Day with Código 1530 Tequila
DESCRIPTION:Join us on Wednesday\, July 24th\, as we celebrate National Tequila Day with a fantastic evening you won’t want to miss! The Groton Inn and Forge & Vine have teamed up with Código 1530 Tequila to bring you an unforgettable summer evening. \nEnjoy samples of Código 1530’s finest tequilas\, including Blanco\, Añejo\, Reposado\, and Mezcal\, and savor delicious mixed drinks crafted from these exceptional spirits. Our Food Truck will feature a custom chef’s menu perfectly paired with your drinks\, ensuring a delightful culinary experience. \nAs a special treat\, receive a complimentary branded gift with the purchase of a specialty cocktail (while supplies last). Come join us for a night of great flavors\, good company\, and plenty of tequila! \nDate: Wednesday\, July 24th\nLocation: The Groton Inn & Forge & Vine Lawns\nTime: 5pm – 8pm \nFree to attend\, no registration required. Food & drinks available for purchase.
URL:https://revolutionaryvalley.org/event/national-tequila-day-with-codigo-1530-tequila/
LOCATION:The Groton Inn\, The Groton Inn\, 128 Main St\, Groton\, MA\, 01450\, United States
CATEGORIES:Culinary Tourism,Food
ATTACH;FMTTYPE=image/png:https://revolutionaryvalley.org/wp-content/uploads/2024/07/Facebook-Cover-Event-Photo-24.png
ORGANIZER;CN="The Groton Inn | Forge &amp%3B Vine":MAILTO:jvitolo@thegrotoninn.com
GEO:42.6067619;-71.5684432
X-APPLE-STRUCTURED-LOCATION;VALUE=URI;X-ADDRESS=The Groton Inn The Groton Inn 128 Main St Groton MA 01450 United States;X-APPLE-RADIUS=500;X-TITLE=The Groton Inn\, 128 Main St:geo:-71.5684432,42.6067619
END:VEVENT
END:VCALENDAR