BEGIN:VCALENDAR
VERSION:2.0
PRODID:-//Revolutionary Valley Regional Tourism Council - ECPv6.15.0.1//NONSGML v1.0//EN
CALSCALE:GREGORIAN
METHOD:PUBLISH
X-WR-CALNAME:Revolutionary Valley Regional Tourism Council
X-ORIGINAL-URL:https://revolutionaryvalley.org
X-WR-CALDESC:Events for Revolutionary Valley Regional Tourism Council
REFRESH-INTERVAL;VALUE=DURATION:PT1H
X-Robots-Tag:noindex
X-PUBLISHED-TTL:PT1H
BEGIN:VTIMEZONE
TZID:America/New_York
BEGIN:DAYLIGHT
TZOFFSETFROM:-0500
TZOFFSETTO:-0400
TZNAME:EDT
DTSTART:20240310T070000
END:DAYLIGHT
BEGIN:STANDARD
TZOFFSETFROM:-0400
TZOFFSETTO:-0500
TZNAME:EST
DTSTART:20241103T060000
END:STANDARD
END:VTIMEZONE
BEGIN:VEVENT
DTSTART;TZID=America/New_York:20240605T080000
DTEND;TZID=America/New_York:20240605T170000
DTSTAMP:20260423T193410
CREATED:20240605T154212Z
LAST-MODIFIED:20240605T154212Z
UID:10056857-1717574400-1717606800@revolutionaryvalley.org
SUMMARY:Exhibit Opening: The Portuguese In Lowell: The Familiar And The New
DESCRIPTION:Join Lowell National Historical Park and the Saab Center for Portugues Studies at UMass Lowell for the opening of a new exhibit “The Portuguese In Lowell: The Familiar And The New” at the Boott Cotton Mill Museum (115 John St.) \nThe event will begin at Boarding House Park with a performance by the Holy Ghost Band at 2:30. The band will lead participants to the gallery which will be open from 3-5 p.m. A reception and remarks will take place after the procession to the Boott Cotton Mills Museum. \nThe exhibit will be on view from June 8. 2024 through February 24\, 2025. \nFor more information visit\, https://www.nps.gov/lowe/learn/portuguese-connections.htm.
URL:https://revolutionaryvalley.org/event/exhibit-opening-the-portuguese-in-lowell-the-familiar-and-the-new/
LOCATION:Lowell National Historical Park – Boott Cotton Mills Gallery\, 115 John Street\, Lowell\, 01852\, United States
CATEGORIES:Arts & Culture,Exhibits,Free Events,Historical
ATTACH;FMTTYPE=image/jpeg:https://revolutionaryvalley.org/wp-content/uploads/2024/06/Portuguese-Exhibit.jpg
ORGANIZER;CN="Lowell National Historical Park":MAILTO:phil_lupsiewicz@nps.gov
GEO:42.6472986;-71.3066893
X-APPLE-STRUCTURED-LOCATION;VALUE=URI;X-ADDRESS=Lowell National Historical Park – Boott Cotton Mills Gallery 115 John Street Lowell 01852 United States;X-APPLE-RADIUS=500;X-TITLE=115 John Street:geo:-71.3066893,42.6472986
END:VEVENT
BEGIN:VEVENT
DTSTART;TZID=America/New_York:20240619T160000
DTEND;TZID=America/New_York:20240619T190000
DTSTAMP:20260423T193410
CREATED:20240612T185830Z
LAST-MODIFIED:20240613T141014Z
UID:10056874-1718812800-1718823600@revolutionaryvalley.org
SUMMARY:Classic Car Show ft. Allen James Band at The Groton Inn
DESCRIPTION:Join us at Forge & Vine for a great evening of autos\, set right on our lawn overlooking stunning Gibbet Hill. Enjoy live music by the Allen James Band\, explore a variety of classic cars\, mingle with other car enthusiasts\, indulge in refreshing drinks\, and dine on delicious bites from the new Forge & Vine food truck. \nFree to attend\, no reservations required.
URL:https://revolutionaryvalley.org/event/classic-car-show-at-the-groton-inn/
LOCATION:The Groton Inn\, The Groton Inn\, 128 Main St\, Groton\, MA\, 01450\, United States
CATEGORIES:Exhibits,Free Events,Kids & Family,Live Performances,Outdoors
ATTACH;FMTTYPE=image/png:https://revolutionaryvalley.org/wp-content/uploads/2024/06/GH-Half-Page-Ads-2024-20.png
ORGANIZER;CN="The Groton Inn | Forge &amp%3B Vine":MAILTO:jvitolo@thegrotoninn.com
GEO:42.6067619;-71.5684432
X-APPLE-STRUCTURED-LOCATION;VALUE=URI;X-ADDRESS=The Groton Inn The Groton Inn 128 Main St Groton MA 01450 United States;X-APPLE-RADIUS=500;X-TITLE=The Groton Inn\, 128 Main St:geo:-71.5684432,42.6067619
END:VEVENT
END:VCALENDAR