BEGIN:VCALENDAR
VERSION:2.0
PRODID:-//Revolutionary Valley Regional Tourism Council - ECPv6.15.0.1//NONSGML v1.0//EN
CALSCALE:GREGORIAN
METHOD:PUBLISH
X-ORIGINAL-URL:https://revolutionaryvalley.org
X-WR-CALDESC:Events for Revolutionary Valley Regional Tourism Council
REFRESH-INTERVAL;VALUE=DURATION:PT1H
X-Robots-Tag:noindex
X-PUBLISHED-TTL:PT1H
BEGIN:VTIMEZONE
TZID:America/New_York
BEGIN:DAYLIGHT
TZOFFSETFROM:-0500
TZOFFSETTO:-0400
TZNAME:EDT
DTSTART:20240310T070000
END:DAYLIGHT
BEGIN:STANDARD
TZOFFSETFROM:-0400
TZOFFSETTO:-0500
TZNAME:EST
DTSTART:20241103T060000
END:STANDARD
END:VTIMEZONE
BEGIN:VEVENT
DTSTART;VALUE=DATE:20241004
DTEND;VALUE=DATE:20241006
DTSTAMP:20260423T194049
CREATED:20240829T143007Z
LAST-MODIFIED:20240829T143007Z
UID:10057185-1728000000-1728172799@revolutionaryvalley.org
SUMMARY:El Encuentro Latino Film Festival
DESCRIPTION:El Encuentro Film Festival\, presented by UNITAS\, invites you to celebrate the vibrant world of Latino storytelling through film during Hispanic Heritage Month. \nJoin us on Friday\, October 4th &  Saturday\, October 5th\, 2024\, at the Richard and Nancy Donahue Theater at Middlesex Community College in downtown Lowell\, MA. This in-person festival is a dynamic showcase of both emerging and established Latino voices\, blending creativity with culture. \nWith its deep roots in Latino independent film\, El Encuentro is more than just a festival—it’s a celebration of artistic expression and cultural exchange. Attendees can look forward to exclusive film premieres\, insightful conversations with filmmakers\, and live performances that highlight the richness of Latino culture. \nTickets are available for $15 for the general public and $10 for students\, and can be purchased via Eventbrite or at the door. Don’t miss this opportunity to be part of a cultural experience that bridges communities and amplifies Latino voices.
URL:https://revolutionaryvalley.org/event/el-encuentro-latino-film-festival/
LOCATION:Nancy L. Donahue Theatre in Liberty Hall\, 50 EAST MERRIMACK STREET\, Lowell\, MA\, 01852\, United States
CATEGORIES:Arts & Culture,Fairs & Festivals,Talks and Film
ATTACH;FMTTYPE=image/jpeg:https://revolutionaryvalley.org/wp-content/uploads/2024/08/ElEncuentroLogo.jpg
ORGANIZER;CN="UNITAS":MAILTO:unitasoflowell@gmail.com
GEO:42.6450982;-71.3042176
X-APPLE-STRUCTURED-LOCATION;VALUE=URI;X-ADDRESS=Nancy L. Donahue Theatre in Liberty Hall 50 EAST MERRIMACK STREET Lowell MA 01852 United States;X-APPLE-RADIUS=500;X-TITLE=50 EAST MERRIMACK STREET:geo:-71.3042176,42.6450982
END:VEVENT
BEGIN:VEVENT
DTSTART;TZID=America/New_York:20241005T110000
DTEND;TZID=America/New_York:20241005T140000
DTSTAMP:20260423T194049
CREATED:20240501T122233Z
LAST-MODIFIED:20240823T165217Z
UID:10054888-1728126000-1728136800@revolutionaryvalley.org
SUMMARY:Chelmsford Market on the Common
DESCRIPTION:Farmers and artisans market of local vendors offering fresh local food\, handmade crafts\, and more. Each week during the season brings a different assortment of vendors so check the social media pages for more specific details!
URL:https://revolutionaryvalley.org/event/chelmsford-market-on-the-common/2024-10-05/
LOCATION:Chelmsford Common\, North Road\, Chelmsford\, Massachusetts\, 01824\, United States
CATEGORIES:Fairs & Festivals
ATTACH;FMTTYPE=image/png:https://revolutionaryvalley.org/wp-content/uploads/2024/04/CMotC_Logo.png
ORGANIZER;CN="Chelmsford Community Services":MAILTO:jmelanson@chelmsfordma.gov
GEO:42.5976849;-71.3520404
X-APPLE-STRUCTURED-LOCATION;VALUE=URI;X-ADDRESS=Chelmsford Common North Road Chelmsford Massachusetts 01824 United States;X-APPLE-RADIUS=500;X-TITLE=North Road:geo:-71.3520404,42.5976849
END:VEVENT
BEGIN:VEVENT
DTSTART;TZID=America/New_York:20241010T093000
DTEND;TZID=America/New_York:20241014T143000
DTSTAMP:20260423T194049
CREATED:20240917T175334Z
LAST-MODIFIED:20240918T135605Z
UID:10057459-1728552600-1728916200@revolutionaryvalley.org
SUMMARY:Lowell Celebrates Kerouac 2024 Fall Festival
DESCRIPTION:Lowell Celebrates Kerouac 2024 Fall Festival Oct. 10-14
URL:https://revolutionaryvalley.org/event/lowell-celebrates-kerouac-2024-fall-festival/
LOCATION:Lowell Celebrates Kerouac 2024\, Lowell\, Massachusetts\, United States
CATEGORIES:Fairs & Festivals
ATTACH;FMTTYPE=image/jpeg:https://revolutionaryvalley.org/wp-content/uploads/2024/09/unnamed-400x186-1.jpg
GEO:42.6334247;-71.3161718
END:VEVENT
BEGIN:VEVENT
DTSTART;TZID=America/New_York:20241012T110000
DTEND;TZID=America/New_York:20241012T140000
DTSTAMP:20260423T194049
CREATED:20240501T122233Z
LAST-MODIFIED:20240823T165217Z
UID:10054889-1728730800-1728741600@revolutionaryvalley.org
SUMMARY:Chelmsford Market on the Common
DESCRIPTION:Farmers and artisans market of local vendors offering fresh local food\, handmade crafts\, and more. Each week during the season brings a different assortment of vendors so check the social media pages for more specific details!
URL:https://revolutionaryvalley.org/event/chelmsford-market-on-the-common/2024-10-12/
LOCATION:Chelmsford Common\, North Road\, Chelmsford\, Massachusetts\, 01824\, United States
CATEGORIES:Fairs & Festivals
ATTACH;FMTTYPE=image/png:https://revolutionaryvalley.org/wp-content/uploads/2024/04/CMotC_Logo.png
ORGANIZER;CN="Chelmsford Community Services":MAILTO:jmelanson@chelmsfordma.gov
GEO:42.5976849;-71.3520404
X-APPLE-STRUCTURED-LOCATION;VALUE=URI;X-ADDRESS=Chelmsford Common North Road Chelmsford Massachusetts 01824 United States;X-APPLE-RADIUS=500;X-TITLE=North Road:geo:-71.3520404,42.5976849
END:VEVENT
BEGIN:VEVENT
DTSTART;TZID=America/New_York:20241012T150000
DTEND;TZID=America/New_York:20241012T190000
DTSTAMP:20260423T194049
CREATED:20241001T141512Z
LAST-MODIFIED:20241001T141512Z
UID:10057927-1728745200-1728759600@revolutionaryvalley.org
SUMMARY:Oktoberfest at Good Pickin' Farm
DESCRIPTION:This fest is a celebration for all ages on our beautiful farm! \nIncluded in the ticket price:\nLive Music 🎶\nMini Hayrides 🚜\nAnimal Snuggles 🐐\nLawn Games ⚽ \nAvailable Extras:\nMultiple Breweries 🍺\nConcessions 🍔\nLocal Vendors 🛍️\nFire Pit Seating w/ S’mores Kit 🔥\nPony Mini Rides 🐎\nPYO Pumpkins 🎃
URL:https://revolutionaryvalley.org/event/oktoberfest-at-good-pickin-farm/
LOCATION:Good Pickin’ Farm\, Gould Road\, Westford\, Massachusetts\, 01886\, United States
CATEGORIES:Fairs & Festivals
ATTACH;FMTTYPE=image/jpeg:https://revolutionaryvalley.org/wp-content/uploads/2024/10/Oktoberfest.jpg
GEO:42.6092283;-71.4702878
X-APPLE-STRUCTURED-LOCATION;VALUE=URI;X-ADDRESS=Good Pickin’ Farm Gould Road Westford Massachusetts 01886 United States;X-APPLE-RADIUS=500;X-TITLE=Gould Road:geo:-71.4702878,42.6092283
END:VEVENT
END:VCALENDAR