BEGIN:VCALENDAR
VERSION:2.0
PRODID:-//Revolutionary Valley Regional Tourism Council - ECPv6.15.0.1//NONSGML v1.0//EN
CALSCALE:GREGORIAN
METHOD:PUBLISH
X-WR-CALNAME:Revolutionary Valley Regional Tourism Council
X-ORIGINAL-URL:https://revolutionaryvalley.org
X-WR-CALDESC:Events for Revolutionary Valley Regional Tourism Council
REFRESH-INTERVAL;VALUE=DURATION:PT1H
X-Robots-Tag:noindex
X-PUBLISHED-TTL:PT1H
BEGIN:VTIMEZONE
TZID:America/New_York
BEGIN:DAYLIGHT
TZOFFSETFROM:-0500
TZOFFSETTO:-0400
TZNAME:EDT
DTSTART:20250309T070000
END:DAYLIGHT
BEGIN:STANDARD
TZOFFSETFROM:-0400
TZOFFSETTO:-0500
TZNAME:EST
DTSTART:20251102T060000
END:STANDARD
END:VTIMEZONE
BEGIN:VEVENT
DTSTART;TZID=America/New_York:20250131T170000
DTEND;TZID=America/New_York:20250202T170000
DTSTAMP:20260419T231950
CREATED:20241217T172736Z
LAST-MODIFIED:20241217T172736Z
UID:10061410-1738342800-1738515600@revolutionaryvalley.org
SUMMARY:Winter Carnival 2025 - Town of Lincoln
DESCRIPTION:Winter Carnival – An annual weekend\, organized by Parks & Recreation\, designed to foster a sense of community throughout the Town of Lincoln. All events are sponsored by local organizations. We encourage you to attend as many programs as possible in support of the Lincoln community!\nSchedule of events will be released in early January! Check back soon for all information.\nA town-wide mailing of the schedule will also be going out after the New Year!
URL:https://revolutionaryvalley.org/event/winter-carnival-2025-town-of-lincoln/
LOCATION:Town of Lincoln\, Powder Mill Road 34\, Maynard\, Massachusetts\, 01754\, United States
CATEGORIES:Annual & Special,Fairs & Festivals,Free Events,Kids & Family
ATTACH;FMTTYPE=image/jpeg:https://revolutionaryvalley.org/wp-content/uploads/2024/12/Lincoln.jpg
GEO:42.4342302;-71.4468342
X-APPLE-STRUCTURED-LOCATION;VALUE=URI;X-ADDRESS=Town of Lincoln Powder Mill Road 34 Maynard Massachusetts 01754 United States;X-APPLE-RADIUS=500;X-TITLE=Powder Mill Road 34:geo:-71.4468342,42.4342302
END:VEVENT
BEGIN:VEVENT
DTSTART;TZID=America/New_York:20250221T184500
DTEND;TZID=America/New_York:20250222T211500
DTSTAMP:20260419T231950
CREATED:20240917T185514Z
LAST-MODIFIED:20241016T181023Z
UID:10057467-1740163500-1740258900@revolutionaryvalley.org
SUMMARY:Lowell Winterfest 2025
DESCRIPTION:One of Lowell’s most beloved annual traditions\, Lowell Winterfest is a can’t-miss weekend festival that showcases some of the best the city has to offer. You can shake off those winter blues and experience a memorable and epic festival right in downtown Lowell. From local food to live entertainment to shopping\, there’s no shortage of exciting things to do at Lowell Winterfest 2025! Events Schedule will be available soon.
URL:https://revolutionaryvalley.org/event/lowell-winterfest-2025/
LOCATION:City of Lowell\, Lowell\, Massachusetts\, United States
CATEGORIES:Fairs & Festivals,Kids & Family
ATTACH;FMTTYPE=image/png:https://revolutionaryvalley.org/wp-content/uploads/2024/09/Screenshot-2024-09-17-144006.png
ORGANIZER;CN="City of Lowell%2C Office of Cultural Affairs and Special Events":MAILTO:case@lowellma.gov
GEO:42.6334247;-71.3161718
END:VEVENT
END:VCALENDAR