BEGIN:VCALENDAR
VERSION:2.0
PRODID:-//Revolutionary Valley Regional Tourism Council - ECPv6.15.0.1//NONSGML v1.0//EN
CALSCALE:GREGORIAN
METHOD:PUBLISH
X-ORIGINAL-URL:https://revolutionaryvalley.org
X-WR-CALDESC:Events for Revolutionary Valley Regional Tourism Council
REFRESH-INTERVAL;VALUE=DURATION:PT1H
X-Robots-Tag:noindex
X-PUBLISHED-TTL:PT1H
BEGIN:VTIMEZONE
TZID:America/New_York
BEGIN:DAYLIGHT
TZOFFSETFROM:-0500
TZOFFSETTO:-0400
TZNAME:EDT
DTSTART:20240310T070000
END:DAYLIGHT
BEGIN:STANDARD
TZOFFSETFROM:-0400
TZOFFSETTO:-0500
TZNAME:EST
DTSTART:20241103T060000
END:STANDARD
END:VTIMEZONE
BEGIN:VEVENT
DTSTART;TZID=America/New_York:20240907T110000
DTEND;TZID=America/New_York:20240907T140000
DTSTAMP:20260424T202053
CREATED:20240501T122233Z
LAST-MODIFIED:20240823T165217Z
UID:10054884-1725706800-1725717600@revolutionaryvalley.org
SUMMARY:Chelmsford Market on the Common
DESCRIPTION:Farmers and artisans market of local vendors offering fresh local food\, handmade crafts\, and more. Each week during the season brings a different assortment of vendors so check the social media pages for more specific details!
URL:https://revolutionaryvalley.org/event/chelmsford-market-on-the-common/2024-09-07/
LOCATION:Chelmsford Common\, North Road\, Chelmsford\, Massachusetts\, 01824\, United States
CATEGORIES:Fairs & Festivals
ATTACH;FMTTYPE=image/png:https://revolutionaryvalley.org/wp-content/uploads/2024/04/CMotC_Logo.png
ORGANIZER;CN="Chelmsford Community Services":MAILTO:jmelanson@chelmsfordma.gov
GEO:42.5976849;-71.3520404
X-APPLE-STRUCTURED-LOCATION;VALUE=URI;X-ADDRESS=Chelmsford Common North Road Chelmsford Massachusetts 01824 United States;X-APPLE-RADIUS=500;X-TITLE=North Road:geo:-71.3520404,42.5976849
END:VEVENT
END:VCALENDAR