BEGIN:VCALENDAR
VERSION:2.0
PRODID:-//Revolutionary Valley Regional Tourism Council - ECPv6.15.0.1//NONSGML v1.0//EN
CALSCALE:GREGORIAN
METHOD:PUBLISH
X-WR-CALNAME:Revolutionary Valley Regional Tourism Council
X-ORIGINAL-URL:https://revolutionaryvalley.org
X-WR-CALDESC:Events for Revolutionary Valley Regional Tourism Council
REFRESH-INTERVAL;VALUE=DURATION:PT1H
X-Robots-Tag:noindex
X-PUBLISHED-TTL:PT1H
BEGIN:VTIMEZONE
TZID:America/New_York
BEGIN:DAYLIGHT
TZOFFSETFROM:-0500
TZOFFSETTO:-0400
TZNAME:EDT
DTSTART:20240310T070000
END:DAYLIGHT
BEGIN:STANDARD
TZOFFSETFROM:-0400
TZOFFSETTO:-0500
TZNAME:EST
DTSTART:20241103T060000
END:STANDARD
END:VTIMEZONE
BEGIN:VEVENT
DTSTART;TZID=America/New_York:20240928T100000
DTEND;TZID=America/New_York:20240928T150000
DTSTAMP:20260424T071926
CREATED:20240927T122314Z
LAST-MODIFIED:20240927T122314Z
UID:10057921-1727517600-1727535600@revolutionaryvalley.org
SUMMARY:Free Community Health Fair
DESCRIPTION:Celebrate the Public Health Museum’s 30th Anniversary with a weekend of activities. On Saturday\, September 28th\, visit the museum at 365 East Street\, Tewksbury\, MA from 10AM-3PM for free health screenings\, flu shots\, mini-talks about Rabies\, HIV/AIDS\, Art as Healing\, and more. The museum will be open for tours and we’ll have groups such as MSNO\, MHOA\, MEHA\, UMass Lowell\, Billerica Tewksbury Animal Control\, and the Merrimack Valley Reserve Corps.\nVisit our website for more information at publichealthmuseum.org
URL:https://revolutionaryvalley.org/event/free-community-health-fair/
LOCATION:Public Health Museum\, East Street\, Tewksbury\, MA\, 01876\, United States
CATEGORIES:Fairs & Festivals,Free Events,Kids & Family
ATTACH;FMTTYPE=image/png:https://revolutionaryvalley.org/wp-content/uploads/2024/09/30th-Anniversary-Flyer-002.png
ORGANIZER;CN="Public Health Museum":MAILTO:info@publichealthmuseum.org
GEO:42.611262;-71.2188593
X-APPLE-STRUCTURED-LOCATION;VALUE=URI;X-ADDRESS=Public Health Museum East Street Tewksbury MA 01876 United States;X-APPLE-RADIUS=500;X-TITLE=East Street:geo:-71.2188593,42.611262
END:VEVENT
BEGIN:VEVENT
DTSTART;TZID=America/New_York:20240928T110000
DTEND;TZID=America/New_York:20240928T140000
DTSTAMP:20260424T071926
CREATED:20240501T122233Z
LAST-MODIFIED:20240823T165217Z
UID:10054887-1727521200-1727532000@revolutionaryvalley.org
SUMMARY:Chelmsford Market on the Common
DESCRIPTION:Farmers and artisans market of local vendors offering fresh local food\, handmade crafts\, and more. Each week during the season brings a different assortment of vendors so check the social media pages for more specific details!
URL:https://revolutionaryvalley.org/event/chelmsford-market-on-the-common/2024-09-28/
LOCATION:Chelmsford Common\, North Road\, Chelmsford\, Massachusetts\, 01824\, United States
CATEGORIES:Fairs & Festivals
ATTACH;FMTTYPE=image/png:https://revolutionaryvalley.org/wp-content/uploads/2024/04/CMotC_Logo.png
ORGANIZER;CN="Chelmsford Community Services":MAILTO:jmelanson@chelmsfordma.gov
GEO:42.5976849;-71.3520404
X-APPLE-STRUCTURED-LOCATION;VALUE=URI;X-ADDRESS=Chelmsford Common North Road Chelmsford Massachusetts 01824 United States;X-APPLE-RADIUS=500;X-TITLE=North Road:geo:-71.3520404,42.5976849
END:VEVENT
BEGIN:VEVENT
DTSTART;TZID=America/New_York:20240928T110000
DTEND;TZID=America/New_York:20240928T160000
DTSTAMP:20260424T071926
CREATED:20240927T144737Z
LAST-MODIFIED:20240927T144737Z
UID:10057922-1727521200-1727539200@revolutionaryvalley.org
SUMMARY:Chelmsford Fall Festival
DESCRIPTION:The Chelmsford Board of Health presents the Fall Festival on Saturday\, September 28\, from 11:00 AM- 4:00 PM on the Town Common. Enjoy a fun autumn day and meet a princess or a superhero from Party Palace! Or visit the petting zoo and touch a truck! The event will provide you with music\, food\, drinks\, ice cream and many event vendors!
URL:https://revolutionaryvalley.org/event/chelmsford-fall-festival/
LOCATION:Chelmsford Town Common
CATEGORIES:Fairs & Festivals,Free Events,Kids & Family
ATTACH;FMTTYPE=image/jpeg:https://revolutionaryvalley.org/wp-content/uploads/2024/09/2024-Fall-Festival-Community-Flyer.jpg
END:VEVENT
BEGIN:VEVENT
DTSTART;TZID=America/New_York:20240928T130000
DTEND;TZID=America/New_York:20240928T210000
DTSTAMP:20260424T071926
CREATED:20240917T181320Z
LAST-MODIFIED:20240918T135250Z
UID:10057457-1727528400-1727557200@revolutionaryvalley.org
SUMMARY:Lowell Hispanic Festival 2024
DESCRIPTION:The Lowell Hispanic Festival\, organized by the Latinx Community Center of Empowerment (LCCE)\, is a vibrant and culturally rich event that takes place annually in Lowell\, Massachusetts. This festival is a celebration of the diverse and dynamic Latinx community in the region\, showcasing the heritage\, traditions\, and contributions of Hispanic and Latinx cultures. The event attracts thousands of attendees from Lowell and beyond\, creating a lively atmosphere filled with music\, dance\, art\, and food.
URL:https://revolutionaryvalley.org/event/lowell-hispanic-festival-2024/
LOCATION:Latinx Community Center of Empowerment\, French Street\, Lowell\, Massachusetts\, 01852\, United States
CATEGORIES:Arts & Culture,Fairs & Festivals,Kids & Family,Live Performances,Outdoors
ATTACH;FMTTYPE=image/jpeg:https://revolutionaryvalley.org/wp-content/uploads/2024/09/festival2-1170x427-1.jpg
GEO:42.6478331;-71.309043
X-APPLE-STRUCTURED-LOCATION;VALUE=URI;X-ADDRESS=Latinx Community Center of Empowerment French Street Lowell Massachusetts 01852 United States;X-APPLE-RADIUS=500;X-TITLE=French Street:geo:-71.309043,42.6478331
END:VEVENT
END:VCALENDAR