BEGIN:VCALENDAR
VERSION:2.0
PRODID:-//Revolutionary Valley Regional Tourism Council - ECPv6.15.0.1//NONSGML v1.0//EN
CALSCALE:GREGORIAN
METHOD:PUBLISH
X-ORIGINAL-URL:https://revolutionaryvalley.org
X-WR-CALDESC:Events for Revolutionary Valley Regional Tourism Council
REFRESH-INTERVAL;VALUE=DURATION:PT1H
X-Robots-Tag:noindex
X-PUBLISHED-TTL:PT1H
BEGIN:VTIMEZONE
TZID:America/New_York
BEGIN:DAYLIGHT
TZOFFSETFROM:-0500
TZOFFSETTO:-0400
TZNAME:EDT
DTSTART:20240310T070000
END:DAYLIGHT
BEGIN:STANDARD
TZOFFSETFROM:-0400
TZOFFSETTO:-0500
TZNAME:EST
DTSTART:20241103T060000
END:STANDARD
END:VTIMEZONE
BEGIN:VEVENT
DTSTART;TZID=America/New_York:20241206T180000
DTEND;TZID=America/New_York:20241206T200000
DTSTAMP:20260420T163642
CREATED:20241029T184059Z
LAST-MODIFIED:20241105T000150Z
UID:10060449-1733508000-1733515200@revolutionaryvalley.org
SUMMARY:Whistler Holiday Party and Art Auction
DESCRIPTION:Featuring a Live Art Auction\, Silent Auction\, Dinner\, Open Bar\, Raffles\, and Entertainment! \nIn what is their biggest fundraising event of the year\, the Whistler House Museum of Art will host their annual Whistler Holiday Party on Friday\, December 6th\, 2024 starting at 6:00 p.m. The festivities will be held at the historic house on 243 Worthen Street in Lowell\, MA. \nThe live art auction will feature beautiful original works of art from local artists. Silent auction items include artwork\, designer handbags\, jewelry\, children’s toys\, sports tickets\, and gift baskets. There will be live music and entertainment. The color theme this year is “GREEN and GOLD.” Guests are invited to dress in the color\, if they so desire. \nAdmission prices are $100 for members\, $110 for non-members\, and $120 at the door. Doors open no earlier than 5:45 p.m. Proceeds from the event will help fund the Whistler House Museum of Art’s operations\, including its Boston Globe acclaimed children’s art programs and award winning historic restoration projects. \nPlease RSVP by Tuesday\, November 19\, 2024. For additional information or to reserve tickets\, contact holiday@whistlerhouse.org or 978-452-7641. Tickets can also be purchased on our website via PayPal at whistlerhouse.org.
URL:https://revolutionaryvalley.org/event/whistler-holiday-party-and-art-auction/
LOCATION:The Whistler House Museum of Art\, 243 Worthen St\, Lowell\, MA\, 01852\, United States
CATEGORIES:Arts & Culture,Fairs & Festivals
ATTACH;FMTTYPE=image/jpeg:https://revolutionaryvalley.org/wp-content/uploads/2024/10/Dec-7.jpg
ORGANIZER;CN="Whistler House Museum of Art":MAILTO:dgain@whistlerhouse.org
GEO:42.6446397;-71.3153067
X-APPLE-STRUCTURED-LOCATION;VALUE=URI;X-ADDRESS=The Whistler House Museum of Art 243 Worthen St Lowell MA 01852 United States;X-APPLE-RADIUS=500;X-TITLE=243 Worthen St:geo:-71.3153067,42.6446397
END:VEVENT
END:VCALENDAR