BEGIN:VCALENDAR
VERSION:2.0
PRODID:-//Revolutionary Valley Regional Tourism Council - ECPv6.15.0.1//NONSGML v1.0//EN
CALSCALE:GREGORIAN
METHOD:PUBLISH
X-ORIGINAL-URL:https://revolutionaryvalley.org
X-WR-CALDESC:Events for Revolutionary Valley Regional Tourism Council
REFRESH-INTERVAL;VALUE=DURATION:PT1H
X-Robots-Tag:noindex
X-PUBLISHED-TTL:PT1H
BEGIN:VTIMEZONE
TZID:America/New_York
BEGIN:DAYLIGHT
TZOFFSETFROM:-0500
TZOFFSETTO:-0400
TZNAME:EDT
DTSTART:20240310T070000
END:DAYLIGHT
BEGIN:STANDARD
TZOFFSETFROM:-0400
TZOFFSETTO:-0500
TZNAME:EST
DTSTART:20241103T060000
END:STANDARD
END:VTIMEZONE
BEGIN:VEVENT
DTSTART;TZID=America/New_York:20240718T160000
DTEND;TZID=America/New_York:20240718T190000
DTSTAMP:20260421T195235
CREATED:20240710T164519Z
LAST-MODIFIED:20240710T164619Z
UID:10057067-1721318400-1721329200@revolutionaryvalley.org
SUMMARY:Coastal Takeover of Forge &Vine with Kermit Lynch Wines
DESCRIPTION:Forge & Vine has partnered with Kermit Lynch Wines to bring a flavors of the coast to Groton! Join us on Thursday\, July 18th between 4pm-7pm for an unforgettable evening celebrating delicious local seafood\, exquisite wines\, and live music. Enjoy smooth jazz melodies by local guitarist Eric Baldwin as you indulge in the rich\, savory tastes of the ocean and complementing crisp\, vibrant wines. \nA representative from the Kermit Lynch team will be available to engage with guests\, answer questions\, and provide insights into the wines. \nDate: Thursday\, July 18th\nTime: 4pm-7pm\nLocation: Forge & Vine Dining Room \nWhether you’re a seafood aficionado\, a wine connoisseur\, or a music lover\, this event promises to be a spectacular summer evening out at Forge & Vine. Reservations are encouraged and available now! Book your table today at Forge & Vine’s OpenTable page or over the phone at 978-448-9200. \nReserve your table: https://www.opentable.com/r/forge-and-vine-groton \nFacebook Event Page: Tap over to discussion section to see the menu of specials. Full Forge & Vine menu will be available as well.\nhttps://www.facebook.com/events/499822529399708/?notif_id=1720626889824546&notif_t=plan_edited&ref=notif
URL:https://revolutionaryvalley.org/event/coastal-takeover-of-forge-vine-with-kermit-lynch-wines/
LOCATION:Forge & Vine\, Forge & Vine\, 128R Main St\, Groton\, MA\, 01450\, United States
CATEGORIES:Food,Free Events
ATTACH;FMTTYPE=image/png:https://revolutionaryvalley.org/wp-content/uploads/2024/07/Facebook-Cover-Event-Photo-21.png
ORGANIZER;CN="The Groton Inn | Forge &amp%3B Vine":MAILTO:jvitolo@thegrotoninn.com
GEO:42.6068053;-71.5683516
X-APPLE-STRUCTURED-LOCATION;VALUE=URI;X-ADDRESS=Forge & Vine Forge & Vine 128R Main St Groton MA 01450 United States;X-APPLE-RADIUS=500;X-TITLE=Forge & Vine\, 128R Main St:geo:-71.5683516,42.6068053
END:VEVENT
END:VCALENDAR