BEGIN:VCALENDAR
VERSION:2.0
PRODID:-//Revolutionary Valley Regional Tourism Council - ECPv6.15.0.1//NONSGML v1.0//EN
CALSCALE:GREGORIAN
METHOD:PUBLISH
X-ORIGINAL-URL:https://revolutionaryvalley.org
X-WR-CALDESC:Events for Revolutionary Valley Regional Tourism Council
REFRESH-INTERVAL;VALUE=DURATION:PT1H
X-Robots-Tag:noindex
X-PUBLISHED-TTL:PT1H
BEGIN:VTIMEZONE
TZID:America/New_York
BEGIN:DAYLIGHT
TZOFFSETFROM:-0500
TZOFFSETTO:-0400
TZNAME:EDT
DTSTART:20230312T070000
END:DAYLIGHT
BEGIN:STANDARD
TZOFFSETFROM:-0400
TZOFFSETTO:-0500
TZNAME:EST
DTSTART:20231105T060000
END:STANDARD
END:VTIMEZONE
BEGIN:VEVENT
DTSTART;TZID=America/New_York:20230329T120000
DTEND;TZID=America/New_York:20230430T173000
DTSTAMP:20260420T103703
CREATED:20230309T215836Z
LAST-MODIFIED:20230309T215836Z
UID:10026022-1680091200-1682875800@revolutionaryvalley.org
SUMMARY:Fire and Fiber | Tarja Cockell and Carol Rissman | March 29–April 30 at Loading Dock Gallery | Reception April 1\, 3-5 pm
DESCRIPTION:Tarja Cockell joins Carol Rissman at the Loading Dock Gallery to present Fire and Fiber\, a show of color\, texture\, and form in contemporary weaving and ceramics. \nCockell’s work begins on the loom. She pushes dimensional possibilities of an initially flat form\, using structural manipulation and layers with a variety of media to achieve elegant and painterly art. Trained in Finland\, Cockell emphasizes subtle colorways and clean\, simple shapes. \nRissman explores how clay can respond to and take on the characteristics of cloth. Her work is woven and tied. It flows and ripples. She pushes clay’s boundaries to create fabric-like pieces: quiet\, minimal\, and meditative. The finished surfaces have a burnished glow. \nCockell lives in North Andover\, Rissman in Bedford. Both artists work out of Western Avenue Studios in Lowell. \nFire and Fiber runs March 29-April 30\, 2023 at Loading Dock Gallery\, 122 Western Avenue\, Lowell\, MA: open noon-5:30pm\, Wednesday-Saturday\, noon-4pm Sundays. Reception 3-5pm\, Saturday\, April 1. For details\, visit www.theloadingdockgallery.com. \nLoading Dock Gallery is part of Loading Dock Arts\, Inc.\, a 501c3.
URL:https://revolutionaryvalley.org/event/fire-and-fiber-tarja-cockell-and-carol-rissman-march-29-april-30-at-loading-dock-gallery-reception-april-1-3-5-pm/
LOCATION:Loading Dock Gallery\, 122 Western Avenue\, Lowell\, MA\, United States
CATEGORIES:Arts & Culture,Exhibits,Free Events
ATTACH;FMTTYPE=image/jpeg:https://revolutionaryvalley.org/wp-content/uploads/2023/03/Tarja-Cockell-Floating-Bubbles.jpg
GEO:42.6398431;-71.3192968
X-APPLE-STRUCTURED-LOCATION;VALUE=URI;X-ADDRESS=Loading Dock Gallery 122 Western Avenue Lowell MA United States;X-APPLE-RADIUS=500;X-TITLE=122 Western Avenue:geo:-71.3192968,42.6398431
END:VEVENT
BEGIN:VEVENT
DTSTART;TZID=America/New_York:20230401T120000
DTEND;TZID=America/New_York:20230401T170000
DTSTAMP:20260420T103703
CREATED:20230330T144706Z
LAST-MODIFIED:20230330T144706Z
UID:10026093-1680350400-1680368400@revolutionaryvalley.org
SUMMARY:April Open Art Studios at Western Avenue
DESCRIPTION:As New England blossoms into spring\, Western Avenue Studios & Lofts invites you to experience our April Open Art Studios event. As you wander through the colorful halls and corridors\, you’ll be immersed in a world of creativity and inspiration. You’ll find unique and handmade gifts\, perfect for upcoming occasions. So don’t miss your chance to be a part of it on April 1st\, from noon until 5 pm. We will also be welcoming Nibbana Cafe to their first-ever Open Studios event! \nFood truck of the day: Empanada Dada (Outside our Main Entrance) \nThis month the Loading Dock Gallery hosts a show titled “Fire and Fiber”. With an artist reception from 3 pm until 5 pm. \nCovid-19 Guidelines:\n– Face coverings/masks are not required but recommended since some studios and businesses may require them for admission into their space.\n– Guests experiencing Covid-19 symptoms or having been instructed to quarantine by a medical professional should not attend.\n– We will have hand sanitation stations throughout the building. \nThere is no charge for this event. This event is dog-friendly. We just ask that you keep your pup on a leash.
URL:https://revolutionaryvalley.org/event/april-open-art-studios-at-western-avenue/
LOCATION:Western Avenue | Studios & Lofts\, Western Avenue | Studios & Lofts\, 122 Western Ave\, Lowell\, MA\, United States
CATEGORIES:Arts & Culture,Culinary Tourism,Exhibits,Free Events,Kids & Family,Member Events
ATTACH;FMTTYPE=image/jpeg:https://revolutionaryvalley.org/wp-content/uploads/2023/03/April-Open-Studios-23-Instagram-Post-w_-Address.jpg
ORGANIZER;CN="Western Avenue Studios and Lofts":MAILTO:inquiries@westernavenuestudios.com
GEO:42.6399882;-71.3193875
X-APPLE-STRUCTURED-LOCATION;VALUE=URI;X-ADDRESS=Western Avenue | Studios & Lofts Western Avenue | Studios & Lofts 122 Western Ave Lowell MA United States;X-APPLE-RADIUS=500;X-TITLE=Western Avenue | Studios & Lofts\, 122 Western Ave:geo:-71.3193875,42.6399882
END:VEVENT
END:VCALENDAR