BEGIN:VCALENDAR
VERSION:2.0
PRODID:-//Revolutionary Valley Regional Tourism Council - ECPv6.15.0.1//NONSGML v1.0//EN
CALSCALE:GREGORIAN
METHOD:PUBLISH
X-ORIGINAL-URL:https://revolutionaryvalley.org
X-WR-CALDESC:Events for Revolutionary Valley Regional Tourism Council
REFRESH-INTERVAL;VALUE=DURATION:PT1H
X-Robots-Tag:noindex
X-PUBLISHED-TTL:PT1H
BEGIN:VTIMEZONE
TZID:America/New_York
BEGIN:DAYLIGHT
TZOFFSETFROM:-0500
TZOFFSETTO:-0400
TZNAME:EDT
DTSTART:20230312T070000
END:DAYLIGHT
BEGIN:STANDARD
TZOFFSETFROM:-0400
TZOFFSETTO:-0500
TZNAME:EST
DTSTART:20231105T060000
END:STANDARD
END:VTIMEZONE
BEGIN:VEVENT
DTSTART;TZID=America/New_York:20230503T120000
DTEND;TZID=America/New_York:20230528T160000
DTSTAMP:20260424T001604
CREATED:20230406T194804Z
LAST-MODIFIED:20230406T194804Z
UID:10026322-1683115200-1685289600@revolutionaryvalley.org
SUMMARY:43.7623°N\, 69.3203°W | Nan Hockenbury\, Heidi Jackson\, Bethany Peck\, and Noel Soucy | May 3-28 at Loading Dock Gallery
DESCRIPTION:Loading Dock Gallery presents 43.7623°N\, 69.3203°W\, a show of contemporary New England landscape painting. In August 2022\, Nan Hockenbury\, Heidi Jackson\, Bethany Peck\, and Noel Soucy traveled to Monhegan Island\, ME. For six days they wandered the island and painted plein air. 43.7623°N\, 69.3203°W knits together their diverse interpretations of those shared days\, each artist using her own point of view to speak of the island’s rugged landscape and dramatic views. \nHockenbury paints with interlocking lozenges of color\, translating boats\, houses\, and stones in jewel-like hues. Jackson evokes nature’s fleeting beauty with textured\, expressionist strokes and gentle colors. Peck responds to her island wanderings with intuitive abstractions\, focusing on the convergence of sky and sea. Soucy offers atmospheric images\, layered in texture\, an exploration of process as well as of the landscape observed. \n43.7623°N\, 69.3203°W runs May 3-28\, 2023 at Loading Dock Gallery\, 122 Western Avenue\, Lowell\, MA: open noon-5:30 pm\, Wednesday-Saturday\, noon-4 pm Sundays. Reception 3-5 pm\, Saturday\, May 6\, 3-5 pm. More at www.theloadingdockgallery.com. \nLoading Dock Gallery is part of Loading Dock Arts\, Inc.\, a 501c3.
URL:https://revolutionaryvalley.org/event/43-7623n-69-3203w-nan-hockenbury-heidi-jackson-bethany-peck-and-noel-soucy-may-3-28-at-loading-dock-gallery/
LOCATION:Loading Dock Gallery\, 122 Western Avenue\, Lowell\, MA\, United States
CATEGORIES:Arts & Culture,Exhibits,Free Events
ATTACH;FMTTYPE=image/jpeg:https://revolutionaryvalley.org/wp-content/uploads/2023/04/Nan-Hockenbury-Monhegan-Hill-View-scaled.jpg
GEO:42.6398431;-71.3192968
X-APPLE-STRUCTURED-LOCATION;VALUE=URI;X-ADDRESS=Loading Dock Gallery 122 Western Avenue Lowell MA United States;X-APPLE-RADIUS=500;X-TITLE=122 Western Avenue:geo:-71.3192968,42.6398431
END:VEVENT
BEGIN:VEVENT
DTSTART;VALUE=DATE:20230514
DTEND;VALUE=DATE:20231023
DTSTAMP:20260424T001605
CREATED:20230504T183325Z
LAST-MODIFIED:20230906T150359Z
UID:10027152-1684022400-1698019199@revolutionaryvalley.org
SUMMARY:Art Workshops by Lowell National Historical Park
DESCRIPTION:See here for updated events. \nhttps://www.nps.gov/lowe/planyourvisit/calendar.htm \nArt In the Park 2023
URL:https://revolutionaryvalley.org/event/art-workshops-by-lowell-national-historical-park/
LOCATION:Lowell National Historical Park – Boott Cotton Mills Gallery\, 115 John Street\, Lowell\, 01852\, United States
CATEGORIES:Free Events,Outdoors
GEO:42.6472986;-71.3066893
X-APPLE-STRUCTURED-LOCATION;VALUE=URI;X-ADDRESS=Lowell National Historical Park – Boott Cotton Mills Gallery 115 John Street Lowell 01852 United States;X-APPLE-RADIUS=500;X-TITLE=115 John Street:geo:-71.3066893,42.6472986
END:VEVENT
BEGIN:VEVENT
DTSTART;TZID=America/New_York:20230521T140000
DTEND;TZID=America/New_York:20230521T160000
DTSTAMP:20260424T001605
CREATED:20230504T163132Z
LAST-MODIFIED:20230504T165827Z
UID:10027149-1684677600-1684684800@revolutionaryvalley.org
SUMMARY:Valley native returns to Andover Bookstore with Ivy League book May 21 at 2
DESCRIPTION:On Sunday\, May 21 at 2 PM\, join Ivy League author (and Andover native) Matt Robinson at Andover Book Store (http://andoverbookstore.com) as he discusses his book on the Ivy League (www.lionstigersbulldogs.com) and the lessons he learned from writing and publishing it. \nIn addition to the talk\, Matt will also offer Tr-IVY-a© questions and the chance to WIN a copy of the book. There will also be delicious snacks from the likes of Red Chocolate (https://www.red-chocolate.com). \nFor those who enjoy discussing books\, history\, sports\, and those who have (or want to have) ties to the Ivy League\, the event is sure to be fun and informative\, so please join us!
URL:https://revolutionaryvalley.org/event/valley-native-returns-to-andover-bookstore-with-ivy-league-book-may-21-at-2/
LOCATION:Andover Bookstore\, 74 Main Street\, Andover\, MA\, 01810
CATEGORIES:Arts & Culture,Free Events,Historical,Kids & Family,Lecture,Talks and Film
ATTACH;FMTTYPE=image/jpeg:https://revolutionaryvalley.org/wp-content/uploads/2023/05/Lions-tigers-FRONT-COVER-v.-2-7.20.jpeg
GEO:42.6548555;-71.1390078
X-APPLE-STRUCTURED-LOCATION;VALUE=URI;X-ADDRESS=Andover Bookstore 74 Main Street Andover MA 01810;X-APPLE-RADIUS=500;X-TITLE=74 Main Street:geo:-71.1390078,42.6548555
END:VEVENT
END:VCALENDAR