BEGIN:VCALENDAR
VERSION:2.0
PRODID:-//Revolutionary Valley Regional Tourism Council - ECPv6.15.0.1//NONSGML v1.0//EN
CALSCALE:GREGORIAN
METHOD:PUBLISH
X-WR-CALNAME:Revolutionary Valley Regional Tourism Council
X-ORIGINAL-URL:https://revolutionaryvalley.org
X-WR-CALDESC:Events for Revolutionary Valley Regional Tourism Council
REFRESH-INTERVAL;VALUE=DURATION:PT1H
X-Robots-Tag:noindex
X-PUBLISHED-TTL:PT1H
BEGIN:VTIMEZONE
TZID:America/New_York
BEGIN:DAYLIGHT
TZOFFSETFROM:-0500
TZOFFSETTO:-0400
TZNAME:EDT
DTSTART:20230312T070000
END:DAYLIGHT
BEGIN:STANDARD
TZOFFSETFROM:-0400
TZOFFSETTO:-0500
TZNAME:EST
DTSTART:20231105T060000
END:STANDARD
END:VTIMEZONE
BEGIN:VEVENT
DTSTART;VALUE=DATE:20230514
DTEND;VALUE=DATE:20231023
DTSTAMP:20260424T121622
CREATED:20230504T183325Z
LAST-MODIFIED:20230906T150359Z
UID:10027152-1684022400-1698019199@revolutionaryvalley.org
SUMMARY:Art Workshops by Lowell National Historical Park
DESCRIPTION:See here for updated events. \nhttps://www.nps.gov/lowe/planyourvisit/calendar.htm \nArt In the Park 2023
URL:https://revolutionaryvalley.org/event/art-workshops-by-lowell-national-historical-park/
LOCATION:Lowell National Historical Park – Boott Cotton Mills Gallery\, 115 John Street\, Lowell\, 01852\, United States
CATEGORIES:Free Events,Outdoors
GEO:42.6472986;-71.3066893
X-APPLE-STRUCTURED-LOCATION;VALUE=URI;X-ADDRESS=Lowell National Historical Park – Boott Cotton Mills Gallery 115 John Street Lowell 01852 United States;X-APPLE-RADIUS=500;X-TITLE=115 John Street:geo:-71.3066893,42.6472986
END:VEVENT
BEGIN:VEVENT
DTSTART;TZID=America/New_York:20230603T110000
DTEND;TZID=America/New_York:20230603T160000
DTSTAMP:20260424T121622
CREATED:20230510T185734Z
LAST-MODIFIED:20230510T185734Z
UID:10027176-1685790000-1685808000@revolutionaryvalley.org
SUMMARY:Tours of Thoreau Farm\, the birthplace of Henry David Thoreau
DESCRIPTION:Take an inside look at the restored 1730s house listed on the National Register of Historic Places as the Wheeler-Minot Farmhouse/Henry David Thoreau Birth House. Locally\, it is also known as “Thoreau Farm.” Tour includes the lovingly restored second-floor room where Henry David Thoreau was born in 1817. Visits to the house are by guided tour only. Come learn about the birthplace of Henry David Thoreau and consider lessons about living deliberately that we can learn from his legacy.
URL:https://revolutionaryvalley.org/event/tours-of-thoreau-farm-the-birthplace-of-henry-david-thoreau-2/2023-06-03/
LOCATION:97 University Ave\, Lowell\, MA\, 01854\, United States
CATEGORIES:Arts & Culture,Free Events,Historical
ATTACH;FMTTYPE=image/jpeg:https://revolutionaryvalley.org/wp-content/uploads/2023/05/TF-1-scaled.jpg
ORGANIZER;CN="Thoreau Farm":MAILTO:info@thoreaufarm.org
END:VEVENT
BEGIN:VEVENT
DTSTART;TZID=America/New_York:20230603T130000
DTEND;TZID=America/New_York:20230603T140000
DTSTAMP:20260424T121622
CREATED:20230510T183512Z
LAST-MODIFIED:20230510T183512Z
UID:10027172-1685797200-1685800800@revolutionaryvalley.org
SUMMARY:Church of the Wild: A Conversation with Victoria Loorz
DESCRIPTION:Church of the Wild places Thoreau’s intimacy with nature into a community of spiritual practice. With a fresh look at a beloved community larger than our own species\, this book uncovers the wild roots of faith to undergird our commitment to a groaning and glorious earth. Simple practices of sacred reconnection with the land\, waters and creatures of our home places invites us to care for the world by falling in love with it. It is an invitation to trust the knowing deep within us that we are an important part of an interconnected relationship with All That Is. \nVictoria is joined in conversation by Richard Higgins. \nVictoria Loorz\, MDiv\, an eco-spiritual director and wild church pastor\, is focused on spiritual practices that help to restore sacred relationships with the Earth. She co-founded the ecumenical Wild Church Network\, a growing group of spiritual leaders on the edges of the Christ tradition who gather outside of buildings\, encountering God directly in intimate relationship with the natural world. Victoria founded and leads The Center for Wild Spirituality\, (formerly called Seminary of the Wild)\, a movement hub for fellow edge-walkers who feel called into a new kind of spiritual leadership within a beloved community larger than our species. She delivers workshops and is the author of the award-winning book\, Church of the Wild: How Nature Invites Us into the Sacred.
URL:https://revolutionaryvalley.org/event/church-of-the-wild-a-conversation-with-victoria-loorz/
LOCATION:97 University Ave\, Lowell\, MA\, 01854\, United States
CATEGORIES:Arts & Culture,Free Events
ATTACH;FMTTYPE=image/png:https://revolutionaryvalley.org/wp-content/uploads/2023/05/LOORZ-images.png
ORGANIZER;CN="Thoreau Farm":MAILTO:info@thoreaufarm.org
END:VEVENT
END:VCALENDAR