BEGIN:VCALENDAR
VERSION:2.0
PRODID:-//Revolutionary Valley Regional Tourism Council - ECPv6.15.0.1//NONSGML v1.0//EN
CALSCALE:GREGORIAN
METHOD:PUBLISH
X-WR-CALNAME:Revolutionary Valley Regional Tourism Council
X-ORIGINAL-URL:https://revolutionaryvalley.org
X-WR-CALDESC:Events for Revolutionary Valley Regional Tourism Council
REFRESH-INTERVAL;VALUE=DURATION:PT1H
X-Robots-Tag:noindex
X-PUBLISHED-TTL:PT1H
BEGIN:VTIMEZONE
TZID:America/New_York
BEGIN:DAYLIGHT
TZOFFSETFROM:-0500
TZOFFSETTO:-0400
TZNAME:EDT
DTSTART:20240310T070000
END:DAYLIGHT
BEGIN:STANDARD
TZOFFSETFROM:-0400
TZOFFSETTO:-0500
TZNAME:EST
DTSTART:20241103T060000
END:STANDARD
END:VTIMEZONE
BEGIN:VEVENT
DTSTART;TZID=America/New_York:20240223T100000
DTEND;TZID=America/New_York:20240223T110000
DTSTAMP:20260425T144700
CREATED:20240206T164904Z
LAST-MODIFIED:20240206T164904Z
UID:10050375-1708682400-1708686000@revolutionaryvalley.org
SUMMARY:Lowell Kids Week: Try Fabric Printing
DESCRIPTION:All Ages\nJoin rangers from two national parks to design and print your own patterns on fabric. Use inspiration from 19th Century fabric swatch books and fabric made here in Lowell. Visit our website for more information www.nps.gov/lowe/planyourvisit/kids-week.htm.
URL:https://revolutionaryvalley.org/event/lowell-kids-week-try-fabric-printing/
LOCATION:Lowell National Historical Park Boott Cotton Mills Museum  Counting House\, 115 John Street\, Lowell\, 01852\, United States
CATEGORIES:Free Events,Kids & Family
ORGANIZER;CN="Lowell National Historical Park":MAILTO:phil_lupsiewicz@nps.gov
GEO:42.6472986;-71.3066893
X-APPLE-STRUCTURED-LOCATION;VALUE=URI;X-ADDRESS=Lowell National Historical Park Boott Cotton Mills Museum  Counting House 115 John Street Lowell 01852 United States;X-APPLE-RADIUS=500;X-TITLE=115 John Street:geo:-71.3066893,42.6472986
END:VEVENT
BEGIN:VEVENT
DTSTART;TZID=America/New_York:20240223T100000
DTEND;TZID=America/New_York:20240223T120000
DTSTAMP:20260425T144700
CREATED:20240206T164940Z
LAST-MODIFIED:20240206T164940Z
UID:10050376-1708682400-1708689600@revolutionaryvalley.org
SUMMARY:Lowell Kids Week: English Classes for Kids
DESCRIPTION:Ages Toddler-5; Registration required\nClients of IINE can bring their toddler to five year old to learn English as a family including Music\, Crafts\, Healthy Snacks\, and learn about Learning Apps. Please register by calling 978-459-9031.
URL:https://revolutionaryvalley.org/event/lowell-kids-week-english-classes-for-kids-2/
LOCATION:International Institute of New England\, 101 Jackosn Street\, Suite 2\, Lowell\, 01852\, United States
CATEGORIES:Free Events,Kids & Family
GEO:42.6421647;-71.3105985
X-APPLE-STRUCTURED-LOCATION;VALUE=URI;X-ADDRESS=International Institute of New England 101 Jackosn Street Suite 2 Lowell 01852 United States;X-APPLE-RADIUS=500;X-TITLE=101 Jackosn Street\, Suite 2:geo:-71.3105985,42.6421647
END:VEVENT
BEGIN:VEVENT
DTSTART;TZID=America/New_York:20240223T110000
DTEND;TZID=America/New_York:20240223T120000
DTSTAMP:20260425T144700
CREATED:20240206T165010Z
LAST-MODIFIED:20240206T165010Z
UID:10050377-1708686000-1708689600@revolutionaryvalley.org
SUMMARY:Lowell Kids Week: Owls of Lowell in the Winter
DESCRIPTION:Grades Pre-K-12; Registration required\nCome to the Lowell National Historic Park Events Center to meet some owls that you might see in Lowell this winter. Learn how to spot different owls\, recognize their calls and find out where to spot them. You might have an owl in your backyard or nearby park and not know it! Hear an owl story and ask questions about these wonderful\, mysterious birds! Please register by calling 978-970-5000.
URL:https://revolutionaryvalley.org/event/lowell-kids-week-owls-of-lowell-in-the-winter/
LOCATION:97 University Ave\, Lowell\, MA\, 01854\, United States
CATEGORIES:Free Events,Kids & Family
ORGANIZER;CN="Lowell National Historical Park":MAILTO:phil_lupsiewicz@nps.gov
END:VEVENT
BEGIN:VEVENT
DTSTART;TZID=America/New_York:20240223T123000
DTEND;TZID=America/New_York:20240223T143000
DTSTAMP:20260425T144700
CREATED:20240206T165026Z
LAST-MODIFIED:20240206T165026Z
UID:10050378-1708691400-1708698600@revolutionaryvalley.org
SUMMARY:Lowell kids Week: Maritime Connections
DESCRIPTION:All ages\nJoin rangers from three national parks to experiment with crafts that relate to our maritime neighbors. Learn to twist rope and how it would be made in centuries past. Create your own house flag so you can help others identify your home or ship as yours and try different methods to fold your own paper boats. Visit our website\nfor more information www.nps.gov/lowe/planyourvisit/kids-week.htm.
URL:https://revolutionaryvalley.org/event/lowell-kids-week-maritime-connections/
LOCATION:Lowell National Historical Park Boott Cotton Mills Museum  Counting House\, 115 John Street\, Lowell\, 01852\, United States
CATEGORIES:Free Events,Kids & Family
ORGANIZER;CN="Lowell National Historical Park":MAILTO:phil_lupsiewicz@nps.gov
GEO:42.6472986;-71.3066893
X-APPLE-STRUCTURED-LOCATION;VALUE=URI;X-ADDRESS=Lowell National Historical Park Boott Cotton Mills Museum  Counting House 115 John Street Lowell 01852 United States;X-APPLE-RADIUS=500;X-TITLE=115 John Street:geo:-71.3066893,42.6472986
END:VEVENT
BEGIN:VEVENT
DTSTART;TZID=America/New_York:20240223T140000
DTEND;TZID=America/New_York:20240223T144500
DTSTAMP:20260425T144700
CREATED:20240205T135643Z
LAST-MODIFIED:20240205T135643Z
UID:10050362-1708696800-1708699500@revolutionaryvalley.org
SUMMARY:Lowell Kids Week: Water Room Workshop
DESCRIPTION:All ages\, registration required\nDesing\, build\, and operate a canal system just as the Proprietors of Locks and Canals did in Lowell in the early 1800s. All participants will get hands-on canal building experience (no experience required.) Be ready to have a great time and maybe\, get a little wet! Please register by calling 978 970-5000.
URL:https://revolutionaryvalley.org/event/lowell-kids-week-water-room-workshop/2024-02-23/1/
LOCATION:97 University Ave\, Lowell\, MA\, 01854\, United States
CATEGORIES:Free Events,Kids & Family
END:VEVENT
BEGIN:VEVENT
DTSTART;TZID=America/New_York:20240223T143000
DTEND;TZID=America/New_York:20240223T153000
DTSTAMP:20260425T144700
CREATED:20240206T165052Z
LAST-MODIFIED:20240206T165052Z
UID:10050379-1708698600-1708702200@revolutionaryvalley.org
SUMMARY:Lowell Kids Week: Buildwave: A Hands-On Building Game!
DESCRIPTION:Grades K-6; Registration required\nBuildwave is a creative building program that feels like a video game! During the workshop children create with over a dozen building materials including Lego®\, PlusPlus®\, and custom-made Buildwave materials. The workshop is structured like a video game\, with an audiovisual setup featuring animations and music that guide\nstudents through the different building waves. Space is limited and sign up is required. Please register at https://lowelllibrary.org/events/\, or by calling 978-674-1529
URL:https://revolutionaryvalley.org/event/lowell-kids-week-buildwave-a-hands-on-building-game/
LOCATION:Pollard Memorial Library\, Pollard Memorial Library\, 401 Merrimack St\, Lowell\, MA\, 01852\, United States
CATEGORIES:Free Events,Kids & Family
GEO:42.6465412;-71.3147499
X-APPLE-STRUCTURED-LOCATION;VALUE=URI;X-ADDRESS=Pollard Memorial Library Pollard Memorial Library 401 Merrimack St Lowell MA 01852 United States;X-APPLE-RADIUS=500;X-TITLE=Pollard Memorial Library\, 401 Merrimack St:geo:-71.3147499,42.6465412
END:VEVENT
BEGIN:VEVENT
DTSTART;TZID=America/New_York:20240223T150000
DTEND;TZID=America/New_York:20240223T154500
DTSTAMP:20260425T144700
CREATED:20240205T135643Z
LAST-MODIFIED:20240205T135643Z
UID:10050363-1708700400-1708703100@revolutionaryvalley.org
SUMMARY:Lowell Kids Week: Water Room Workshop
DESCRIPTION:All ages\, registration required\nDesing\, build\, and operate a canal system just as the Proprietors of Locks and Canals did in Lowell in the early 1800s. All participants will get hands-on canal building experience (no experience required.) Be ready to have a great time and maybe\, get a little wet! Please register by calling 978 970-5000.
URL:https://revolutionaryvalley.org/event/lowell-kids-week-water-room-workshop/2024-02-23/2/
LOCATION:97 University Ave\, Lowell\, MA\, 01854\, United States
CATEGORIES:Free Events,Kids & Family
END:VEVENT
BEGIN:VEVENT
DTSTART;TZID=America/New_York:20240223T160000
DTEND;TZID=America/New_York:20240223T200000
DTSTAMP:20260425T144700
CREATED:20240206T165114Z
LAST-MODIFIED:20240206T165114Z
UID:10050380-1708704000-1708718400@revolutionaryvalley.org
SUMMARY:Lowell Kids Week: Family Movie & Game Night!
DESCRIPTION:All ages; Reservations required\nThe Lowell Housing Authority\, Lowell Police Dept.\, and Lowell Fire Dept. welcome families to a fun movie & game night! Games will be from 4-6pm & the movie will begin at 6pm. Giveaways and snacks will be provided. Please RSVP at https://fb.me/e/2UXr0rh3N
URL:https://revolutionaryvalley.org/event/lowell-kids-week-family-movie-game-night/
LOCATION:Mercier Center\, 21 Salem Street\, Lowell\, 01852\, United States
CATEGORIES:Free Events,Kids & Family
GEO:42.6480616;-71.3202262
X-APPLE-STRUCTURED-LOCATION;VALUE=URI;X-ADDRESS=Mercier Center 21 Salem Street Lowell 01852 United States;X-APPLE-RADIUS=500;X-TITLE=21 Salem Street:geo:-71.3202262,42.6480616
END:VEVENT
END:VCALENDAR