BEGIN:VCALENDAR
VERSION:2.0
PRODID:-//Revolutionary Valley Regional Tourism Council - ECPv6.15.0.1//NONSGML v1.0//EN
CALSCALE:GREGORIAN
METHOD:PUBLISH
X-WR-CALNAME:Revolutionary Valley Regional Tourism Council
X-ORIGINAL-URL:https://revolutionaryvalley.org
X-WR-CALDESC:Events for Revolutionary Valley Regional Tourism Council
REFRESH-INTERVAL;VALUE=DURATION:PT1H
X-Robots-Tag:noindex
X-PUBLISHED-TTL:PT1H
BEGIN:VTIMEZONE
TZID:America/New_York
BEGIN:DAYLIGHT
TZOFFSETFROM:-0500
TZOFFSETTO:-0400
TZNAME:EDT
DTSTART:20240310T070000
END:DAYLIGHT
BEGIN:STANDARD
TZOFFSETFROM:-0400
TZOFFSETTO:-0500
TZNAME:EST
DTSTART:20241103T060000
END:STANDARD
END:VTIMEZONE
BEGIN:VEVENT
DTSTART;TZID=America/New_York:20240224T110000
DTEND;TZID=America/New_York:20240224T120000
DTSTAMP:20260425T144712
CREATED:20240206T165135Z
LAST-MODIFIED:20240206T165135Z
UID:10050381-1708772400-1708776000@revolutionaryvalley.org
SUMMARY:Lowell Kids Week: Birding Walk
DESCRIPTION:All ages\nJoin a ranger for a birding walk through Lowell’s urban landscape! Over the course of an hour we will work together to spot and identify common birds\, and learn some of the basics of birding. We will have some birding supplies on hand (such as binoculars and field guides) to lend out for the duration of the walk. Please feel free to bring your own tools if you have them! Let’s find some birds. Visit our website for more information www.nps.gov/lowe/planyourvisit/kids-week.htm.
URL:https://revolutionaryvalley.org/event/lowell-kids-week-birding-walk/
LOCATION:97 University Ave\, Lowell\, MA\, 01854\, United States
CATEGORIES:Free Events,Kids & Family
ORGANIZER;CN="Lowell National Historical Park":MAILTO:phil_lupsiewicz@nps.gov
END:VEVENT
BEGIN:VEVENT
DTSTART;TZID=America/New_York:20240224T130000
DTEND;TZID=America/New_York:20240224T140000
DTSTAMP:20260425T144712
CREATED:20240205T140140Z
LAST-MODIFIED:20240205T140140Z
UID:10050353-1708779600-1708783200@revolutionaryvalley.org
SUMMARY:Lowell Kids Week: Bookmobile Visits
DESCRIPTION:Visit the librarians of the Pollard Memorial Library bookmobile as they join the “Building Community\,” “Poetry in Parks\,” and “Games Around the World” events at Lowell National Historical Park. Discover a new book that you can check out that day and even sign up for your own free library card! The Bookmobile event on the 22nd will happen at the Lowell National Park Visitor Center. Find out more at https://lowelllibrary.org/services/bookmobile/.
URL:https://revolutionaryvalley.org/event/lowell-kids-week-bookmobile-visits/2024-02-24/
LOCATION:Mogan Cultural Center\, 40 French Street\, Lowell\, 01852\, United States
CATEGORIES:Free Events,Kids & Family
GEO:42.6478331;-71.309043
X-APPLE-STRUCTURED-LOCATION;VALUE=URI;X-ADDRESS=Mogan Cultural Center 40 French Street Lowell 01852 United States;X-APPLE-RADIUS=500;X-TITLE=40 French Street:geo:-71.309043,42.6478331
END:VEVENT
BEGIN:VEVENT
DTSTART;TZID=America/New_York:20240224T130000
DTEND;TZID=America/New_York:20240224T160000
DTSTAMP:20260425T144712
CREATED:20240206T172043Z
LAST-MODIFIED:20240206T172043Z
UID:10050382-1708779600-1708790400@revolutionaryvalley.org
SUMMARY:Lowell Kids Week: Games Around the World
DESCRIPTION:All ages\nTraditional schoolyard games are an important part of childhood—no matter the culture! Join rangers to learn a game from around the world or teach us your favorite game! Visit our website for more information www.nps.gov/lowe/planyourvisit/kids-week.htm.
URL:https://revolutionaryvalley.org/event/lowell-kids-week-games-around-the-world/
LOCATION:Mogan Cultural Center\, 40 French Street\, Lowell\, 01852\, United States
CATEGORIES:Free Events,Kids & Family
ORGANIZER;CN="Lowell National Historical Park":MAILTO:phil_lupsiewicz@nps.gov
GEO:42.6478331;-71.309043
X-APPLE-STRUCTURED-LOCATION;VALUE=URI;X-ADDRESS=Mogan Cultural Center 40 French Street Lowell 01852 United States;X-APPLE-RADIUS=500;X-TITLE=40 French Street:geo:-71.309043,42.6478331
END:VEVENT
BEGIN:VEVENT
DTSTART;TZID=America/New_York:20240224T140000
DTEND;TZID=America/New_York:20240224T153000
DTSTAMP:20260425T144712
CREATED:20240206T201331Z
LAST-MODIFIED:20240206T201331Z
UID:10050389-1708783200-1708788600@revolutionaryvalley.org
SUMMARY:‘Contradictory Place’: Cotton Mills Alongside Anti-Slavery Efforts in Lowell Massachusetts a Film Screening and Discussion
DESCRIPTION:Join us for a screening of the documentary film ‘Contradictory Place’: Cotton Mills Alongside Anti-Slavery Efforts in Lowell Massachusetts featuring Prof. Robert Forrant of the University of Massachusetts Lowell and Public Historian Maritza Grooms. The film describes the extraordinary anti-slavery efforts taking place in the mid-19th century in Lowell. Forrant and Grooms visit the sites that still exist in downtown Lowell where abolitionist activity occurred and where freedom seekers operated businesses. \nThe forty-minute film was written by Robert Forrant and Maritza Grooms\, produced by former Lowell Telecommunications Executive Director Wendy Blom\, and edited by former Lowell Telecommunications News Director Caroline Gallagher. \nThe film screening at the Lowell National Historical Park Visitor Center 246 Market Street is free and open to the public. It will take place on Saturday\, February 24 at 2pm\, with a Q&A discussion with the film creators following the screening. \nFree parking is available at the Hamilton Canal Innovation District parking garage at 350 Dutton St.\, Lowell. Parking in this garage (only) is available to National Park visitors at no cost provided they obtain a valid parking voucher at the LNHP Visitor Center.
URL:https://revolutionaryvalley.org/event/contradictory-place-cotton-mills-alongside-anti-slavery-efforts-in-lowell-massachusetts-a-film-screening-and-discussion/
LOCATION:Lowell National Historical Park Visitor Center\, Lowell National Historical Park Visitor Center\, 246 Market St\, Lowell\, MA\, United States
CATEGORIES:Free Events,Historical,Talks and Film
ATTACH;FMTTYPE=image/jpeg:https://revolutionaryvalley.org/wp-content/uploads/2024/02/Contradictory-Place-2-24-24-Event-Flyer-scaled.jpg
ORGANIZER;CN="Lowell National Historical Park":MAILTO:phil_lupsiewicz@nps.gov
GEO:42.6444497;-71.3124716
X-APPLE-STRUCTURED-LOCATION;VALUE=URI;X-ADDRESS=Lowell National Historical Park Visitor Center Lowell National Historical Park Visitor Center 246 Market St Lowell MA United States;X-APPLE-RADIUS=500;X-TITLE=Lowell National Historical Park Visitor Center\, 246 Market St:geo:-71.3124716,42.6444497
END:VEVENT
END:VCALENDAR