BEGIN:VCALENDAR
VERSION:2.0
PRODID:-//Revolutionary Valley Regional Tourism Council - ECPv6.15.0.1//NONSGML v1.0//EN
CALSCALE:GREGORIAN
METHOD:PUBLISH
X-WR-CALNAME:Revolutionary Valley Regional Tourism Council
X-ORIGINAL-URL:https://revolutionaryvalley.org
X-WR-CALDESC:Events for Revolutionary Valley Regional Tourism Council
REFRESH-INTERVAL;VALUE=DURATION:PT1H
X-Robots-Tag:noindex
X-PUBLISHED-TTL:PT1H
BEGIN:VTIMEZONE
TZID:America/New_York
BEGIN:DAYLIGHT
TZOFFSETFROM:-0500
TZOFFSETTO:-0400
TZNAME:EDT
DTSTART:20240310T070000
END:DAYLIGHT
BEGIN:STANDARD
TZOFFSETFROM:-0400
TZOFFSETTO:-0500
TZNAME:EST
DTSTART:20241103T060000
END:STANDARD
END:VTIMEZONE
BEGIN:VEVENT
DTSTART;VALUE=DATE:20240303
DTEND;VALUE=DATE:20240304
DTSTAMP:20260425T151318
CREATED:20240213T181921Z
LAST-MODIFIED:20240213T181921Z
UID:10050673-1709424000-1709510399@revolutionaryvalley.org
SUMMARY:Munch Madness
DESCRIPTION:Your local support means the world to us\, and we want to say thank you with an opportunity to win big this month.\nMunch Madness is a City-sponsored initiative in partnership with the Greater Lowell Chamber of Commerce to support\, encourage\, and reward Lowell-based businesses and their patrons. \nFrom March 1-31\, 2024\, patrons who dine at participating restaurants and businesses and spend at least $25 can earn an entry toward giveaways of sports-\, arts-\, and culturally-themed events based in Lowell\, and a Grand Prize drawing to see who gets to Dine Around Lowell for a Year. \nHow it works\n\nSpend $25 or more at a participating business between March 1-31\, 2024\, Submit your qualifying receipt and contact information – simply take a picture\, upload\, and submit!\nWinners will be selected in a random drawing in April 2024.\nMake sure to check out our full list of participating businesses and don’t forget to get those entries in! Each qualifying receipt equals an additional entry and chance to win.\n\nPrizes\n\nOne Grand Prize Drawing to Dine Around Lowell for a Year: $25-$50 gift cards from all participating businesses!\n2 runners up will sports-\, arts- and culturally-themed prizes!\n\nRestaurants\n\n\n\nAthenian Corner – 207 Market Street\, Lowell\nBrew’d Awakening Coffeehaus – 61 Market Street\, Lowell\nCobblestones of Lowell – 91 Dutton Street\, Lowell\nDragonfly Cafe – 165 Throndike Street\, Lowell\nEl Potro Mexican Grill – 124 Merrimack Street\, Lowell\nFORK included – 176 University Avenue\, Lowell\nPurple Carrot Bread Co. – 107 Merrimack Street\, Lowell\nSahel Restaurant & Lounge – 135 Central Street\, Lowell\nThe Jolly Lobster – 101 Pheonix Avenue\, Lowell\nThe Old Court – 29 Central Street\, Lowell\nWorthen House Cafe – 141 Worthen Street\, Lowell\n\nAre you a restaurant interested in participating? Click here to sign up!
URL:https://revolutionaryvalley.org/event/munch-madness/2024-03-03/
LOCATION:MA
CATEGORIES:Culinary Tourism,Free Events
ATTACH;FMTTYPE=image/png:https://revolutionaryvalley.org/wp-content/uploads/2024/02/Munch-Madness-Logo-1200x610-1.png
END:VEVENT
BEGIN:VEVENT
DTSTART;TZID=America/New_York:20240303T130000
DTEND;TZID=America/New_York:20240303T160000
DTSTAMP:20260425T151318
CREATED:20240226T153328Z
LAST-MODIFIED:20240226T153328Z
UID:10050754-1709470800-1709481600@revolutionaryvalley.org
SUMMARY:Hands on History
DESCRIPTION:Looking for a fun activity to do with the whole family? Join a Ranger in a weaving workshop! Learn how cloth is designed\, patterned\, and made in this unique hands-on workshop. Experiment with different patterns and colors to weave your own piece of cloth using hand looms. Learn the difference between a warp and weft thread and have fun in the process! \nThis is a free event\, and all are welcome. This event is a drop-by any time program for the whole family. Due to space and capacity limits\, weaving time may be limited to 30 minutes at the program facilitator’s discretion and there may be a wait time to be able to weave on the looms. \nIn addition to the Hands-On History program\, we encourage all visitors to visit the Boott Cotton Mills Museum. Check out the operating weave room and explore the stories of the workers\, engineers\, inventors\, and investors who made Lowell the first successful planned industrial city in the United States. Learn more about the city’s role as a cutting-edge developer of technology and hub of social and economic change in the American Industrial Revolution. Admission fees apply. \n(Free parking at 350 Dutton Street in the Hamilton Parking Garage. Pick up a chaser ticket at the Visitor Center front desk to use when exiting the garage).
URL:https://revolutionaryvalley.org/event/hands-on-history-3/
LOCATION:97 University Ave\, Lowell\, MA\, 01854\, United States
CATEGORIES:Free Events,Kids & Family
ATTACH;FMTTYPE=image/jpeg:https://revolutionaryvalley.org/wp-content/uploads/2024/02/handsonhistory.jpg
ORGANIZER;CN="Lowell National Historical Park":MAILTO:phil_lupsiewicz@nps.gov
END:VEVENT
END:VCALENDAR