BEGIN:VCALENDAR
VERSION:2.0
PRODID:-//Revolutionary Valley Regional Tourism Council - ECPv6.15.0.1//NONSGML v1.0//EN
CALSCALE:GREGORIAN
METHOD:PUBLISH
X-ORIGINAL-URL:https://revolutionaryvalley.org
X-WR-CALDESC:Events for Revolutionary Valley Regional Tourism Council
REFRESH-INTERVAL;VALUE=DURATION:PT1H
X-Robots-Tag:noindex
X-PUBLISHED-TTL:PT1H
BEGIN:VTIMEZONE
TZID:America/New_York
BEGIN:DAYLIGHT
TZOFFSETFROM:-0500
TZOFFSETTO:-0400
TZNAME:EDT
DTSTART:20240310T070000
END:DAYLIGHT
BEGIN:STANDARD
TZOFFSETFROM:-0400
TZOFFSETTO:-0500
TZNAME:EST
DTSTART:20241103T060000
END:STANDARD
END:VTIMEZONE
BEGIN:VEVENT
DTSTART;VALUE=DATE:20240309
DTEND;VALUE=DATE:20240310
DTSTAMP:20260426T001304
CREATED:20240213T181921Z
LAST-MODIFIED:20240213T181921Z
UID:10050679-1709942400-1710028799@revolutionaryvalley.org
SUMMARY:Munch Madness
DESCRIPTION:Your local support means the world to us\, and we want to say thank you with an opportunity to win big this month.\nMunch Madness is a City-sponsored initiative in partnership with the Greater Lowell Chamber of Commerce to support\, encourage\, and reward Lowell-based businesses and their patrons. \nFrom March 1-31\, 2024\, patrons who dine at participating restaurants and businesses and spend at least $25 can earn an entry toward giveaways of sports-\, arts-\, and culturally-themed events based in Lowell\, and a Grand Prize drawing to see who gets to Dine Around Lowell for a Year. \nHow it works\n\nSpend $25 or more at a participating business between March 1-31\, 2024\, Submit your qualifying receipt and contact information – simply take a picture\, upload\, and submit!\nWinners will be selected in a random drawing in April 2024.\nMake sure to check out our full list of participating businesses and don’t forget to get those entries in! Each qualifying receipt equals an additional entry and chance to win.\n\nPrizes\n\nOne Grand Prize Drawing to Dine Around Lowell for a Year: $25-$50 gift cards from all participating businesses!\n2 runners up will sports-\, arts- and culturally-themed prizes!\n\nRestaurants\n\n\n\nAthenian Corner – 207 Market Street\, Lowell\nBrew’d Awakening Coffeehaus – 61 Market Street\, Lowell\nCobblestones of Lowell – 91 Dutton Street\, Lowell\nDragonfly Cafe – 165 Throndike Street\, Lowell\nEl Potro Mexican Grill – 124 Merrimack Street\, Lowell\nFORK included – 176 University Avenue\, Lowell\nPurple Carrot Bread Co. – 107 Merrimack Street\, Lowell\nSahel Restaurant & Lounge – 135 Central Street\, Lowell\nThe Jolly Lobster – 101 Pheonix Avenue\, Lowell\nThe Old Court – 29 Central Street\, Lowell\nWorthen House Cafe – 141 Worthen Street\, Lowell\n\nAre you a restaurant interested in participating? Click here to sign up!
URL:https://revolutionaryvalley.org/event/munch-madness/2024-03-09/
LOCATION:MA
CATEGORIES:Culinary Tourism,Free Events
ATTACH;FMTTYPE=image/png:https://revolutionaryvalley.org/wp-content/uploads/2024/02/Munch-Madness-Logo-1200x610-1.png
END:VEVENT
BEGIN:VEVENT
DTSTART;TZID=America/New_York:20240309T100000
DTEND;TZID=America/New_York:20240309T110000
DTSTAMP:20260426T001305
CREATED:20240226T154349Z
LAST-MODIFIED:20240226T154349Z
UID:10050756-1709978400-1709982000@revolutionaryvalley.org
SUMMARY:Helen Augusta Whittier: Leader\, Activist\, Mill Owner
DESCRIPTION:When you think of a mill owner\, a man’s name or face probably comes to mind initially. While it’s true that most owners of mills in the 18th and 19th century were men\, there was one woman who joined them. Join a Ranger on a journey through the life of Helen Whittier\, considered to be the only woman to ever own a major textile manufacturing company in the United States. This 45-minute talk will dive into the life of this remarkable woman who created a name for herself. \n(Free parking at 350 Dutton Street in the Hamilton Parking Garage. Pick up a chaser ticket at the Visitor Center front desk to use when exiting the garage).
URL:https://revolutionaryvalley.org/event/helen-augusta-whittier-leader-activist-mill-owner/
LOCATION:Lowell National Historical Park Visitor Center\, Lowell National Historical Park Visitor Center\, 246 Market St\, Lowell\, MA\, United States
CATEGORIES:Free Events,Historical,Lecture
ATTACH;FMTTYPE=image/jpeg:https://revolutionaryvalley.org/wp-content/uploads/2024/02/whittier.jpg
ORGANIZER;CN="Lowell National Historical Park":MAILTO:phil_lupsiewicz@nps.gov
GEO:42.6444497;-71.3124716
X-APPLE-STRUCTURED-LOCATION;VALUE=URI;X-ADDRESS=Lowell National Historical Park Visitor Center Lowell National Historical Park Visitor Center 246 Market St Lowell MA United States;X-APPLE-RADIUS=500;X-TITLE=Lowell National Historical Park Visitor Center\, 246 Market St:geo:-71.3124716,42.6444497
END:VEVENT
END:VCALENDAR