BEGIN:VCALENDAR
VERSION:2.0
PRODID:-//Revolutionary Valley Regional Tourism Council - ECPv6.15.0.1//NONSGML v1.0//EN
CALSCALE:GREGORIAN
METHOD:PUBLISH
X-WR-CALNAME:Revolutionary Valley Regional Tourism Council
X-ORIGINAL-URL:https://revolutionaryvalley.org
X-WR-CALDESC:Events for Revolutionary Valley Regional Tourism Council
REFRESH-INTERVAL;VALUE=DURATION:PT1H
X-Robots-Tag:noindex
X-PUBLISHED-TTL:PT1H
BEGIN:VTIMEZONE
TZID:America/New_York
BEGIN:DAYLIGHT
TZOFFSETFROM:-0500
TZOFFSETTO:-0400
TZNAME:EDT
DTSTART:20240310T070000
END:DAYLIGHT
BEGIN:STANDARD
TZOFFSETFROM:-0400
TZOFFSETTO:-0500
TZNAME:EST
DTSTART:20241103T060000
END:STANDARD
END:VTIMEZONE
BEGIN:VEVENT
DTSTART;VALUE=DATE:20240310
DTEND;VALUE=DATE:20240311
DTSTAMP:20260425T074642
CREATED:20240213T181921Z
LAST-MODIFIED:20240213T181921Z
UID:10050680-1710028800-1710115199@revolutionaryvalley.org
SUMMARY:Munch Madness
DESCRIPTION:Your local support means the world to us\, and we want to say thank you with an opportunity to win big this month.\nMunch Madness is a City-sponsored initiative in partnership with the Greater Lowell Chamber of Commerce to support\, encourage\, and reward Lowell-based businesses and their patrons. \nFrom March 1-31\, 2024\, patrons who dine at participating restaurants and businesses and spend at least $25 can earn an entry toward giveaways of sports-\, arts-\, and culturally-themed events based in Lowell\, and a Grand Prize drawing to see who gets to Dine Around Lowell for a Year. \nHow it works\n\nSpend $25 or more at a participating business between March 1-31\, 2024\, Submit your qualifying receipt and contact information – simply take a picture\, upload\, and submit!\nWinners will be selected in a random drawing in April 2024.\nMake sure to check out our full list of participating businesses and don’t forget to get those entries in! Each qualifying receipt equals an additional entry and chance to win.\n\nPrizes\n\nOne Grand Prize Drawing to Dine Around Lowell for a Year: $25-$50 gift cards from all participating businesses!\n2 runners up will sports-\, arts- and culturally-themed prizes!\n\nRestaurants\n\n\n\nAthenian Corner – 207 Market Street\, Lowell\nBrew’d Awakening Coffeehaus – 61 Market Street\, Lowell\nCobblestones of Lowell – 91 Dutton Street\, Lowell\nDragonfly Cafe – 165 Throndike Street\, Lowell\nEl Potro Mexican Grill – 124 Merrimack Street\, Lowell\nFORK included – 176 University Avenue\, Lowell\nPurple Carrot Bread Co. – 107 Merrimack Street\, Lowell\nSahel Restaurant & Lounge – 135 Central Street\, Lowell\nThe Jolly Lobster – 101 Pheonix Avenue\, Lowell\nThe Old Court – 29 Central Street\, Lowell\nWorthen House Cafe – 141 Worthen Street\, Lowell\n\nAre you a restaurant interested in participating? Click here to sign up!
URL:https://revolutionaryvalley.org/event/munch-madness/2024-03-10/
LOCATION:MA
CATEGORIES:Culinary Tourism,Free Events
ATTACH;FMTTYPE=image/png:https://revolutionaryvalley.org/wp-content/uploads/2024/02/Munch-Madness-Logo-1200x610-1.png
END:VEVENT
BEGIN:VEVENT
DTSTART;TZID=America/New_York:20240310T100000
DTEND;TZID=America/New_York:20240310T140000
DTSTAMP:20260425T074642
CREATED:20240222T152437Z
LAST-MODIFIED:20240222T152437Z
UID:10050743-1710064800-1710079200@revolutionaryvalley.org
SUMMARY:Easter Egg-Stravaganza 2nd Annual Craft & Vendor Fair
DESCRIPTION:Hop on over to our\nEaster Egg-Stravaganza\nCraft & Vendor Fair \nMarch 10th\n10a-2p\nChelmsford Lowell Elks\n300 Littleton Rd.\nChelmsford MA \n30 plus vendors\nVisit from the Easter Bunny\nRaffle Table\nCash Bar \nEvent Page:\nhttps://www.facebook.com/events/709973631102654
URL:https://revolutionaryvalley.org/event/easter-egg-stravaganza-2nd-annual-craft-vendor-fair/
LOCATION:97 University Ave\, Lowell\, MA\, 01854\, United States
CATEGORIES:Annual & Special,Fairs & Festivals,Free Events,Kids & Family
ATTACH;FMTTYPE=image/jpeg:https://revolutionaryvalley.org/wp-content/uploads/2024/02/Copy-of-Easter-Flyer-Template-Made-with-PosterMyWall.jpg
END:VEVENT
BEGIN:VEVENT
DTSTART;TZID=America/New_York:20240310T110000
DTEND;TZID=America/New_York:20240310T153000
DTSTAMP:20260425T074642
CREATED:20240226T154313Z
LAST-MODIFIED:20240226T154313Z
UID:10050757-1710068400-1710084600@revolutionaryvalley.org
SUMMARY:Women-Owned Pop-Up Market
DESCRIPTION:Join us to celebrate Lowell women’s week and women’s history month featuring women-owned local businesses and artisans. \nA Portion of the proceeds will be donated to Women Working Wonders\, a local non-profit bringing women together to shape the future.
URL:https://revolutionaryvalley.org/event/women-owned-pop-up-market/
LOCATION:lala books\, lala books\, 189 Market St\, Lowell\, MA\, 01852\, United States
CATEGORIES:Arts & Culture,Free Events
ATTACH;FMTTYPE=image/png:https://revolutionaryvalley.org/wp-content/uploads/2024/02/popup.png
ORGANIZER;CN="Lala Books":MAILTO:lalabooks.lowell@gmail.com
GEO:42.6447147;-71.3120558
X-APPLE-STRUCTURED-LOCATION;VALUE=URI;X-ADDRESS=lala books lala books 189 Market St Lowell MA 01852 United States;X-APPLE-RADIUS=500;X-TITLE=lala books\, 189 Market St:geo:-71.3120558,42.6447147
END:VEVENT
END:VCALENDAR