BEGIN:VCALENDAR
VERSION:2.0
PRODID:-//Revolutionary Valley Regional Tourism Council - ECPv6.15.0.1//NONSGML v1.0//EN
CALSCALE:GREGORIAN
METHOD:PUBLISH
X-WR-CALNAME:Revolutionary Valley Regional Tourism Council
X-ORIGINAL-URL:https://revolutionaryvalley.org
X-WR-CALDESC:Events for Revolutionary Valley Regional Tourism Council
REFRESH-INTERVAL;VALUE=DURATION:PT1H
X-Robots-Tag:noindex
X-PUBLISHED-TTL:PT1H
BEGIN:VTIMEZONE
TZID:America/New_York
BEGIN:DAYLIGHT
TZOFFSETFROM:-0500
TZOFFSETTO:-0400
TZNAME:EDT
DTSTART:20240310T070000
END:DAYLIGHT
BEGIN:STANDARD
TZOFFSETFROM:-0400
TZOFFSETTO:-0500
TZNAME:EST
DTSTART:20241103T060000
END:STANDARD
END:VTIMEZONE
BEGIN:VEVENT
DTSTART;TZID=America/New_York:20240406T130000
DTEND;TZID=America/New_York:20240406T150000
DTSTAMP:20260424T084123
CREATED:20240401T131129Z
LAST-MODIFIED:20240401T131129Z
UID:10053038-1712408400-1712415600@revolutionaryvalley.org
SUMMARY:Weaving Global Textile Justice
DESCRIPTION:Join Elizabeth Pellerito\, director of the UMass Lowell Labor Education Program\, for “Weaving Global Textile Justice” a free crafting workshop. \nLearn about the fast fashion industry and the impacts on workers and the environment. Discuss ways workers are fighting back and how people can support them. Following the discussion\, learn to weave with used textiles. \nNo experience necessary and all materials are provided! \nFor reservations\, please email Elizabeth.Pellerito@gmail.com or visit https://docs.google.com/forms/d/e/1FAIpQLScJgk6z6yhC0NvKt9L_iUDz8i2n9tPDy6tVvQuUCRK7bwft9Q/viewform \nThis event will take place in the counting house of the Boott Cotton Mills Museum located at 115 John Street. \nLowell National Historical Park visitors may park at the Hamilton Canal Innovation District parking garage at 350 Dutton St.\, Lowell. Parking in this garage (only) is available to National Park visitors at no cost provided they obtain a valid parking voucher at either the Lowell National Historical Park Visitor Center at 246 Market Street\, or at the Boott Cotton Mills Museum at 115 John Street.
URL:https://revolutionaryvalley.org/event/weaving-global-textile-justice/
LOCATION:Lowell National Historical Park Boott Cotton Mills Museum  Counting House\, 115 John Street\, Lowell\, 01852\, United States
CATEGORIES:Arts & Culture,Free Events,Historical
ATTACH;FMTTYPE=image/jpeg:https://revolutionaryvalley.org/wp-content/uploads/2024/03/Weaving-Global-Textile-Justice.jpg
ORGANIZER;CN="Lowell National Historical Park":MAILTO:phil_lupsiewicz@nps.gov
GEO:42.6472986;-71.3066893
X-APPLE-STRUCTURED-LOCATION;VALUE=URI;X-ADDRESS=Lowell National Historical Park Boott Cotton Mills Museum  Counting House 115 John Street Lowell 01852 United States;X-APPLE-RADIUS=500;X-TITLE=115 John Street:geo:-71.3066893,42.6472986
END:VEVENT
BEGIN:VEVENT
DTSTART;TZID=America/New_York:20240406T140000
DTEND;TZID=America/New_York:20240406T160000
DTSTAMP:20260424T084123
CREATED:20240325T170110Z
LAST-MODIFIED:20240325T172433Z
UID:10052621-1712412000-1712419200@revolutionaryvalley.org
SUMMARY:Acton Center Walking Tours - Saturday\, April 6
DESCRIPTION:Please meet Amy Cole at the Acton Memorial Library parking lot at 1:50 PM.  The walk is free\, but registration is required and capped at 20 attendees for each walk.  Registration links:  \n\nSaturday\, April 6th : http://tinyurl.com/APR-6-Cole \nFriday\, April 12th: http://tinyurl.com/APR-12-Cole  \n\nPatriots’ Day is coming soon! Get in the spirit by taking a nice walk while learning about some important Acton history. Because of the popularity of these offerings last year\, extra Acton Center tours have been scheduled with tour leader Amy Cole. Since its founding in 1735\, Acton has shown courage in protecting its liberties\, as demonstrated in leading the first engagement in the fight for independence.  Walking Acton’s historic civic center\, you will learn about the people\, places and practices that shaped the town’s history and our nation’s as well. Topics will include Native American history\, the role of the church\, the importance of Captain Isaac Davis and the Acton Minutemen\, nearby historic buildings\, memorials and more. The mile walk will take a little less than two hours. 
URL:https://revolutionaryvalley.org/event/acton-center-walking-tours-saturday-april-6/
LOCATION:Acton Memorial Library\, 486 Main Street\, Acton\, MA\, 01720
CATEGORIES:Free Events,Historical,Outdoors
ATTACH;FMTTYPE=image/jpeg:https://revolutionaryvalley.org/wp-content/uploads/2024/03/Document.jpeg
ORGANIZER;CN="Town of Acton":MAILTO:recreation@actonma.gov
GEO:42.4898559;-71.4279474
X-APPLE-STRUCTURED-LOCATION;VALUE=URI;X-ADDRESS=Acton Memorial Library 486 Main Street Acton MA 01720;X-APPLE-RADIUS=500;X-TITLE=486 Main Street:geo:-71.4279474,42.4898559
END:VEVENT
END:VCALENDAR