BEGIN:VCALENDAR
VERSION:2.0
PRODID:-//Revolutionary Valley Regional Tourism Council - ECPv6.15.0.1//NONSGML v1.0//EN
CALSCALE:GREGORIAN
METHOD:PUBLISH
X-WR-CALNAME:Revolutionary Valley Regional Tourism Council
X-ORIGINAL-URL:https://revolutionaryvalley.org
X-WR-CALDESC:Events for Revolutionary Valley Regional Tourism Council
REFRESH-INTERVAL;VALUE=DURATION:PT1H
X-Robots-Tag:noindex
X-PUBLISHED-TTL:PT1H
BEGIN:VTIMEZONE
TZID:America/New_York
BEGIN:DAYLIGHT
TZOFFSETFROM:-0500
TZOFFSETTO:-0400
TZNAME:EDT
DTSTART:20240310T070000
END:DAYLIGHT
BEGIN:STANDARD
TZOFFSETFROM:-0400
TZOFFSETTO:-0500
TZNAME:EST
DTSTART:20241103T060000
END:STANDARD
END:VTIMEZONE
BEGIN:VEVENT
DTSTART;TZID=America/New_York:20240419T110000
DTEND;TZID=America/New_York:20240419T120000
DTSTAMP:20260423T000817
CREATED:20240401T131757Z
LAST-MODIFIED:20240401T131757Z
UID:10052841-1713524400-1713528000@revolutionaryvalley.org
SUMMARY:Build Your Own Birdfeeder
DESCRIPTION:Grades K – 6 • No Registration Required • Hosted by Pollard Memorial Library\nLocation: Boarding House Park \, 40 French St\, Lowell\nCome build your very own bird feeder! Join the Pollard Memorial Library Bookmobile Team for this hands-on activity as we repurpose plastic bottles into bird feeders that you can take home for the birds in your neighborhood!
URL:https://revolutionaryvalley.org/event/build-your-own-birdfeeder/
LOCATION:Boarding House Park\, Boarding House Park\, 40 French St\, Lowell\, MA\, United States
CATEGORIES:Free Events,Kids & Family
GEO:42.647362;-71.3088716
X-APPLE-STRUCTURED-LOCATION;VALUE=URI;X-ADDRESS=Boarding House Park Boarding House Park 40 French St Lowell MA United States;X-APPLE-RADIUS=500;X-TITLE=Boarding House Park\, 40 French St:geo:-71.3088716,42.647362
END:VEVENT
BEGIN:VEVENT
DTSTART;TZID=America/New_York:20240419T120000
DTEND;TZID=America/New_York:20240419T130000
DTSTAMP:20260423T000817
CREATED:20240409T173735Z
LAST-MODIFIED:20240409T173735Z
UID:10053530-1713528000-1713531600@revolutionaryvalley.org
SUMMARY:LEX250: Grand Unveiling of the Countdown Calendar
DESCRIPTION:This event will mark the formal launch of a year-long celebration leading up to the 250th anniversary of the Battle of Lexington. \nOn Friday\, April 19\, the Semiquincentennial Commission will unveil the Countdown Calendar outside of the Lexington Town Office Building\, at 1625 Massachusetts Avenue in Lexington\, Massachusetts. \nThe following individuals will speak at the event: \nSuzie Barry – Chair\, Lex250 Commission\nState Senator Michael Barrett\nPeter Abbott OBE\, Boston Consul General of the United Kingdom\nMustafa Soykurt\, Boston Consul General of the French Republic \nThe Lexington Minute Men will be in attendance\, and the William Diamond Junior Fife & Drum Corps will perform. \n  \n \n  \n 
URL:https://revolutionaryvalley.org/event/lex250-grand-unveiling-of-the-countdown-calendar/
LOCATION:Lexington’s Cary Memorial Hall\, 1605 Mass Ave\, Lexington\, MA\, 02420\, United States
CATEGORIES:Free Events,Historical
GEO:42.4469414;-71.2238931
X-APPLE-STRUCTURED-LOCATION;VALUE=URI;X-ADDRESS=Lexington’s Cary Memorial Hall 1605 Mass Ave Lexington MA 02420 United States;X-APPLE-RADIUS=500;X-TITLE=1605 Mass Ave:geo:-71.2238931,42.4469414
END:VEVENT
BEGIN:VEVENT
DTSTART;TZID=America/New_York:20240419T130000
DTEND;TZID=America/New_York:20240419T150000
DTSTAMP:20260423T000817
CREATED:20240409T184553Z
LAST-MODIFIED:20240409T184553Z
UID:10053531-1713531600-1713538800@revolutionaryvalley.org
SUMMARY:LEX250: British Tea & Colonial Talks
DESCRIPTION:Reenactors and other historical experts will present talks on everything from the different varieties of British Tea to hidden figures and lesser-known stories of the American Revolution. \n  \n \n  \n 
URL:https://revolutionaryvalley.org/event/lex250-british-tea-colonial-talks/
LOCATION:Lexington’s Cary Memorial Hall\, 1605 Mass Ave\, Lexington\, MA\, 02420\, United States
CATEGORIES:Free Events,Historical
GEO:42.4469414;-71.2238931
X-APPLE-STRUCTURED-LOCATION;VALUE=URI;X-ADDRESS=Lexington’s Cary Memorial Hall 1605 Mass Ave Lexington MA 02420 United States;X-APPLE-RADIUS=500;X-TITLE=1605 Mass Ave:geo:-71.2238931,42.4469414
END:VEVENT
BEGIN:VEVENT
DTSTART;TZID=America/New_York:20240419T190000
DTEND;TZID=America/New_York:20240419T210000
DTSTAMP:20260423T000817
CREATED:20240409T185005Z
LAST-MODIFIED:20240409T195304Z
UID:10053532-1713553200-1713560400@revolutionaryvalley.org
SUMMARY:LEX250: Countdown to 250 Concert
DESCRIPTION:The Lexington Bicentennial Band will present: Wind Music form the British Empire\, including music from Gustav Holst\, Ralph Vaughn Williams\, William Byrd\, Gilbert & Sullivan\, Kenneth Alford\, Frank Ticheli and The Beatles. \n  \n \n  \n  \n  \n  \n  \n  \n  \n  \n  \n  \n  \n  \n  \n  \n  \n  \n  \n  \n  \n  \n  \n  \n  \n  \n  \n  \n  \n 
URL:https://revolutionaryvalley.org/event/lex250-countdown-to-250-concert/
LOCATION:Lexington’s Cary Memorial Hall\, 1605 Mass Ave\, Lexington\, MA\, 02420\, United States
CATEGORIES:Free Events,Historical,Live Performances
GEO:42.4469414;-71.2238931
X-APPLE-STRUCTURED-LOCATION;VALUE=URI;X-ADDRESS=Lexington’s Cary Memorial Hall 1605 Mass Ave Lexington MA 02420 United States;X-APPLE-RADIUS=500;X-TITLE=1605 Mass Ave:geo:-71.2238931,42.4469414
END:VEVENT
END:VCALENDAR