BEGIN:VCALENDAR
VERSION:2.0
PRODID:-//Revolutionary Valley Regional Tourism Council - ECPv6.15.0.1//NONSGML v1.0//EN
CALSCALE:GREGORIAN
METHOD:PUBLISH
X-ORIGINAL-URL:https://revolutionaryvalley.org
X-WR-CALDESC:Events for Revolutionary Valley Regional Tourism Council
REFRESH-INTERVAL;VALUE=DURATION:PT1H
X-Robots-Tag:noindex
X-PUBLISHED-TTL:PT1H
BEGIN:VTIMEZONE
TZID:America/New_York
BEGIN:DAYLIGHT
TZOFFSETFROM:-0500
TZOFFSETTO:-0400
TZNAME:EDT
DTSTART:20240310T070000
END:DAYLIGHT
BEGIN:STANDARD
TZOFFSETFROM:-0400
TZOFFSETTO:-0500
TZNAME:EST
DTSTART:20241103T060000
END:STANDARD
END:VTIMEZONE
BEGIN:VEVENT
DTSTART;TZID=America/New_York:20240622T130000
DTEND;TZID=America/New_York:20240622T160000
DTSTAMP:20260420T203551
CREATED:20240612T205339Z
LAST-MODIFIED:20240612T205339Z
UID:10056881-1719061200-1719072000@revolutionaryvalley.org
SUMMARY:Fix It Clinic
DESCRIPTION:Come with your broken items and learn to fix your stuff from local volunteers! Please register to let us know you are coming and what item(s) you need to fix. \nExamples of what can be fixed: \nClothing/ textiles\nDevice and computer hardware\nJewlery\nBicycles\nHousehold Appliances\nWe will even have a 3-D printer!\nContact Jess at jfitzhanso@chelmsfordlibrary.org or 978-256-5521 with questions. \nAre you interested in being a fixer? Fill out the form here: https://forms.office.com/r/SZXC2JBXHJ
URL:https://revolutionaryvalley.org/event/fix-it-clinic/
LOCATION:Chelmsford Public Library\, Chelmsford Public Library\, 25 Boston Rd\, Chelmsford\, MA\, 01824\, United States
CATEGORIES:Free Events
ATTACH;FMTTYPE=image/jpeg:https://revolutionaryvalley.org/wp-content/uploads/2024/06/2024-06-22-Fix-It-Clinic-DD.jpg
ORGANIZER;CN="Chelmsford Public Library":MAILTO:jhartman@chelmsfordlibrary.org
GEO:42.5940353;-71.3518195
X-APPLE-STRUCTURED-LOCATION;VALUE=URI;X-ADDRESS=Chelmsford Public Library Chelmsford Public Library 25 Boston Rd Chelmsford MA 01824 United States;X-APPLE-RADIUS=500;X-TITLE=Chelmsford Public Library\, 25 Boston Rd:geo:-71.3518195,42.5940353
END:VEVENT
END:VCALENDAR