BEGIN:VCALENDAR
VERSION:2.0
PRODID:-//Revolutionary Valley Regional Tourism Council - ECPv6.15.0.1//NONSGML v1.0//EN
CALSCALE:GREGORIAN
METHOD:PUBLISH
X-WR-CALNAME:Revolutionary Valley Regional Tourism Council
X-ORIGINAL-URL:https://revolutionaryvalley.org
X-WR-CALDESC:Events for Revolutionary Valley Regional Tourism Council
REFRESH-INTERVAL;VALUE=DURATION:PT1H
X-Robots-Tag:noindex
X-PUBLISHED-TTL:PT1H
BEGIN:VTIMEZONE
TZID:America/New_York
BEGIN:DAYLIGHT
TZOFFSETFROM:-0500
TZOFFSETTO:-0400
TZNAME:EDT
DTSTART:20240310T070000
END:DAYLIGHT
BEGIN:STANDARD
TZOFFSETFROM:-0400
TZOFFSETTO:-0500
TZNAME:EST
DTSTART:20241103T060000
END:STANDARD
END:VTIMEZONE
BEGIN:VEVENT
DTSTART;TZID=America/New_York:20240703T100000
DTEND;TZID=America/New_York:20240703T110000
DTSTAMP:20260419T170251
CREATED:20240701T140622Z
LAST-MODIFIED:20240701T140622Z
UID:10056971-1720000800-1720004400@revolutionaryvalley.org
SUMMARY:Building Independence
DESCRIPTION:Women have found different ways to claim independence over time\, even when it wasn’t readily given. Join a ranger for this 1-hour walking tour of downtown Lowell to learn how the buildings that created the city of Lowell also offered women a chance at independence previously unheard of. Explore some of the ways the women of Lowell were able to gain access to bank accounts\, own and manage property\, and decide how to spend their hard-earned wages. \nThe walk will cover .75 mile of walking and will involve up to an hour of walking and standing. This event is free and open to all. \nThis tour will meet the ranger at the park Visitor Center (246 Market Street). Lowell National Historical Park visitors may park at the Hamilton Canal Innovation District parking garage at 350 Dutton St.\, Lowell. Parking in this garage (only) is available to National Park visitors at no cost provided they obtain a valid parking voucher at either the Lowell National Historical Park Visitor Center at 246 Market Street\, or at the Boott Cotton Mills Museum at 115 John Street.
URL:https://revolutionaryvalley.org/event/building-independence/
LOCATION:Lowell National Historical Park Visitor Center\, Lowell National Historical Park Visitor Center\, 246 Market St\, Lowell\, MA\, United States
CATEGORIES:Free Events,Historical
ATTACH;FMTTYPE=image/jpeg:https://revolutionaryvalley.org/wp-content/uploads/2024/06/Building-Independence.jpg
ORGANIZER;CN="Lowell National Historical Park":MAILTO:phil_lupsiewicz@nps.gov
GEO:42.6444497;-71.3124716
X-APPLE-STRUCTURED-LOCATION;VALUE=URI;X-ADDRESS=Lowell National Historical Park Visitor Center Lowell National Historical Park Visitor Center 246 Market St Lowell MA United States;X-APPLE-RADIUS=500;X-TITLE=Lowell National Historical Park Visitor Center\, 246 Market St:geo:-71.3124716,42.6444497
END:VEVENT
BEGIN:VEVENT
DTSTART;TZID=America/New_York:20240703T133000
DTEND;TZID=America/New_York:20240703T163000
DTSTAMP:20260419T170251
CREATED:20240702T130341Z
LAST-MODIFIED:20240702T130341Z
UID:10057037-1720013400-1720024200@revolutionaryvalley.org
SUMMARY:Park Pop-Ups: A Post-Card for School
DESCRIPTION:Come join Lowell National Historical Park and Pollard Memorial Library for Pop-Ups in the Park! Borrow books or get a free library card from the bookmobile. Design your own postcards\, trying different art styles to decorate them. You can even leave it with a park ranger to have it mailed to you in time for the first week of school. \nThis free event will be held at Shedd Park\, located at 495 Rogers Street.
URL:https://revolutionaryvalley.org/event/park-pop-ups-a-post-card-for-school/
LOCATION:Shedd Park Pavilion\, 433 Rogers Street (Rt. 38)\, Lowell\, MA\, 01852\, United States
CATEGORIES:Arts & Culture,Free Events,Kids & Family,Outdoors
ATTACH;FMTTYPE=image/jpeg:https://revolutionaryvalley.org/wp-content/uploads/2024/07/Pop-ups-scaled.jpg
ORGANIZER;CN="Lowell National Historical Park":MAILTO:phil_lupsiewicz@nps.gov
GEO:42.630693;-71.288808
X-APPLE-STRUCTURED-LOCATION;VALUE=URI;X-ADDRESS=Shedd Park Pavilion 433 Rogers Street (Rt. 38) Lowell MA 01852 United States;X-APPLE-RADIUS=500;X-TITLE=433 Rogers Street (Rt. 38):geo:-71.288808,42.630693
END:VEVENT
END:VCALENDAR