BEGIN:VCALENDAR
VERSION:2.0
PRODID:-//Revolutionary Valley Regional Tourism Council - ECPv6.15.0.1//NONSGML v1.0//EN
CALSCALE:GREGORIAN
METHOD:PUBLISH
X-WR-CALNAME:Revolutionary Valley Regional Tourism Council
X-ORIGINAL-URL:https://revolutionaryvalley.org
X-WR-CALDESC:Events for Revolutionary Valley Regional Tourism Council
REFRESH-INTERVAL;VALUE=DURATION:PT1H
X-Robots-Tag:noindex
X-PUBLISHED-TTL:PT1H
BEGIN:VTIMEZONE
TZID:America/New_York
BEGIN:DAYLIGHT
TZOFFSETFROM:-0500
TZOFFSETTO:-0400
TZNAME:EDT
DTSTART:20240310T070000
END:DAYLIGHT
BEGIN:STANDARD
TZOFFSETFROM:-0400
TZOFFSETTO:-0500
TZNAME:EST
DTSTART:20241103T060000
END:STANDARD
END:VTIMEZONE
BEGIN:VEVENT
DTSTART;TZID=America/New_York:20240710T143000
DTEND;TZID=America/New_York:20240710T153000
DTSTAMP:20260420T003720
CREATED:20240705T114154Z
LAST-MODIFIED:20240705T114154Z
UID:10057039-1720621800-1720625400@revolutionaryvalley.org
SUMMARY:Park Pop-Ups: Plates of Play-Doh
DESCRIPTION:Come join Lowell National Historical Park and Pollard Memorial Library for Pop-Ups in the Park! Borrow books or get a free library card from the bookmobile. Using clay-like material\, sculpt it into food on mini plate. What do you like most to eat? \nThis event will take place in McPherson Park\, located at 185 Hildreth Street.
URL:https://revolutionaryvalley.org/event/park-pop-ups-plates-of-play-doh/
LOCATION:McPherson Park\, Hildreth Street\, Lowell\, Massachusetts\, 01850\, United States
CATEGORIES:Arts & Culture,Free Events,Kids & Family
ATTACH;FMTTYPE=image/jpeg:https://revolutionaryvalley.org/wp-content/uploads/2024/07/Play-doh-scaled.jpg
ORGANIZER;CN="Lowell National Historical Park":MAILTO:phil_lupsiewicz@nps.gov
GEO:42.6582245;-71.3074016
X-APPLE-STRUCTURED-LOCATION;VALUE=URI;X-ADDRESS=McPherson Park Hildreth Street Lowell Massachusetts 01850 United States;X-APPLE-RADIUS=500;X-TITLE=Hildreth Street:geo:-71.3074016,42.6582245
END:VEVENT
BEGIN:VEVENT
DTSTART;TZID=America/New_York:20240710T170000
DTEND;TZID=America/New_York:20240710T190000
DTSTAMP:20260420T003720
CREATED:20240301T143906Z
LAST-MODIFIED:20240301T144716Z
UID:10050789-1720630800-1720638000@revolutionaryvalley.org
SUMMARY:Wine-INN Wednesday
DESCRIPTION:Lexington’s Inn at Hastings Park\, Boston area’s ONLY Relais & Châteaux property\, is hosting a complimentary wine tasting of the world’s best wines every second Wednesday of the month throughout 2024 at Town Meeting Bistro’s beautiful bar beginning on March 13\, 2024. Meet and learn from the industry’s top experts\, leaders\, distributors\, and winemakers as you sample the delicious aromas and flavors of each month’s featured varietals. Make a night out of it and book a reservation at Town Meeting Bistro after the tasting and order a bottle of your favorite! These events are for adults only\, 21 and older.
URL:https://revolutionaryvalley.org/event/wine-inn-wednesday/2024-07-10/
LOCATION:The Inn at Hastings Park\, 2027 Massachusetts Ave\, Lexington\, MA\, 02421\, United States
CATEGORIES:Culinary Tourism,Featured,Free Events
ATTACH;FMTTYPE=image/jpeg:https://revolutionaryvalley.org/wp-content/uploads/2024/03/Wine-INN-Wednesday-scaled.jpg
ORGANIZER;CN="The Inn at Hastings Park":MAILTO:https://www.innathastingspark.com/dining/holiday-dining/
GEO:42.4495227;-71.236516
X-APPLE-STRUCTURED-LOCATION;VALUE=URI;X-ADDRESS=The Inn at Hastings Park 2027 Massachusetts Ave Lexington MA 02421 United States;X-APPLE-RADIUS=500;X-TITLE=2027 Massachusetts Ave:geo:-71.236516,42.4495227
END:VEVENT
END:VCALENDAR