BEGIN:VCALENDAR
VERSION:2.0
PRODID:-//Revolutionary Valley Regional Tourism Council - ECPv6.15.0.1//NONSGML v1.0//EN
CALSCALE:GREGORIAN
METHOD:PUBLISH
X-ORIGINAL-URL:https://revolutionaryvalley.org
X-WR-CALDESC:Events for Revolutionary Valley Regional Tourism Council
REFRESH-INTERVAL;VALUE=DURATION:PT1H
X-Robots-Tag:noindex
X-PUBLISHED-TTL:PT1H
BEGIN:VTIMEZONE
TZID:America/New_York
BEGIN:DAYLIGHT
TZOFFSETFROM:-0500
TZOFFSETTO:-0400
TZNAME:EDT
DTSTART:20240310T070000
END:DAYLIGHT
BEGIN:STANDARD
TZOFFSETFROM:-0400
TZOFFSETTO:-0500
TZNAME:EST
DTSTART:20241103T060000
END:STANDARD
END:VTIMEZONE
BEGIN:VEVENT
DTSTART;TZID=America/New_York:20240719T143000
DTEND;TZID=America/New_York:20240719T160000
DTSTAMP:20260419T124844
CREATED:20240715T142302Z
LAST-MODIFIED:20240715T142431Z
UID:10057078-1721399400-1721404800@revolutionaryvalley.org
SUMMARY:Hilos de herencia en las fábricas de Suffolk: Textileros Colombianos en Lowell.
DESCRIPTION:Revolución industrial\, telares y ¿colombianos? ¿Sabías que la comunidad Colombia tiene una larga historia con la cuidad de Lowell? Acompáñanos los días 19 y 21 de Julio a las 2:30 en un recorrido a pie donde aprenderemos la historia de cómo han llegado tantos colombianos a la cuidad de Lowell y como ellos han convertido esta ciudad en su hogar. \nEl recorrido será completamente gratuito y en español este comenzará a las 2:30 en el Visitor Center (246 Market St) El recorrido será de 80 minutos\, caminaremos un aproximado de media milla\, se recomienda traer agua. \nLos visitantes del “Lowell National Historical Park” pueden estacionarse en el “Hamilton Canal Innovation District parking garage” ubicado en 350 Dutton St.\, Lowell. El estacionamiento en este garaje (solamente) está disponible para los visitantes del Parque Nacional sin costo alguno\, siempre que obtengan un cupón de estacionamiento válido ya sea en el “Lowell National Historical Park Visitor Center” en 246 Market Street o en el “Boott Cotton Mills Museum” en 115 John Street (Abierto de 10am-5pm). \n  \nIndustrial revolution\, looms and Colombians? Did you know that the Colombia community has a long history with the city of Lowell? Join us on July 19 and 21 at 2:30 on a walking tour where we will learn the story of how so many Colombians have come to the city of Lowell and how they have made this city their home. The tour will be completely free and in Spanish it will begin at 2:30 at the Visitor Center (246 Market St) The tour will be 80 minutes\, we will walk approximately half a mile\, it is recommended to bring water. Visitors to Lowell National Historical Park can park in the Hamilton Canal Innovation District parking garage located at 350 Dutton St.\, Lowell. Parking in this garage (only) is available to National Park visitors at no charge\, provided they obtain a valid parking coupon at either the Lowell National Historical Park Visitor Center at 246 Market Street or the Boott Cotton Mills Museum” at 115 John Street (Open 10am-5pm).
URL:https://revolutionaryvalley.org/event/hilos-de-herencia-en-las-fabricas-de-suffolk-textileros-colombianos-en-lowell/
LOCATION:Lowell National Historical Park Visitor Center\, Lowell National Historical Park Visitor Center\, 246 Market St\, Lowell\, MA\, United States
CATEGORIES:Annual & Special,Free Events,Historical,Lecture,Outdoors
ATTACH;FMTTYPE=image/png:https://revolutionaryvalley.org/wp-content/uploads/2024/07/Suffolk.png
ORGANIZER;CN="Lowell National Historical Park":MAILTO:phil_lupsiewicz@nps.gov
GEO:42.6444497;-71.3124716
X-APPLE-STRUCTURED-LOCATION;VALUE=URI;X-ADDRESS=Lowell National Historical Park Visitor Center Lowell National Historical Park Visitor Center 246 Market St Lowell MA United States;X-APPLE-RADIUS=500;X-TITLE=Lowell National Historical Park Visitor Center\, 246 Market St:geo:-71.3124716,42.6444497
END:VEVENT
BEGIN:VEVENT
DTSTART;TZID=America/New_York:20240719T163000
DTEND;TZID=America/New_York:20240719T200000
DTSTAMP:20260419T124844
CREATED:20240705T141612Z
LAST-MODIFIED:20240705T141612Z
UID:10057042-1721406600-1721419200@revolutionaryvalley.org
SUMMARY:Free Friday Nights at Discovery Museum!
DESCRIPTION:Join us with free admission and explore the Museum and Discovery Woods at night\, every Friday night through Labor Day! \nWe will gratefully accept non-perishable food donations for Open Table and the Acton Food Pantry. Reservations are recommended and can be made 10 days in advance; we cannot guarantee walk-in admission if at capacity.
URL:https://revolutionaryvalley.org/event/free-friday-nights-at-discovery-museum/2024-07-19/
LOCATION:Discovery Museum\, Discovery Museum\, 177 Main St\, Acton\, MA\, 01720\, United States
CATEGORIES:Free Events,Kids & Family
ATTACH;FMTTYPE=image/png:https://revolutionaryvalley.org/wp-content/uploads/2024/07/Summer-FNF-logo-new.png
ORGANIZER;CN="Discovery Museum":MAILTO:fun@discoveryacton.org
GEO:42.464745;-71.4560492
X-APPLE-STRUCTURED-LOCATION;VALUE=URI;X-ADDRESS=Discovery Museum Discovery Museum 177 Main St Acton MA 01720 United States;X-APPLE-RADIUS=500;X-TITLE=Discovery Museum\, 177 Main St:geo:-71.4560492,42.464745
END:VEVENT
BEGIN:VEVENT
DTSTART;TZID=America/New_York:20240719T180000
DTEND;TZID=America/New_York:20240719T210000
DTSTAMP:20260419T124844
CREATED:20240715T163247Z
LAST-MODIFIED:20240715T163247Z
UID:10057081-1721412000-1721422800@revolutionaryvalley.org
SUMMARY:Concert in the Courtyard ft. Evan Daniel Duo
DESCRIPTION:We’re bringing country music to the Courtyard with the Evan Daniel Duo! Enjoy an evening of your favorite country hits with a full outdoor bar\, delicious selections from the Forge & Vine Food Truck\, great summer vibes and dancing all evening long. \nFree to attend\, no reservations required. Food and drinks available for purchase. Family friendly event! Will move into Prescott Room in the event of rain.
URL:https://revolutionaryvalley.org/event/concert-in-the-courtyard-ft-evan-daniel-duo/
LOCATION:The Groton Inn\, The Groton Inn\, 128 Main St\, Groton\, MA\, 01450\, United States
CATEGORIES:Food,Free Events,Kids & Family,Live Performances,Outdoors
ATTACH;FMTTYPE=image/png:https://revolutionaryvalley.org/wp-content/uploads/2024/07/allevents-event-banners-17.png
ORGANIZER;CN="The Groton Inn | Forge &amp%3B Vine":MAILTO:jvitolo@thegrotoninn.com
GEO:42.6067619;-71.5684432
X-APPLE-STRUCTURED-LOCATION;VALUE=URI;X-ADDRESS=The Groton Inn The Groton Inn 128 Main St Groton MA 01450 United States;X-APPLE-RADIUS=500;X-TITLE=The Groton Inn\, 128 Main St:geo:-71.5684432,42.6067619
END:VEVENT
END:VCALENDAR