BEGIN:VCALENDAR
VERSION:2.0
PRODID:-//Revolutionary Valley Regional Tourism Council - ECPv6.15.0.1//NONSGML v1.0//EN
CALSCALE:GREGORIAN
METHOD:PUBLISH
X-ORIGINAL-URL:https://revolutionaryvalley.org
X-WR-CALDESC:Events for Revolutionary Valley Regional Tourism Council
REFRESH-INTERVAL;VALUE=DURATION:PT1H
X-Robots-Tag:noindex
X-PUBLISHED-TTL:PT1H
BEGIN:VTIMEZONE
TZID:America/New_York
BEGIN:DAYLIGHT
TZOFFSETFROM:-0500
TZOFFSETTO:-0400
TZNAME:EDT
DTSTART:20240310T070000
END:DAYLIGHT
BEGIN:STANDARD
TZOFFSETFROM:-0400
TZOFFSETTO:-0500
TZNAME:EST
DTSTART:20241103T060000
END:STANDARD
END:VTIMEZONE
BEGIN:VEVENT
DTSTART;TZID=America/New_York:20240723T180000
DTEND;TZID=America/New_York:20240723T190000
DTSTAMP:20260419T124817
CREATED:20240701T141703Z
LAST-MODIFIED:20240708T130950Z
UID:10056973-1721757600-1721761200@revolutionaryvalley.org
SUMMARY:Woburn Summer 2024 Outdoor Movie Series: Toy Story
DESCRIPTION:Double Header \nWe suggest you arrive early to pick out space on the lawn. Feel free to bring snacks & drinks with you\, but in an effort to help keep our parks clean please make sure you take all your trash with you when you leave! Please also be respectful of others watching the movies by keeping talking to a minimum while the movie is showing! Movies with times associated start on time as they are shown on an LED screen. *Movie selections are subject to change per availability \nToy Story: Starts at 6pm \nHomeward Bound: Starts at 7:30pm
URL:https://revolutionaryvalley.org/event/woburn-summer-2024-outdoor-movie-series-toy-story-homeward-bound/
LOCATION:City of Woburn\, Liberty Park\, Harrison Avenue\, Woburn\, Massachusetts\, 01801\, United States
CATEGORIES:Free Events,Kids & Family,Talks and Film
ATTACH;FMTTYPE=image/jpeg:https://revolutionaryvalley.org/wp-content/uploads/2024/07/unnamed-1.jpg
GEO:42.4803186;-71.1608347
X-APPLE-STRUCTURED-LOCATION;VALUE=URI;X-ADDRESS=City of Woburn Liberty Park Harrison Avenue Woburn Massachusetts 01801 United States;X-APPLE-RADIUS=500;X-TITLE=Harrison Avenue:geo:-71.1608347,42.4803186
END:VEVENT
BEGIN:VEVENT
DTSTART;TZID=America/New_York:20240723T190000
DTEND;TZID=America/New_York:20240723T210000
DTSTAMP:20260419T124817
CREATED:20240612T190810Z
LAST-MODIFIED:20240612T190810Z
UID:10056879-1721761200-1721768400@revolutionaryvalley.org
SUMMARY:Tuesday Trivia at The Groton Inn
DESCRIPTION:Bring your A-game and get ready for a night filled with laughter\, competition\, and fun at The Groton Inn’s new Trivia Night! Gather your friends\, family\, or colleagues and head over to our Courtyard for a great evening out. \nTickets are free and the maximum team size is six. Grab tickets for your whole group here. We’ll be waiting with fun questions\, good music\, and prizes for our winners. See you there and game on! \nFree to attend\, pre-registration encouraged but not required. Food & drink available to purchase.
URL:https://revolutionaryvalley.org/event/tuesday-trivia-at-the-groton-inn/2024-07-23/
LOCATION:The Groton Inn\, The Groton Inn\, 128 Main St\, Groton\, MA\, 01450\, United States
CATEGORIES:Free Events,Outdoors
ATTACH;FMTTYPE=image/png:https://revolutionaryvalley.org/wp-content/uploads/2024/06/TGI-Instagram-Posts-6.png
ORGANIZER;CN="The Groton Inn | Forge &amp%3B Vine":MAILTO:jvitolo@thegrotoninn.com
GEO:42.6067619;-71.5684432
X-APPLE-STRUCTURED-LOCATION;VALUE=URI;X-ADDRESS=The Groton Inn The Groton Inn 128 Main St Groton MA 01450 United States;X-APPLE-RADIUS=500;X-TITLE=The Groton Inn\, 128 Main St:geo:-71.5684432,42.6067619
END:VEVENT
BEGIN:VEVENT
DTSTART;TZID=America/New_York:20240723T193000
DTEND;TZID=America/New_York:20240723T210000
DTSTAMP:20260419T124817
CREATED:20240701T143021Z
LAST-MODIFIED:20240708T130554Z
UID:10056977-1721763000-1721768400@revolutionaryvalley.org
SUMMARY:Woburn Summer 2024 Outdoor Movie Series: Homeward Bound
DESCRIPTION:Double Header \nWe suggest you arrive early to pick out space on the lawn. Feel free to bring snacks & drinks with you\, but in an effort to help keep our parks clean please make sure you take all your trash with you when you leave! Please also be respectful of others watching the movies by keeping talking to a minimum while the movie is showing! Movies with times associated start on time as they are shown on an LED screen. *Movie selections are subject to change per availability \nToy Story: Starts at 6pm \nHomeward Bound: Starts at 7:30pm
URL:https://revolutionaryvalley.org/event/woburn-summer-2024-outdoor-movie-series-homeward-bound/
LOCATION:Library Park\, City of Woburn\, Harrison Avenue\, Woburn\, Massachusetts\, 01801\, United States
CATEGORIES:Free Events,Kids & Family,Talks and Film
ATTACH;FMTTYPE=image/jpeg:https://revolutionaryvalley.org/wp-content/uploads/2024/07/unnamed.jpg
GEO:42.4803186;-71.1608347
X-APPLE-STRUCTURED-LOCATION;VALUE=URI;X-ADDRESS=Library Park City of Woburn Harrison Avenue Woburn Massachusetts 01801 United States;X-APPLE-RADIUS=500;X-TITLE=Harrison Avenue:geo:-71.1608347,42.4803186
END:VEVENT
END:VCALENDAR