BEGIN:VCALENDAR
VERSION:2.0
PRODID:-//Revolutionary Valley Regional Tourism Council - ECPv6.15.0.1//NONSGML v1.0//EN
CALSCALE:GREGORIAN
METHOD:PUBLISH
X-WR-CALNAME:Revolutionary Valley Regional Tourism Council
X-ORIGINAL-URL:https://revolutionaryvalley.org
X-WR-CALDESC:Events for Revolutionary Valley Regional Tourism Council
REFRESH-INTERVAL;VALUE=DURATION:PT1H
X-Robots-Tag:noindex
X-PUBLISHED-TTL:PT1H
BEGIN:VTIMEZONE
TZID:America/New_York
BEGIN:DAYLIGHT
TZOFFSETFROM:-0500
TZOFFSETTO:-0400
TZNAME:EDT
DTSTART:20240310T070000
END:DAYLIGHT
BEGIN:STANDARD
TZOFFSETFROM:-0400
TZOFFSETTO:-0500
TZNAME:EST
DTSTART:20241103T060000
END:STANDARD
END:VTIMEZONE
BEGIN:VEVENT
DTSTART;TZID=America/New_York:20240823T110000
DTEND;TZID=America/New_York:20240824T130000
DTSTAMP:20260419T201323
CREATED:20240619T160716Z
LAST-MODIFIED:20240619T182101Z
UID:10056905-1724410800-1724504400@revolutionaryvalley.org
SUMMARY:The 18th Annual Northeast Chevelle & El Camino Regional Car Show.
DESCRIPTION:Car show of Chevelle and El Camino\, food concessions for lunch at the Westford Regency Inn & Conference Center \n“The only Chevelle and El Camino Show in the Northeast”\nParticipant Gift and Dash Plaque\, Security\, Trailer Parking\, Show Shirts\, 50/50 and Chinese Raffles Trophies include Top 25 (Participant Voting)\, Best in Show (Most Votes) and “Special Awards” \nAUGUST 23-24\, 2024: WESTFORD REGENCY\n219 Littleton Rd\, Westford\, MA 01886 • www.westfordregency.com
URL:https://revolutionaryvalley.org/event/the-18th-annual-northeast-chevelle-el-camino-regional-car-show/
LOCATION:Westford Regency Inn\, 219 Littleton Road\, Westford\, MD\, 01886\, United States
CATEGORIES:Free Events
ATTACH;FMTTYPE=image/png:https://revolutionaryvalley.org/wp-content/uploads/2024/06/Screenshot-2024-06-19-at-2.07.24-PM.png
GEO:42.5637122;-71.430493
X-APPLE-STRUCTURED-LOCATION;VALUE=URI;X-ADDRESS=Westford Regency Inn 219 Littleton Road Westford MD 01886 United States;X-APPLE-RADIUS=500;X-TITLE=219 Littleton Road:geo:-71.430493,42.5637122
END:VEVENT
BEGIN:VEVENT
DTSTART;TZID=America/New_York:20240823T163000
DTEND;TZID=America/New_York:20240823T200000
DTSTAMP:20260419T201323
CREATED:20240705T141612Z
LAST-MODIFIED:20240705T141612Z
UID:10057047-1724430600-1724443200@revolutionaryvalley.org
SUMMARY:Free Friday Nights at Discovery Museum!
DESCRIPTION:Join us with free admission and explore the Museum and Discovery Woods at night\, every Friday night through Labor Day! \nWe will gratefully accept non-perishable food donations for Open Table and the Acton Food Pantry. Reservations are recommended and can be made 10 days in advance; we cannot guarantee walk-in admission if at capacity.
URL:https://revolutionaryvalley.org/event/free-friday-nights-at-discovery-museum/2024-08-23/
LOCATION:Discovery Museum\, Discovery Museum\, 177 Main St\, Acton\, MA\, 01720\, United States
CATEGORIES:Free Events,Kids & Family
ATTACH;FMTTYPE=image/png:https://revolutionaryvalley.org/wp-content/uploads/2024/07/Summer-FNF-logo-new.png
ORGANIZER;CN="Discovery Museum":MAILTO:fun@discoveryacton.org
GEO:42.464745;-71.4560492
X-APPLE-STRUCTURED-LOCATION;VALUE=URI;X-ADDRESS=Discovery Museum Discovery Museum 177 Main St Acton MA 01720 United States;X-APPLE-RADIUS=500;X-TITLE=Discovery Museum\, 177 Main St:geo:-71.4560492,42.464745
END:VEVENT
END:VCALENDAR