BEGIN:VCALENDAR
VERSION:2.0
PRODID:-//Revolutionary Valley Regional Tourism Council - ECPv6.15.0.1//NONSGML v1.0//EN
CALSCALE:GREGORIAN
METHOD:PUBLISH
X-ORIGINAL-URL:https://revolutionaryvalley.org
X-WR-CALDESC:Events for Revolutionary Valley Regional Tourism Council
REFRESH-INTERVAL;VALUE=DURATION:PT1H
X-Robots-Tag:noindex
X-PUBLISHED-TTL:PT1H
BEGIN:VTIMEZONE
TZID:America/New_York
BEGIN:DAYLIGHT
TZOFFSETFROM:-0500
TZOFFSETTO:-0400
TZNAME:EDT
DTSTART:20240310T070000
END:DAYLIGHT
BEGIN:STANDARD
TZOFFSETFROM:-0400
TZOFFSETTO:-0500
TZNAME:EST
DTSTART:20241103T060000
END:STANDARD
END:VTIMEZONE
BEGIN:VEVENT
DTSTART;TZID=America/New_York:20241109T193000
DTEND;TZID=America/New_York:20241109T203000
DTSTAMP:20260419T170105
CREATED:20240917T180609Z
LAST-MODIFIED:20241029T203125Z
UID:10056742-1731180600-1731184200@revolutionaryvalley.org
SUMMARY:Celtic Thunder: ODYSSEY at Lowell Memorial Auditorium
DESCRIPTION:Celtic Thunder is gearing up for its 15th tour of the USA and Canada. Their new show is called Odyssey and is a fascinating exploration of Irish music and culture\, a sweeping voyage through the heartlands of traditional Irish music\, the rhythmic pulse of contemporary Irish music\, and the innovative original arrangements that are emblematic of the ensemble’s unique sound. The shared musical chemistry of Celtic Thunder’s lead vocalists gives the show its compelling power\, while each singer adds their distinctive voice and charm to this musical journey\, creating a harmonious blend that appeals to a broad spectrum of tastes.\nCeltic Thunder has been hailed as BILLBOARD’s Top World Music Artist 5 times\, along with Top World Music Imprint and Top World Album (2008\, 2009\, 2011\,\n2015 and 2016). The Celtic Thunder official YouTube channel\, “Thunder Tube” has received over 350 million views since its inception in 2008 and has 415\,000 active\nsubscribers.
URL:https://revolutionaryvalley.org/event/celtic-thunder-odyssey/
CATEGORIES:Google Events
ATTACH;FMTTYPE=image/jpeg:https://revolutionaryvalley.org/wp-content/uploads/2024/09/Screenshot-2024-10-29-161723.jpg
END:VEVENT
BEGIN:VEVENT
DTSTART;TZID=America/New_York:20241115T193000
DTEND;TZID=America/New_York:20241115T233000
DTSTAMP:20260419T170105
CREATED:20240917T181230Z
LAST-MODIFIED:20241029T202456Z
UID:10056822-1731699000-1731713400@revolutionaryvalley.org
SUMMARY:STOMP at Lowell Memorial Auditorium
DESCRIPTION:STOMP is explosive\, inventive\, provocative\, witty\, and utterly unique—an unforgettable experience for audiences of all ages. The international percussion sensation has garnered armfuls of awards and rave reviews and has appeared on numerous national television shows. The eight-member troupe uses everything but conventional percussion instruments – matchboxes\, wooden poles\, brooms\, garbage cans\, Zippo lighters\, hubcaps – to fill the stage with magnificent rhythms. Year after year\, audiences worldwide keep coming back for more of this pulse-pounding electrifying show. As the Boston Globe says\, “If you haven’t seen STOMP\, GO! If you have seen it\, take someone and share the pleasure!” STOMP. See what all the noise is about.
URL:https://revolutionaryvalley.org/event/stomp/
CATEGORIES:Google Events
ATTACH;FMTTYPE=image/jpeg:https://revolutionaryvalley.org/wp-content/uploads/2024/09/Screenshot-2024-10-29-162357.jpg
END:VEVENT
BEGIN:VEVENT
DTSTART;TZID=America/New_York:20241116T100000
DTEND;TZID=America/New_York:20241116T153000
DTSTAMP:20260419T170105
CREATED:20240917T175655Z
LAST-MODIFIED:20240917T175655Z
UID:10056689-1731751200-1731771000@revolutionaryvalley.org
SUMMARY:The Common Voice Community Choir Festival
DESCRIPTION:Join us for a day of music\, harmony\, and community at The Common Voice Community Choir Festival!
URL:https://revolutionaryvalley.org/event/the-common-voice-community-choir-festival/
LOCATION:Durgin Hall\, Durgin Hall\, 35 Wilder St\, Lowell\, MA\, 01854\, United States
CATEGORIES:Google Events
ATTACH;FMTTYPE=image/jpeg:https://revolutionaryvalley.org/wp-content/uploads/2024/05/1644810383.jpg
GEO:42.6440204;-71.3348858
X-APPLE-STRUCTURED-LOCATION;VALUE=URI;X-ADDRESS=Durgin Hall Durgin Hall 35 Wilder St Lowell MA 01854 United States;X-APPLE-RADIUS=500;X-TITLE=Durgin Hall\, 35 Wilder St:geo:-71.3348858,42.6440204
END:VEVENT
BEGIN:VEVENT
DTSTART;TZID=America/New_York:20241116T140000
DTEND;TZID=America/New_York:20241116T153000
DTSTAMP:20260419T170105
CREATED:20241029T202646Z
LAST-MODIFIED:20241029T202646Z
UID:10060461-1731765600-1731771000@revolutionaryvalley.org
SUMMARY:STOMP at Lowell Memorial Auditorium
DESCRIPTION:STOMP is explosive\, inventive\, provocative\, witty\, and utterly unique—an unforgettable experience for audiences of all ages. The international percussion sensation has garnered armfuls of awards and rave reviews and has appeared on numerous national television shows. The eight-member troupe uses everything but conventional percussion instruments – matchboxes\, wooden poles\, brooms\, garbage cans\, Zippo lighters\, hubcaps – to fill the stage with magnificent rhythms. Year after year\, audiences worldwide keep coming back for more of this pulse-pounding electrifying show. As the Boston Globe says\, “If you haven’t seen STOMP\, GO! If you have seen it\, take someone and share the pleasure!” STOMP. See what all the noise is about.
URL:https://revolutionaryvalley.org/event/stomp-at-lowell-memorial-auditorium/
CATEGORIES:Google Events
ATTACH;FMTTYPE=image/jpeg:https://revolutionaryvalley.org/wp-content/uploads/2024/09/Screenshot-2024-10-29-162357.jpg
END:VEVENT
BEGIN:VEVENT
DTSTART;TZID=America/New_York:20241116T193000
DTEND;TZID=America/New_York:20241116T210000
DTSTAMP:20260419T170105
CREATED:20241029T202814Z
LAST-MODIFIED:20241029T202814Z
UID:10060462-1731785400-1731790800@revolutionaryvalley.org
SUMMARY:STOMP at Lowell Memorial Auditorium
DESCRIPTION:STOMP is explosive\, inventive\, provocative\, witty\, and utterly unique—an unforgettable experience for audiences of all ages. The international percussion sensation has garnered armfuls of awards and rave reviews and has appeared on numerous national television shows. The eight-member troupe uses everything but conventional percussion instruments – matchboxes\, wooden poles\, brooms\, garbage cans\, Zippo lighters\, hubcaps – to fill the stage with magnificent rhythms. Year after year\, audiences worldwide keep coming back for more of this pulse-pounding electrifying show. As the Boston Globe says\, “If you haven’t seen STOMP\, GO! If you have seen it\, take someone and share the pleasure!” STOMP. See what all the noise is about.
URL:https://revolutionaryvalley.org/event/stomp-at-lowell-memorial-auditorium-2/
CATEGORIES:Google Events
ATTACH;FMTTYPE=image/jpeg:https://revolutionaryvalley.org/wp-content/uploads/2024/09/Screenshot-2024-10-29-162357.jpg
END:VEVENT
END:VCALENDAR