BEGIN:VCALENDAR
VERSION:2.0
PRODID:-//Revolutionary Valley Regional Tourism Council - ECPv6.15.0.1//NONSGML v1.0//EN
CALSCALE:GREGORIAN
METHOD:PUBLISH
X-ORIGINAL-URL:https://revolutionaryvalley.org
X-WR-CALDESC:Events for Revolutionary Valley Regional Tourism Council
REFRESH-INTERVAL;VALUE=DURATION:PT1H
X-Robots-Tag:noindex
X-PUBLISHED-TTL:PT1H
BEGIN:VTIMEZONE
TZID:America/New_York
BEGIN:DAYLIGHT
TZOFFSETFROM:-0500
TZOFFSETTO:-0400
TZNAME:EDT
DTSTART:20260308T070000
END:DAYLIGHT
BEGIN:STANDARD
TZOFFSETFROM:-0400
TZOFFSETTO:-0500
TZNAME:EST
DTSTART:20261101T060000
END:STANDARD
END:VTIMEZONE
BEGIN:VEVENT
DTSTART;TZID=America/New_York:20260225T193000
DTEND;TZID=America/New_York:20260315T203000
DTSTAMP:20260424T083738
CREATED:20260122T200317Z
LAST-MODIFIED:20260122T200317Z
UID:10068764-1772047800-1773606600@revolutionaryvalley.org
SUMMARY:Kween
DESCRIPTION:NHP Board member and alum (2018 and 2021) Vichet Chum’s play Kween will receive its world premiere at Merrimack Repertory Theatre in Lowell\, MA. The play was also commissioned by MRT. Set in…
URL:https://revolutionaryvalley.org/event/kween/
CATEGORIES:Google Events
ATTACH;FMTTYPE=image/jpeg:https://revolutionaryvalley.org/wp-content/uploads/2025/08/1500239237.jpg
END:VEVENT
BEGIN:VEVENT
DTSTART;TZID=America/New_York:20260305T183000
DTEND;TZID=America/New_York:20260305T200000
DTSTAMP:20260424T083738
CREATED:20260122T200518Z
LAST-MODIFIED:20260205T174833Z
UID:10071511-1772735400-1772740800@revolutionaryvalley.org
SUMMARY:Lowell Writers Open Mic
DESCRIPTION:
URL:https://revolutionaryvalley.org/event/lowell-writers-open-mic/2026-03-05/
CATEGORIES:Google Events
ATTACH;FMTTYPE=image/png:https://revolutionaryvalley.org/wp-content/uploads/2026/01/lowellwritersopenmicsquare.png
END:VEVENT
BEGIN:VEVENT
DTSTART;TZID=America/New_York:20260308T080000
DTEND;TZID=America/New_York:20260309T075900
DTSTAMP:20260424T083738
CREATED:19700101T050000Z
LAST-MODIFIED:20260122T204628Z
UID:10070925-1772956800-1773043140@revolutionaryvalley.org
SUMMARY:CHEERSPORT Lowell Classic 2026
DESCRIPTION:The CHEERSPORT Boston Classic 2026 cheerleading competition is scheduled to take place March 8\, 2026\, in Boston\, Massachusetts.
URL:https://revolutionaryvalley.org/event/cheersport-lowell-classic-2026/
CATEGORIES:Google Events
ATTACH;FMTTYPE=image/jpeg:https://revolutionaryvalley.org/wp-content/uploads/2026/01/1684552372.jpg
END:VEVENT
BEGIN:VEVENT
DTSTART;TZID=America/New_York:20260324T190000
DTEND;TZID=America/New_York:20260324T203000
DTSTAMP:20260424T083738
CREATED:19700101T050000Z
LAST-MODIFIED:20260122T204641Z
UID:10070920-1774378800-1774384200@revolutionaryvalley.org
SUMMARY:Vancouver Goldeneyes at Boston Fleet
DESCRIPTION:Ticket listings for PWHL Vancouver at Boston Fleet at Tsongas Center in Lowell\, Massachusetts on 24/03/2026
URL:https://revolutionaryvalley.org/event/vancouver-goldeneyes-at-boston-fleet/
CATEGORIES:Google Events
ATTACH;FMTTYPE=image/jpeg:https://revolutionaryvalley.org/wp-content/uploads/2026/01/1697211236.jpg
END:VEVENT
END:VCALENDAR