BEGIN:VCALENDAR
VERSION:2.0
PRODID:-//Revolutionary Valley Regional Tourism Council - ECPv6.15.0.1//NONSGML v1.0//EN
CALSCALE:GREGORIAN
METHOD:PUBLISH
X-WR-CALNAME:Revolutionary Valley Regional Tourism Council
X-ORIGINAL-URL:https://revolutionaryvalley.org
X-WR-CALDESC:Events for Revolutionary Valley Regional Tourism Council
REFRESH-INTERVAL;VALUE=DURATION:PT1H
X-Robots-Tag:noindex
X-PUBLISHED-TTL:PT1H
BEGIN:VTIMEZONE
TZID:America/New_York
BEGIN:DAYLIGHT
TZOFFSETFROM:-0500
TZOFFSETTO:-0400
TZNAME:EDT
DTSTART:20240310T070000
END:DAYLIGHT
BEGIN:STANDARD
TZOFFSETFROM:-0400
TZOFFSETTO:-0500
TZNAME:EST
DTSTART:20241103T060000
END:STANDARD
END:VTIMEZONE
BEGIN:VEVENT
DTSTART;VALUE=DATE:20241018
DTEND;VALUE=DATE:20241021
DTSTAMP:20260420T084843
CREATED:20240918T160805Z
LAST-MODIFIED:20241015T153203Z
UID:10057469-1729209600-1729468799@revolutionaryvalley.org
SUMMARY:Poe In Lowell Festival!
DESCRIPTION:Join us in celebrating Edgar Allan Poe’s connection to Lowell\, MA\, through a weekend of art\, literature\, performances\, and workshops! This festival honors Poe’s multiple visits to Lowell between 1848-1849. Immerse yourself in Poe’s legacy! \nTo view our schedule\, please click the link below! \nInterested in volunteering? Click HERE!
URL:https://revolutionaryvalley.org/event/poe-in-lowell-festival/
LOCATION:Lowell MA\, Lowell\, United States
CATEGORIES:Google Events
ATTACH;FMTTYPE=image/jpeg:https://revolutionaryvalley.org/wp-content/uploads/2024/05/1087070382.jpg
GEO:42.6334247;-71.3161718
END:VEVENT
BEGIN:VEVENT
DTSTART;TZID=America/New_York:20241020T120000
DTEND;TZID=America/New_York:20241020T200000
DTSTAMP:20260420T084843
CREATED:20240917T175435Z
LAST-MODIFIED:20240917T175435Z
UID:10056705-1729425600-1729454400@revolutionaryvalley.org
SUMMARY:Disney Junior Live On Tour
DESCRIPTION:In “Disney Jr. Live On Tour: Let’s Play” presented by Walmart\, Mickey is getting ready for the biggest playdate ever at the Clubhouse with all his favorite pals including Minnie and Goofy\, the…
URL:https://revolutionaryvalley.org/event/disney-junior-live-on-tour/
CATEGORIES:Google Events
ATTACH;FMTTYPE=image/jpeg:https://revolutionaryvalley.org/wp-content/uploads/2024/05/2012163240.jpg
END:VEVENT
BEGIN:VEVENT
DTSTART;TZID=America/New_York:20241020T193000
DTEND;TZID=America/New_York:20241020T220000
DTSTAMP:20260420T084843
CREATED:20240917T175543Z
LAST-MODIFIED:20241015T160614Z
UID:10056714-1729452600-1729461600@revolutionaryvalley.org
SUMMARY:The Edgar Allan Poe Show!
DESCRIPTION:Join us for a two-day event where we explore the world of poetry\, music and performance celebrating Poe’s presence in Lowell\, Mass.! Tickets $20 until Oct. 6\, $25 at door. Purchase HERE! \nDoors open 7 p.m.\, with performances starting at 8 p.m. \nReadings of Poe’s works by Douglas Bishop\, Nadia Khan\, Sanary Phen\, Ashley Wonder\, Meg Smith\, with live music by Todd Brunel \nPoe-inspired dance and performances by Vanya\, Ambrosia\, Morgana Mirage\, and Daughters of Demeter \nRaffles and more surprises! Celebrating Poe’s presence in Lowell\, Mass.! \n  \nPresented by Poe in Lowell\, celebrating Edgar Allan Poe’s three visits to Lowell. \nRead More Here: https://sites.google.com/view/poeinlowell/home
URL:https://revolutionaryvalley.org/event/poe-in-lowell-presents-the-edgar-allan-poe-show/
LOCATION:Mill No. 5\, Mill No. 5\, 250 Jackson St\, Lowell\, MA\, United States
CATEGORIES:Google Events,Live Performances
ATTACH;FMTTYPE=image/jpeg:https://revolutionaryvalley.org/wp-content/uploads/2024/05/1087070382.jpg
GEO:42.6412734;-71.3127928
X-APPLE-STRUCTURED-LOCATION;VALUE=URI;X-ADDRESS=Mill No. 5 Mill No. 5 250 Jackson St Lowell MA United States;X-APPLE-RADIUS=500;X-TITLE=Mill No. 5\, 250 Jackson St:geo:-71.3127928,42.6412734
END:VEVENT
END:VCALENDAR