BEGIN:VCALENDAR
VERSION:2.0
PRODID:-//Revolutionary Valley Regional Tourism Council - ECPv6.15.0.1//NONSGML v1.0//EN
CALSCALE:GREGORIAN
METHOD:PUBLISH
X-WR-CALNAME:Revolutionary Valley Regional Tourism Council
X-ORIGINAL-URL:https://revolutionaryvalley.org
X-WR-CALDESC:Events for Revolutionary Valley Regional Tourism Council
REFRESH-INTERVAL;VALUE=DURATION:PT1H
X-Robots-Tag:noindex
X-PUBLISHED-TTL:PT1H
BEGIN:VTIMEZONE
TZID:America/New_York
BEGIN:DAYLIGHT
TZOFFSETFROM:-0500
TZOFFSETTO:-0400
TZNAME:EDT
DTSTART:20240310T070000
END:DAYLIGHT
BEGIN:STANDARD
TZOFFSETFROM:-0400
TZOFFSETTO:-0500
TZNAME:EST
DTSTART:20241103T060000
END:STANDARD
END:VTIMEZONE
BEGIN:VEVENT
DTSTART;TZID=America/New_York:20241109T193000
DTEND;TZID=America/New_York:20241109T203000
DTSTAMP:20260420T071501
CREATED:20240917T180609Z
LAST-MODIFIED:20241029T203125Z
UID:10056742-1731180600-1731184200@revolutionaryvalley.org
SUMMARY:Celtic Thunder: ODYSSEY at Lowell Memorial Auditorium
DESCRIPTION:Celtic Thunder is gearing up for its 15th tour of the USA and Canada. Their new show is called Odyssey and is a fascinating exploration of Irish music and culture\, a sweeping voyage through the heartlands of traditional Irish music\, the rhythmic pulse of contemporary Irish music\, and the innovative original arrangements that are emblematic of the ensemble’s unique sound. The shared musical chemistry of Celtic Thunder’s lead vocalists gives the show its compelling power\, while each singer adds their distinctive voice and charm to this musical journey\, creating a harmonious blend that appeals to a broad spectrum of tastes.\nCeltic Thunder has been hailed as BILLBOARD’s Top World Music Artist 5 times\, along with Top World Music Imprint and Top World Album (2008\, 2009\, 2011\,\n2015 and 2016). The Celtic Thunder official YouTube channel\, “Thunder Tube” has received over 350 million views since its inception in 2008 and has 415\,000 active\nsubscribers.
URL:https://revolutionaryvalley.org/event/celtic-thunder-odyssey/
CATEGORIES:Google Events
ATTACH;FMTTYPE=image/jpeg:https://revolutionaryvalley.org/wp-content/uploads/2024/09/Screenshot-2024-10-29-161723.jpg
END:VEVENT
END:VCALENDAR