BEGIN:VCALENDAR
VERSION:2.0
PRODID:-//Revolutionary Valley Regional Tourism Council - ECPv6.15.0.1//NONSGML v1.0//EN
CALSCALE:GREGORIAN
METHOD:PUBLISH
X-WR-CALNAME:Revolutionary Valley Regional Tourism Council
X-ORIGINAL-URL:https://revolutionaryvalley.org
X-WR-CALDESC:Events for Revolutionary Valley Regional Tourism Council
REFRESH-INTERVAL;VALUE=DURATION:PT1H
X-Robots-Tag:noindex
X-PUBLISHED-TTL:PT1H
BEGIN:VTIMEZONE
TZID:America/New_York
BEGIN:DAYLIGHT
TZOFFSETFROM:-0500
TZOFFSETTO:-0400
TZNAME:EDT
DTSTART:20240310T070000
END:DAYLIGHT
BEGIN:STANDARD
TZOFFSETFROM:-0400
TZOFFSETTO:-0500
TZNAME:EST
DTSTART:20241103T060000
END:STANDARD
END:VTIMEZONE
BEGIN:VEVENT
DTSTART;TZID=America/New_York:20241115T193000
DTEND;TZID=America/New_York:20241115T233000
DTSTAMP:20260420T071503
CREATED:20240917T181230Z
LAST-MODIFIED:20241029T202456Z
UID:10056822-1731699000-1731713400@revolutionaryvalley.org
SUMMARY:STOMP at Lowell Memorial Auditorium
DESCRIPTION:STOMP is explosive\, inventive\, provocative\, witty\, and utterly unique—an unforgettable experience for audiences of all ages. The international percussion sensation has garnered armfuls of awards and rave reviews and has appeared on numerous national television shows. The eight-member troupe uses everything but conventional percussion instruments – matchboxes\, wooden poles\, brooms\, garbage cans\, Zippo lighters\, hubcaps – to fill the stage with magnificent rhythms. Year after year\, audiences worldwide keep coming back for more of this pulse-pounding electrifying show. As the Boston Globe says\, “If you haven’t seen STOMP\, GO! If you have seen it\, take someone and share the pleasure!” STOMP. See what all the noise is about.
URL:https://revolutionaryvalley.org/event/stomp/
CATEGORIES:Google Events
ATTACH;FMTTYPE=image/jpeg:https://revolutionaryvalley.org/wp-content/uploads/2024/09/Screenshot-2024-10-29-162357.jpg
END:VEVENT
END:VCALENDAR