BEGIN:VCALENDAR
VERSION:2.0
PRODID:-//Revolutionary Valley Regional Tourism Council - ECPv6.15.0.1//NONSGML v1.0//EN
CALSCALE:GREGORIAN
METHOD:PUBLISH
X-ORIGINAL-URL:https://revolutionaryvalley.org
X-WR-CALDESC:Events for Revolutionary Valley Regional Tourism Council
REFRESH-INTERVAL;VALUE=DURATION:PT1H
X-Robots-Tag:noindex
X-PUBLISHED-TTL:PT1H
BEGIN:VTIMEZONE
TZID:America/New_York
BEGIN:DAYLIGHT
TZOFFSETFROM:-0500
TZOFFSETTO:-0400
TZNAME:EDT
DTSTART:20240310T070000
END:DAYLIGHT
BEGIN:STANDARD
TZOFFSETFROM:-0400
TZOFFSETTO:-0500
TZNAME:EST
DTSTART:20241103T060000
END:STANDARD
END:VTIMEZONE
BEGIN:VEVENT
DTSTART;TZID=America/New_York:20240803T110000
DTEND;TZID=America/New_York:20240803T150000
DTSTAMP:20260419T090238
CREATED:20240606T184015Z
LAST-MODIFIED:20240606T184015Z
UID:10056859-1722682800-1722697200@revolutionaryvalley.org
SUMMARY:Revolutionary Liber-TEA High Tea
DESCRIPTION:During this commemorative year leading up to the 250th Anniversary of the Battle of Lexington taking place on April 19\, 2025\, this American Revolution-themed high tea honoring the start of the American Revolution will feature three of the five teas that were thrown overboard during the infamous Boston Tea Party in 1773: Bohea\, Hyson and Souchong\, provided by local area J’enwey Tea Company.\n• Bohea: One of the first teas imported by the East India Company in the 18th-century. This black tea was fired or dried over charcoal before being transported to the American colonies.\n• Hyson: This early spring green tea is picked by April 20 annually and was a favorite of both George Washington and Thomas Jefferson. This tea was so desired by English consumers that it was taxed at a higher rate than other teas.\n• Souchong: This classic black tea came from the Wuyi Mountains in the Fujian province of China. It is famous for its very distinctive smoky aroma.\nThe teas\, which can be served hot or iced\, are served along with sweet and savory bites including freshly baked scones\, soup\, tea sandwiches and dessert plus a glass of Schramsberg Mirabelle Sparkling Rosé or a tea cocktail. Seatings on August 3\, 2024 from 11 am to 3 pm multiple seating times) – $78/adults and $35/kids (ages 4-12) plus tax (ironic) & gratuity. Children 3 and under eat for free. For the younger guests\, a curated children’s tea menu will be available and tricorn hats will be provided.
URL:https://revolutionaryvalley.org/event/revolutionary-liber-tea-high-tea-2/
LOCATION:The Inn at Hastings Park\, 2027 Massachusetts Ave\, Lexington\, MA\, 02421\, United States
CATEGORIES:Culinary Tourism,Historical,Kids & Family
ATTACH;FMTTYPE=image/jpeg:https://revolutionaryvalley.org/wp-content/uploads/2024/06/TEA-IAHP-OCT2023-HORIZONTAL-3.smaller-scaled.jpg
ORGANIZER;CN="The Inn at Hastings Park":MAILTO:https://www.innathastingspark.com/dining/holiday-dining/
GEO:42.4495227;-71.236516
X-APPLE-STRUCTURED-LOCATION;VALUE=URI;X-ADDRESS=The Inn at Hastings Park 2027 Massachusetts Ave Lexington MA 02421 United States;X-APPLE-RADIUS=500;X-TITLE=2027 Massachusetts Ave:geo:-71.236516,42.4495227
END:VEVENT
BEGIN:VEVENT
DTSTART;TZID=America/New_York:20240804T110000
DTEND;TZID=America/New_York:20240804T120000
DTSTAMP:20260419T090238
CREATED:20240715T141951Z
LAST-MODIFIED:20240715T141951Z
UID:10057076-1722769200-1722772800@revolutionaryvalley.org
SUMMARY:Sunday Stroll Walking Tour: Lexington Celebrates!
DESCRIPTION:Parades\, pageants\, and pandemonium have defined the many commemorations of the 1775 Battle of Lexington and the first shots of the War for Independence. Over the centuries\, thousands of people have descended upon the Battle Green to welcome Revolutionary War heroes like the Marquis de Lafayette on his tour of America in 1824. The anniversaries of the battle offered them a glimpse of President Grant in 1875 and a word from President Ford in 1975. On this land\, protestors have sat and monuments have been built to the fallen. Join a Lexington Historical Society educator as they illuminate 250 years of stories full of crowds\, chaos\, and celebrations! \nStarting and ending at Buckman Tavern\, this tour explores areas around the Lexington Battle Green. The tour is 1 hour long and covers about a 1/2 mile on flat ground. \n$10 members\, $15 nonmembers
URL:https://revolutionaryvalley.org/event/sunday-stroll-walking-tour-lexington-celebrates/
LOCATION:Buckman Tavern\, 1 Bedford St\, Lexington\, MA\, 02420\, United States
CATEGORIES:Historical,Talks and Film
ATTACH;FMTTYPE=image/jpeg:https://revolutionaryvalley.org/wp-content/uploads/2024/07/Celebrations-walking-tour.jpg
GEO:42.4492773;-71.2297485
X-APPLE-STRUCTURED-LOCATION;VALUE=URI;X-ADDRESS=Buckman Tavern 1 Bedford St Lexington MA 02420 United States;X-APPLE-RADIUS=500;X-TITLE=1 Bedford St:geo:-71.2297485,42.4492773
END:VEVENT
BEGIN:VEVENT
DTSTART;TZID=America/New_York:20240810T100000
DTEND;TZID=America/New_York:20240810T160000
DTSTAMP:20260419T090238
CREATED:20240618T172621Z
LAST-MODIFIED:20240618T172621Z
UID:10056903-1723284000-1723305600@revolutionaryvalley.org
SUMMARY:Summer Garage Sale & Book Sale (MA Tax Holiday)
DESCRIPTION:Please take note and update your calendars! \nWe have moved the date of our Summer Garage & Book Sale to Saturday August 10th\, which falls on the weekend of the Massachusetts Sales Tax Holiday. Not only will you find great deals on printing-related books and equipment\, but you won’t have to pay tax! \nMuseum of Printing\, 15 Thornton Ave\, MA\nSaturday\, August 10th\n10am to 4pm
URL:https://revolutionaryvalley.org/event/summer-garage-sale-book-sale-2/
LOCATION:Museum of Printing\, 15 Thornton Ave\, Haverhill\, MA\, 01832\, United States
CATEGORIES:Arts & Culture,Free Events,Historical
ATTACH;FMTTYPE=image/jpeg:https://revolutionaryvalley.org/wp-content/uploads/2024/06/Garage-Sale-Square-scaled.jpeg
ORGANIZER;CN="Museum of Printing":MAILTO:info@museumofprinting.org
GEO:42.7727676;-71.1209457
X-APPLE-STRUCTURED-LOCATION;VALUE=URI;X-ADDRESS=Museum of Printing 15 Thornton Ave Haverhill MA 01832 United States;X-APPLE-RADIUS=500;X-TITLE=15 Thornton Ave:geo:-71.1209457,42.7727676
END:VEVENT
BEGIN:VEVENT
DTSTART;TZID=America/New_York:20240818T110000
DTEND;TZID=America/New_York:20240818T120000
DTSTAMP:20260419T090238
CREATED:20240715T142049Z
LAST-MODIFIED:20240715T142049Z
UID:10057077-1723978800-1723982400@revolutionaryvalley.org
SUMMARY:Sunday Stroll Walking Tour: Hancock Street Architecture
DESCRIPTION:When the Battle of Lexington was fought in 1775\, Hancock Street was a country lane with just two houses. The next 150 years saw many houses built with various architectural styles. Come take a stroll and learn about the Georgian\, Federal\, Greek Revival\, Italianate\, and Gothic Revival homes that populate the street today. \nLeaves from Buckman Tavern rain or shine\, total walking distance about one mile. \n$10 members\, $15 nonmembers
URL:https://revolutionaryvalley.org/event/sunday-stroll-walking-tour-hancock-street-architecture-2/
LOCATION:Buckman Tavern\, 1 Bedford St\, Lexington\, MA\, 02420\, United States
CATEGORIES:Historical,Talks and Film
ATTACH;FMTTYPE=image/jpeg:https://revolutionaryvalley.org/wp-content/uploads/2024/07/house3.jpg
GEO:42.4492773;-71.2297485
X-APPLE-STRUCTURED-LOCATION;VALUE=URI;X-ADDRESS=Buckman Tavern 1 Bedford St Lexington MA 02420 United States;X-APPLE-RADIUS=500;X-TITLE=1 Bedford St:geo:-71.2297485,42.4492773
END:VEVENT
BEGIN:VEVENT
DTSTART;TZID=America/New_York:20240819T090000
DTEND;TZID=America/New_York:20240823T150000
DTSTAMP:20260419T090238
CREATED:20240108T143935Z
LAST-MODIFIED:20240110T162646Z
UID:10047984-1724058000-1724425200@revolutionaryvalley.org
SUMMARY:First Shot! Summer Camp
DESCRIPTION:Discover the history of the American Revolution and Colonial Massachusetts! Each day during this week-long camp we will visit a historic site associated with the Battle of Lexington and complete crafts\, activities\, and games associated with Colonial life. You will follow in the footsteps of Paul Revere as you walk the rooms of the Hancock-Clarke House\, one of Revere’s stops during his now-famous Midnight Ride. Learn about the troop movements of the Lexington Militia and the British Regulars as you visit Buckman Tavern\, Lexington Common (site of the Battle of Lexington)\, and Munroe Tavern. Come see what life was like for Lexingtonians in the 18th Century! \nFor rising 3rd – 6th graders. \nAugust 19th – 23rd\, 2024 – 9:00 am- 3:00 pm daily \nPricing\n$275 per child for members\, $350 per child nonmembers. A $100 non-refundable deposit is required per child to reserve their spot. \nSince children will be dropped off for this program\, a LHS Children’s Program Participation Form is required.
URL:https://revolutionaryvalley.org/event/first-shot-summer-camp/
LOCATION:Lexington Historical Society\, Lexington Historical Society\, 13 Depot Square\, Lexington\, MA\, 02420\, United States
CATEGORIES:Historical,Kids & Family
ATTACH;FMTTYPE=image/jpeg:https://revolutionaryvalley.org/wp-content/uploads/2024/01/https-__cdn-evbuc-com_images_500821739_259462152801_1_original.jpg
GEO:42.4485967;-71.227977
X-APPLE-STRUCTURED-LOCATION;VALUE=URI;X-ADDRESS=Lexington Historical Society Lexington Historical Society 13 Depot Square Lexington MA 02420 United States;X-APPLE-RADIUS=500;X-TITLE=Lexington Historical Society\, 13 Depot Square:geo:-71.227977,42.4485967
END:VEVENT
END:VCALENDAR